Workbook

Sheet 備讃瀬戸1上層
G1: 2025年度 | I1: 公共用水水質結果一覧表（備讃瀬戸1上層）
B3: 測定地点番号 | E3: 1 | T3: 環境基準 または 指針値
B4: 水系 | E4: 備讃瀬戸
B5: 測定地点名 | E5: 備讃瀬戸1上層
B6: 環境基準類型 | E6: 海域BⅣ、生物Ａ
B7: 採取年月日 | E7: 45761 | F7: 45791 | G7: 45833 | H7: 45847 | I7: 45876 | J7: 45908 | K7: 45938 | L7: 45966 | M7: 45995 | N7: 46041 | O7: 46056 | P7: 46099 | Q7: 平均 | R7: 最大 | S7: 最小
B8: 気温 | D8: ℃ | E8: 13.0 | F8: 22.6 | G8: 28.0 | H8: 31.0 | I8: 30.6 | J8: 31.5 | K8: 28.0 | L8: 17.7 | M8: 8.0 | N8: 11.2 | O8: 7.2 | P8: 11.3
B9: 水温 | D9: ℃ | E9: 16.1 | F9: 19.2 | G9: 27.5 | H9: 29.2 | I9: 29.7 | J9: 30.9 | K9: 28.1 | L9: 20.7 | M9: 15.3 | N9: 12.6 | O9: 10.6 | P9: 13.1
B10: 透視度 | D10: ㎝ | E10: >30 | F10: >30 | G10: >30 | H10: >30 | I10: >30 | J10: >30 | K10: >30 | L10: >30 | M10: >30 | N10: >30 | O10: >30 | P10: >30
B11: 測定項目
B12: 生活環境項目 | C12: p H | E12: 7.9 | F12: 8.2 | G12: 8.4 | H12: 8.1 | I12: 8.1 | J12: 7.9 | K12: 8.1 | L12: 8 | M12: 8.1 | N12: 8.2 | O12: 8.1 | P12: 8.1 | Q12: =AVERAGE(E12:P12) -> 8.1 | R12: =MAX(E12:P12) -> 8.4 | S12: =MIN(E12:P12) -> 7.9 | T12: 7.8～8.3
C13: D O | D13: ㎎/L | E13: 7.4 | F13: 11 | G13: 11 | H13: 10 | I13: 7.4 | J13: 5.6 | K13: 7.3 | L13: 7.3 | M13: 7.8 | N13: 10 | O13: 9.8 | P13: 8.9 | Q13: =AVERAGE(E13:P13) -> 8.625 | R13: =MAX(E13:P13) -> 11 | S13: =MIN(E13:P13) -> 5.6 | T13: 5 以上
C14: B O D | D14: ㎎/L | T14: ――
C15: C O D | D15: ㎎/L | E15: 3.8 | F15: 2.4 | G15: 6.5 | H15: 5 | I15: 5.5 | J15: 3.2 | K15: 2.8 | L15: 1.9 | M15: 1.4 | N15: 2.1 | O15: 1.7 | P15: 2.3 | Q15: =AVERAGE(E15:P15) -> 3.2166667 | R15: =MAX(E15:P15) -> 6.5 | S15: =MIN(E15:P15) -> 1.4 | T15: 3 以下
C16: S S | D16: ㎎/L | E16: 2 | F16: 3 | G16: 6 | H16: 4 | I16: 8 | J16: 3 | K16: 3 | L16: 4 | M16: 5 | N16: 3 | O16: 4 | P16: 4 | Q16: =AVERAGE(E16:P16) -> 4.0833333 | R16: =MAX(E16:P16) -> 8 | S16: =MIN(E16:P16) -> 2 | T16: ――
C17: 大腸菌数 | D17: CFU/100ｍL | E17: 25 | F17: 4 | G17: 76 | H17: 14 | I17: 260 | J17: 6 | K17: 12 | L17: 11 | M17: 6 | N17: 1 | O17: 1 | P17: 7 | Q17: =AVERAGE(E17:P17) -> 35.25 | R17: =MAX(E17:P17) -> 260 | S17: =MIN(E17:P17) -> 1 | T17: ――
C18: n-ヘキサン抽出物質 | D18: ㎎/L | E18: <0.5 | F18: <0.5 | G18: <0.5 | H18: <0.5 | I18: <0.5 | J18: <0.5 | K18: <0.5 | L18: <0.5 | M18: <0.5 | N18: <0.5 | O18: <0.5 | P18: <0.5 | Q18: <0.5 | R18: <0.5 | S18: <0.5 | T18: 検出されないこと
C19: 全窒素 | D19: ㎎/L | E19: 3.8 | F19: 0.87 | G19: 3.7 | H19: 2.2 | I19: 1.7 | J19: 1.3 | K19: 2.1 | L19: 1 | M19: 0.67 | N19: 1.5 | O19: 1.6 | P19: 1.5 | Q19: =AVERAGE(E19:P19) -> 1.8283333 | R19: =MAX(E19:P19) -> 3.8 | S19: =MIN(E19:P19) -> 0.67 | T19: 1 以下
C20: 全燐 | D20: ㎎/L | E20: 0.081 | F20: 0.026 | G20: 0.088 | H20: 0.053 | I20: 0.11 | J20: 0.078 | K20: 0.055 | L20: 0.035 | M20: 0.04 | N20: 0.023 | O20: 0.073 | P20: 0.038 | Q20: =AVERAGE(E20:P20) -> 0.058333333 | R20: =MAX(E20:P20) -> 0.11 | S20: =MIN(E20:P20) -> 0.023 | T20: 0.09 以下
C21: 全亜鉛 | D21: ㎎/L | T21: 0.02 以下
C22: ノニルフェノール | D22: ㎎/L | T22: 0.001 以下
B23: 要測定指標 | C23: 底層溶存酸素量 | D23: ㎎/L | T23: ――
C24: 透明度 | D24: m | E24: 2.1 | F24: 2.7 | G24: 1 | H24: 1.4 | I24: 0.5 | J24: 1.9 | K24: 1.9 | L24: 3.5 | M24: 2.5 | N24: 2.6 | O24: 4 | P24: 4 | Q24: =AVERAGE(E24:P24) -> 2.3416667 | R24: =MAX(E24:P24) -> 4 | S24: =MIN(E24:P24) -> 0.5 | T24: ――
B26: 補足測定項目 | C26: T O C | D26: ㎎/L | E26: 2.6 | H26: 2.9 | K26: 2.1 | N26: 1.7 | Q26: =AVERAGE(E26:P26) -> 2.325 | R26: =MAX(E26:P26) -> 2.9 | S26: =MIN(E26:P26) -> 1.7 | T26: ――
B27: 健康項目 | C27: カドミウム | D27: ㎎/L | H27: <0.0003 | N27: <0.0003 | Q27: <0.0003 | R27: <0.0003 | S27: <0.0003 | T27: 0.003 以下
C28: 全シアン | D28: ㎎/L | H28: <0.1 | N28: <0.1 | Q28: <0.1 | R28: <0.1 | S28: <0.1 | T28: 検出されないこと
C29: 鉛 | D29: ㎎/L | H29: <0.005 | N29: <0.005 | Q29: <0.005 | R29: <0.005 | S29: <0.005 | T29: 0.01 以下
C30: 六価クロム | D30: ㎎/L | H30: <0.01 | N30: <0.01 | Q30: <0.01 | R30: <0.01 | S30: <0.01 | T30: 0.02 以下
C31: 砒素 | D31: ㎎/L | H31: <0.005 | N31: <0.005 | Q31: <0.005 | R31: <0.005 | S31: <0.005 | T31: 0.01 以下
C32: 総水銀 | D32: ㎎/L | H32: <0.0005 | N32: <0.0005 | Q32: <0.0005 | R32: <0.0005 | S32: <0.0005 | T32: 0.0005 以下
C33: アルキル水銀 | D33: ㎎/L
C34: P C B | D34: ㎎/L | H34: <0.0005 | Q34: <0.0005 | R34: <0.0005 | S34: <0.0005 | T34: 検出されないこと
C35: ジクロロメタン | D35: ㎎/L | T35: 0.02 以下
C36: 四塩化炭素 | D36: ㎎/L | T36: 0.002 以下
C37: 1,2-ジクロロエタン | D37: ㎎/L | T37: 0.004 以下
C38: 1,1-ジクロロエチレン | D38: ㎎/L | T38: 0.1 以下
C39: ｼｽ-1,2-ｼﾞｸﾛﾛｴﾁﾚﾝ | D39: ㎎/L | T39: 0.04 以下
C40: 1,1,1-ﾄﾘｸﾛﾛｴﾀﾝ | D40: ㎎/L | T40: 1 以下
C41: 1,1,2-ﾄﾘｸﾛﾛｴﾀﾝ | D41: ㎎/L | T41: 0.006 以下
C42: トリクロロエチレン | D42: ㎎/L | T42: 0.01 以下
...

Sheet 備讃瀬戸1底層
G1: 2025年度 | I1: 公共用水水質結果一覧表（備讃瀬戸1底層）
B3: 測定地点番号 | E3: 1 | T3: 環境基準 または 指針値
B4: 水系 | E4: 備讃瀬戸
B5: 測定地点名 | E5: 備讃瀬戸1底層
B6: 環境基準類型 | E6: 海域BⅣ、生物Ａ
B7: 採取年月日 | E7: 45761 | F7: 45791 | G7: 45833 | H7: 45847 | I7: 45876 | J7: 45908 | K7: 45938 | L7: 45966 | M7: 45995 | N7: 46041 | O7: 46056 | P7: 46099 | Q7: 平均 | R7: 最大 | S7: 最小
B8: 気温 | D8: ℃ | E8: 13.0 | F8: 22.6 | G8: 28.0 | H8: 31.0 | I8: 30.6 | J8: 31.5 | K8: 28.0 | L8: 17.7 | M8: 8.0 | N8: 11.2 | O8: 7.2 | P8: 11.3
B9: 水温 | D9: ℃ | E9: 12.1 | F9: 16.2 | G9: 20.3 | H9: 22.8 | I9: 27.2 | J9: 28.8 | K9: 26.3 | L9: 20.3 | M9: 15.1 | N9: 12.7 | O9: 9.9 | P9: 11.1
B10: 透視度 | D10: ㎝
B11: 測定項目
B12: 生活環境項目 | C12: p H | T12: 7.8～8.3
C13: D O | D13: ㎎/L | T13: 5 以上
C14: B O D | D14: ㎎/L | T14: ――
C15: C O D | D15: ㎎/L | T15: 3 以下
C16: S S | D16: ㎎/L | T16: ――
C17: 大腸菌数 | D17: CFU/100ｍL | T17: ――
C18: n-ヘキサン抽出物質 | D18: ㎎/L | T18: 検出されないこと
C19: 全窒素 | D19: ㎎/L | T19: 1 以下
C20: 全燐 | D20: ㎎/L | T20: 0.09 以下
C21: 全亜鉛 | D21: ㎎/L | T21: 0.02 以下
C22: ノニルフェノール | D22: ㎎/L | T22: 0.001 以下
B23: 要測定指標 | C23: 底層溶存酸素量 | D23: ㎎/L | E23: 7.2 | F23: 6.8 | G23: 3.7 | H23: 2.3 | I23: 2.8 | J23: 0.5 | K23: 4.9 | L23: 6.9 | M23: 7.5 | N23: 8.6 | O23: 9 | P23: 8.7 | Q23: =AVERAGE(E23:P23) -> 5.7416667 | R23: =MAX(E23:P23) -> 9 | S23: =MIN(E23:P23) -> 0.5 | T23: ――
C24: 透明度 | D24: m | E24: 2.1 | F24: 2.7 | G24: 1 | H24: 1.4 | I24: 0.5 | J24: 1.9 | K24: 1.9 | L24: 3.5 | M24: 2.5 | N24: 2.6 | O24: 4 | P24: 4 | Q24: =AVERAGE(E24:P24) -> 2.3416667 | R24: =MAX(E24:P24) -> 4 | S24: =MIN(E24:P24) -> 0.5 | T24: ――
B26: 補足測定項目 | C26: T O C | D26: ㎎/L | T26: ――
B27: 健康項目 | C27: カドミウム | D27: ㎎/L | T27: 0.003 以下
C28: 全シアン | D28: ㎎/L | T28: 検出されないこと
C29: 鉛 | D29: ㎎/L | T29: 0.01 以下
C30: 六価クロム | D30: ㎎/L | T30: 0.02 以下
C31: 砒素 | D31: ㎎/L | T31: 0.01 以下
C32: 総水銀 | D32: ㎎/L | T32: 0.0005 以下
C33: アルキル水銀 | D33: ㎎/L
C34: P C B | D34: ㎎/L | T34: 検出されないこと
C35: ジクロロメタン | D35: ㎎/L | T35: 0.02 以下
C36: 四塩化炭素 | D36: ㎎/L | T36: 0.002 以下
C37: 1,2-ジクロロエタン | D37: ㎎/L | T37: 0.004 以下
C38: 1,1-ジクロロエチレン | D38: ㎎/L | T38: 0.1 以下
C39: ｼｽ-1,2-ｼﾞｸﾛﾛｴﾁﾚﾝ | D39: ㎎/L | T39: 0.04 以下
C40: 1,1,1-ﾄﾘｸﾛﾛｴﾀﾝ | D40: ㎎/L | T40: 1 以下
C41: 1,1,2-ﾄﾘｸﾛﾛｴﾀﾝ | D41: ㎎/L | T41: 0.006 以下
C42: トリクロロエチレン | D42: ㎎/L | T42: 0.01 以下
...

Sheet 備讃瀬戸2上層
G1: 2025年度 | I1: 公共用水水質結果一覧表（備讃瀬戸2上層）
B3: 測定地点番号 | E3: 2 | T3: 環境基準 または 指針値
B4: 水系 | E4: 備讃瀬戸
B5: 測定地点名 | E5: 備讃瀬戸2上層
B6: 環境基準類型 | E6: 海域BⅣ、生物Ａ
B7: 採取年月日 | E7: 45761 | F7: 45791 | G7: 45833 | H7: 45847 | I7: 45876 | J7: 45908 | K7: 45938 | L7: 45966 | M7: 45995 | N7: 46041 | O7: 46056 | P7: 46099 | Q7: 平均 | R7: 最大 | S7: 最小
B8: 気温 | D8: ℃ | E8: 13.0 | F8: 20.4 | G8: 27.5 | H8: 31.0 | I8: 29.2 | J8: 30.5 | K8: 26.8 | L8: 17.0 | M8: 8.0 | N8: 10.8 | O8: 6.3 | P8: 10.8
B9: 水温 | D9: ℃ | E9: 13.3 | F9: 19.1 | G9: 26.7 | H9: 28.8 | I9: 29.1 | J9: 30.4 | K9: 27.4 | L9: 20.3 | M9: 15.1 | N9: 12.2 | O9: 10.3 | P9: 11.7
B10: 透視度 | D10: ㎝ | E10: >30 | F10: >30 | G10: >30 | H10: >30 | I10: >30 | J10: >30 | K10: >30 | L10: >30 | M10: >30 | N10: >30 | O10: >30 | P10: >30
B11: 測定項目
B12: 生活環境項目 | C12: p H | E12: 8 | F12: 8.1 | G12: 8.1 | H12: 8.2 | I12: 8 | J12: 8 | K12: 8.1 | L12: 8 | M12: 8.1 | N12: 8.1 | O12: 8.1 | P12: 8.1 | Q12: =AVERAGE(E12:P12) -> 8.075 | R12: =MAX(E12:P12) -> 8.2 | S12: =MIN(E12:P12) -> 8 | T12: 7.8～8.3
C13: D O | D13: ㎎/L | E13: 9.1 | F13: 10 | G13: 9.1 | H13: 10 | I13: 9 | J13: 6 | K13: 7.9 | L13: 7.2 | M13: 8.2 | N13: 10 | O13: 9.2 | P13: 9.7 | Q13: =AVERAGE(E13:P13) -> 8.7833333 | R13: =MAX(E13:P13) -> 10 | S13: =MIN(E13:P13) -> 6 | T13: 5 以上
C14: B O D | D14: ㎎/L | T14: ――
C15: C O D | D15: ㎎/L | E15: 2.4 | F15: 2.5 | G15: 4.7 | H15: 4.4 | I15: 4.5 | J15: 3.3 | K15: 2.9 | L15: 2 | M15: 1.4 | N15: 1.9 | O15: 1.3 | P15: 1.8 | Q15: =AVERAGE(E15:P15) -> 2.7583333 | R15: =MAX(E15:P15) -> 4.7 | S15: =MIN(E15:P15) -> 1.3 | T15: 3 以下
C16: S S | D16: ㎎/L | E16: 2 | F16: 2 | G16: 4 | H16: 3 | I16: 6 | J16: 4 | K16: 2 | L16: 3 | M16: 6 | N16: 4 | O16: 2 | P16: 3 | Q16: =AVERAGE(E16:P16) -> 3.4166667 | R16: =MAX(E16:P16) -> 6 | S16: =MIN(E16:P16) -> 2 | T16: ――
C17: 大腸菌数 | D17: CFU/100ｍL | E17: 3 | F17: 1 | G17: 35 | H17: 8 | I17: 21 | J17: 2 | K17: 3 | L17: 3 | M17: 2 | N17: 2 | O17: 1 | P17: <1 | Q17: =AVERAGE(E17:P17) -> 7.3636364 | R17: =MAX(E17:P17) -> 35 | S17: <1 | T17: ――
C18: n-ヘキサン抽出物質 | D18: ㎎/L | E18: <0.5 | F18: <0.5 | G18: <0.5 | H18: <0.5 | I18: <0.5 | J18: <0.5 | K18: <0.5 | L18: <0.5 | M18: <0.5 | N18: <0.5 | O18: <0.5 | P18: <0.5 | Q18: <0.5 | R18: <0.5 | S18: <0.5 | T18: 検出されないこと
C19: 全窒素 | D19: ㎎/L | E19: 1.8 | F19: 1.1 | G19: 2.8 | H19: 1.4 | I19: 1.9 | J19: 2 | K19: 2.4 | L19: 1.3 | M19: 0.72 | N19: 1.2 | O19: 0.54 | P19: 1 | Q19: =AVERAGE(E19:P19) -> 1.5133333 | R19: =MAX(E19:P19) -> 2.8 | S19: =MIN(E19:P19) -> 0.54 | T19: 1 以下
C20: 全燐 | D20: ㎎/L | E20: 0.11 | F20: 0.059 | G20: 0.1 | H20: 0.057 | I20: 0.1 | J20: 0.14 | K20: 0.12 | L20: 0.086 | M20: 0.042 | N20: 0.045 | O20: 0.039 | P20: 0.057 | Q20: =AVERAGE(E20:P20) -> 0.079583333 | R20: =MAX(E20:P20) -> 0.14 | S20: =MIN(E20:P20) -> 0.039 | T20: 0.09 以下
C21: 全亜鉛 | D21: ㎎/L | T21: 0.02 以下
C22: ノニルフェノール | D22: ㎎/L | T22: 0.001 以下
B23: 要測定指標 | C23: 底層溶存酸素量 | D23: ㎎/L | T23: ――
C24: 透明度 | D24: m | E24: 3.2 | F24: 3 | G24: 1.5 | H24: 1.6 | I24: 0.9 | J24: 2 | K24: 1.7 | L24: 3.5 | M24: 2.9 | N24: 4.1 | O24: 6 | P24: 7 | Q24: =AVERAGE(E24:P24) -> 3.1166667 | R24: =MAX(E24:P24) -> 7 | S24: =MIN(E24:P24) -> 0.9 | T24: ――
B26: 補足測定項目 | C26: T O C | D26: ㎎/L | E26: 2.1 | H26: 2.9 | K26: 2.1 | N26: 1.6 | Q26: =AVERAGE(E26:P26) -> 2.175 | R26: =MAX(E26:P26) -> 2.9 | S26: =MIN(E26:P26) -> 1.6 | T26: ――
B27: 健康項目 | C27: カドミウム | D27: ㎎/L | H27: <0.0003 | N27: <0.0003 | Q27: <0.0003 | R27: <0.0003 | S27: <0.0003 | T27: 0.003 以下
C28: 全シアン | D28: ㎎/L | H28: <0.1 | N28: <0.1 | Q28: <0.1 | R28: <0.1 | S28: <0.1 | T28: 検出されないこと
C29: 鉛 | D29: ㎎/L | H29: <0.005 | N29: <0.005 | Q29: <0.005 | R29: <0.005 | S29: <0.005 | T29: 0.01 以下
C30: 六価クロム | D30: ㎎/L | H30: <0.01 | N30: <0.01 | Q30: <0.01 | R30: <0.01 | S30: <0.01 | T30: 0.02 以下
C31: 砒素 | D31: ㎎/L | H31: <0.005 | N31: <0.005 | Q31: <0.005 | R31: <0.005 | S31: <0.005 | T31: 0.01 以下
C32: 総水銀 | D32: ㎎/L | H32: <0.0005 | N32: <0.0005 | Q32: <0.0005 | R32: <0.0005 | S32: <0.0005 | T32: 0.0005 以下
C33: アルキル水銀 | D33: ㎎/L
C34: P C B | D34: ㎎/L | H34: <0.0005 | Q34: <0.0005 | R34: <0.0005 | S34: <0.0005 | T34: 検出されないこと
C35: ジクロロメタン | D35: ㎎/L | T35: 0.02 以下
C36: 四塩化炭素 | D36: ㎎/L | T36: 0.002 以下
C37: 1,2-ジクロロエタン | D37: ㎎/L | T37: 0.004 以下
C38: 1,1-ジクロロエチレン | D38: ㎎/L | T38: 0.1 以下
C39: ｼｽ-1,2-ｼﾞｸﾛﾛｴﾁﾚﾝ | D39: ㎎/L | T39: 0.04 以下
C40: 1,1,1-ﾄﾘｸﾛﾛｴﾀﾝ | D40: ㎎/L | T40: 1 以下
C41: 1,1,2-ﾄﾘｸﾛﾛｴﾀﾝ | D41: ㎎/L | T41: 0.006 以下
C42: トリクロロエチレン | D42: ㎎/L | T42: 0.01 以下
...

Sheet 備讃瀬戸2中層
G1: 2025年度 | I1: 公共用水水質結果一覧表（備讃瀬戸2中層）
B3: 測定地点番号 | E3: 2 | T3: 環境基準 または 指針値
B4: 水系 | E4: 備讃瀬戸
B5: 測定地点名 | E5: 備讃瀬戸2中層
B6: 環境基準類型 | E6: 海域BⅣ、生物Ａ
B7: 採取年月日 | E7: 45761 | F7: 45791 | G7: 45833 | H7: 45847 | I7: 45876 | J7: 45908 | K7: 45938 | L7: 45966 | M7: 45995 | N7: 46041 | O7: 46056 | P7: 46099 | Q7: 平均 | R7: 最大 | S7: 最小
B8: 気温 | D8: ℃ | E8: 13.0 | F8: 20.4 | G8: 27.5 | H8: 31.0 | I8: 29.2 | J8: 30.5 | K8: 26.8 | L8: 17.0 | M8: 8.0 | N8: 10.8 | O8: 6.3 | P8: 10.8
B9: 水温 | D9: ℃ | E9: 13.2 | F9: 18.9 | G9: 23.9 | H9: 27.4 | I9: 28.7 | J9: 30.1 | K9: 27.0 | L9: 20.1 | M9: 15.2 | N9: 12.0 | O9: 10.1 | P9: 11.2
B10: 透視度 | D10: ㎝ | E10: >30 | F10: >30 | G10: >30 | H10: >30 | I10: >30 | J10: >30 | K10: >30 | L10: >30 | M10: >30 | N10: >30 | O10: >30 | P10: >30
B11: 測定項目
B12: 生活環境項目 | C12: p H | E12: 8 | F12: 8.1 | G12: 8.1 | H12: 8.2 | I12: 8 | J12: 8.1 | K12: 8.1 | L12: 8 | M12: 8.1 | N12: 8.1 | O12: 8.1 | P12: 8.1 | Q12: =AVERAGE(E12:P12) -> 8.0833333 | R12: =MAX(E12:P12) -> 8.2 | S12: =MIN(E12:P12) -> 8 | T12: 7.8～8.3
C13: D O | D13: ㎎/L | E13: 9 | F13: 9.7 | G13: 9.8 | H13: 10 | I13: 6.3 | J13: 6.9 | K13: 8.1 | L13: 7.3 | M13: 7.9 | N13: 9.9 | O13: 8.8 | P13: 9.4 | Q13: =AVERAGE(E13:P13) -> 8.5916667 | R13: =MAX(E13:P13) -> 10 | S13: =MIN(E13:P13) -> 6.3 | T13: 5 以上
C14: B O D | D14: ㎎/L | T14: ――
C15: C O D | D15: ㎎/L | E15: 1.7 | F15: 2 | G15: 3.9 | H15: 4.3 | I15: 3.7 | J15: 2.5 | K15: 2.6 | L15: 1.8 | M15: 1.4 | N15: 1.7 | O15: 1.4 | P15: 1.8 | Q15: =AVERAGE(E15:P15) -> 2.4 | R15: =MAX(E15:P15) -> 4.3 | S15: =MIN(E15:P15) -> 1.4 | T15: 3 以下
C16: S S | D16: ㎎/L | E16: 4 | F16: 2 | G16: 6 | H16: 3 | I16: 5 | J16: 3 | K16: 4 | L16: 5 | M16: 6 | N16: 2 | O16: 2 | P16: 2 | Q16: =AVERAGE(E16:P16) -> 3.6666667 | R16: =MAX(E16:P16) -> 6 | S16: =MIN(E16:P16) -> 2 | T16: ――
C17: 大腸菌数 | D17: CFU/100ｍL | T17: ――
C18: n-ヘキサン抽出物質 | D18: ㎎/L | T18: 検出されないこと
C19: 全窒素 | D19: ㎎/L | E19: 0.44 | F19: 0.51 | G19: 0.57 | H19: 0.66 | I19: 1.2 | J19: 0.44 | K19: 1.6 | L19: 0.74 | M19: 0.53 | N19: 0.59 | O19: 0.51 | P19: 0.89 | Q19: =AVERAGE(E19:P19) -> 0.72333333 | R19: =MAX(E19:P19) -> 1.6 | S19: =MIN(E19:P19) -> 0.44 | T19: 1 以下
C20: 全燐 | D20: ㎎/L | E20: 0.025 | F20: 0.028 | G20: 0.06 | H20: 0.037 | I20: 0.082 | J20: 0.052 | K20: 0.091 | L20: 0.034 | M20: 0.038 | N20: 0.025 | O20: 0.036 | P20: 0.035 | Q20: =AVERAGE(E20:P20) -> 0.04525 | R20: =MAX(E20:P20) -> 0.091 | S20: =MIN(E20:P20) -> 0.025 | T20: 0.09 以下
C21: 全亜鉛 | D21: ㎎/L | T21: 0.02 以下
C22: ノニルフェノール | D22: ㎎/L | T22: 0.001 以下
B23: 要測定指標 | C23: 底層溶存酸素量 | D23: ㎎/L | T23: ――
C24: 透明度 | D24: m | E24: 3.2 | F24: 3 | G24: 1.5 | H24: 1.6 | I24: 0.9 | J24: 2 | K24: 1.7 | L24: 3.5 | M24: 2.9 | N24: 4.1 | O24: 6 | P24: 7 | Q24: =AVERAGE(E24:P24) -> 3.1166667 | R24: =MAX(E24:P24) -> 7 | S24: =MIN(E24:P24) -> 0.9 | T24: ――
B26: 補足測定項目 | C26: T O C | D26: ㎎/L | T26: ――
B27: 健康項目 | C27: カドミウム | D27: ㎎/L | T27: 0.003 以下
C28: 全シアン | D28: ㎎/L | T28: 検出されないこと
C29: 鉛 | D29: ㎎/L | T29: 0.01 以下
C30: 六価クロム | D30: ㎎/L | T30: 0.02 以下
C31: 砒素 | D31: ㎎/L | T31: 0.01 以下
C32: 総水銀 | D32: ㎎/L | T32: 0.0005 以下
C33: アルキル水銀 | D33: ㎎/L
C34: P C B | D34: ㎎/L | T34: 検出されないこと
C35: ジクロロメタン | D35: ㎎/L | T35: 0.02 以下
C36: 四塩化炭素 | D36: ㎎/L | T36: 0.002 以下
C37: 1,2-ジクロロエタン | D37: ㎎/L | T37: 0.004 以下
C38: 1,1-ジクロロエチレン | D38: ㎎/L | T38: 0.1 以下
C39: ｼｽ-1,2-ｼﾞｸﾛﾛｴﾁﾚﾝ | D39: ㎎/L | T39: 0.04 以下
C40: 1,1,1-ﾄﾘｸﾛﾛｴﾀﾝ | D40: ㎎/L | T40: 1 以下
C41: 1,1,2-ﾄﾘｸﾛﾛｴﾀﾝ | D41: ㎎/L | T41: 0.006 以下
C42: トリクロロエチレン | D42: ㎎/L | T42: 0.01 以下
...

Sheet 備讃瀬戸2下層
G1: 2025年度 | I1: 公共用水水質結果一覧表（備讃瀬戸2下層）
B3: 測定地点番号 | E3: 2 | T3: 環境基準 または 指針値
B4: 水系 | E4: 備讃瀬戸
B5: 測定地点名 | E5: 備讃瀬戸2下層
B6: 環境基準類型 | E6: 海域BⅣ、生物Ａ
B7: 採取年月日 | E7: 45761 | F7: 45791 | G7: 45833 | H7: 45847 | I7: 45876 | J7: 45908 | K7: 45938 | L7: 45966 | M7: 45995 | N7: 46041 | O7: 46056 | P7: 46099 | Q7: 平均 | R7: 最大 | S7: 最小
B8: 気温 | D8: ℃ | E8: 13.0 | F8: 20.4 | G8: 27.5 | H8: 31.0 | I8: 29.2 | J8: 30.5 | K8: 26.8 | L8: 17.0 | M8: 8.0 | N8: 10.8 | O8: 6.3 | P8: 10.8
B9: 水温 | D9: ℃ | E9: 12.7 | F9: 16.4 | G9: 21.7 | H9: 24.8 | I9: 27.3 | J9: 29.3 | K9: 26.6 | L9: 20.1 | M9: 15.5 | N9: 12.1 | O9: 9.7 | P9: 11.3
B10: 透視度 | D10: ㎝ | E10: >30 | F10: >30 | G10: >30 | H10: >30 | I10: >30 | J10: >30 | K10: >30 | L10: >30 | M10: >30 | N10: >30 | O10: >30 | P10: >30
B11: 測定項目
B12: 生活環境項目 | C12: p H | E12: 8 | F12: 8 | G12: 8 | H12: 7.9 | I12: 7.8 | J12: 7.9 | K12: 8 | L12: 8.1 | M12: 8.1 | N12: 8.1 | O12: 8.1 | P12: 8.1 | Q12: =AVERAGE(E12:P12) -> 8.0083333 | R12: =MAX(E12:P12) -> 8.1 | S12: =MIN(E12:P12) -> 7.8 | T12: 7.8～8.3
C13: D O | D13: ㎎/L | T13: 5 以上
C14: B O D | D14: ㎎/L | T14: ――
C15: C O D | D15: ㎎/L | E15: 1.5 | F15: 1.3 | G15: 1.5 | H15: 2.1 | I15: 1.4 | J15: 1.6 | K15: 1.4 | L15: 1.4 | M15: 1.2 | N15: 1.4 | O15: 1.2 | P15: 1.7 | Q15: =AVERAGE(E15:P15) -> 1.475 | R15: =MAX(E15:P15) -> 2.1 | S15: =MIN(E15:P15) -> 1.2 | T15: 3 以下
C16: S S | D16: ㎎/L | E16: 5 | F16: 2 | G16: 1 | H16: 2 | I16: 2 | J16: 4 | K16: 2 | L16: 4 | M16: 5 | N16: 5 | O16: 3 | P16: 2 | Q16: =AVERAGE(E16:P16) -> 3.0833333 | R16: =MAX(E16:P16) -> 5 | S16: =MIN(E16:P16) -> 1 | T16: ――
C17: 大腸菌数 | D17: CFU/100ｍL | T17: ――
C18: n-ヘキサン抽出物質 | D18: ㎎/L | T18: 検出されないこと
C19: 全窒素 | D19: ㎎/L | E19: 0.23 | F19: 0.16 | G19: 0.18 | H19: 0.21 | I19: 0.23 | J19: 0.2 | K19: 0.23 | L19: 0.21 | M19: 0.28 | N19: 0.13 | O19: 0.54 | P19: 0.18 | Q19: =AVERAGE(E19:P19) -> 0.23166667 | R19: =MAX(E19:P19) -> 0.54 | S19: =MIN(E19:P19) -> 0.13 | T19: 1 以下
C20: 全燐 | D20: ㎎/L | E20: 0.027 | F20: 0.021 | G20: 0.026 | H20: 0.03 | I20: 0.059 | J20: 0.05 | K20: 0.034 | L20: 0.027 | M20: 0.03 | N20: 0.019 | O20: 0.036 | P20: 0.026 | Q20: =AVERAGE(E20:P20) -> 0.032083333 | R20: =MAX(E20:P20) -> 0.059 | S20: =MIN(E20:P20) -> 0.019 | T20: 0.09 以下
C21: 全亜鉛 | D21: ㎎/L | T21: 0.02 以下
C22: ノニルフェノール | D22: ㎎/L | T22: 0.001 以下
B23: 要測定指標 | C23: 底層溶存酸素量 | D23: ㎎/L | T23: ――
C24: 透明度 | D24: m | E24: 3.2 | F24: 3 | G24: 1.5 | H24: 1.6 | I24: 0.9 | J24: 2 | K24: 1.7 | L24: 3.5 | M24: 2.9 | N24: 4.1 | O24: 6 | P24: 7 | Q24: =AVERAGE(E24:P24) -> 3.1166667 | R24: =MAX(E24:P24) -> 7 | S24: =MIN(E24:P24) -> 0.9 | T24: ――
B26: 補足測定項目 | C26: T O C | D26: ㎎/L | T26: ――
B27: 健康項目 | C27: カドミウム | D27: ㎎/L | T27: 0.003 以下
C28: 全シアン | D28: ㎎/L | T28: 検出されないこと
C29: 鉛 | D29: ㎎/L | T29: 0.01 以下
C30: 六価クロム | D30: ㎎/L | T30: 0.02 以下
C31: 砒素 | D31: ㎎/L | T31: 0.01 以下
C32: 総水銀 | D32: ㎎/L | T32: 0.0005 以下
C33: アルキル水銀 | D33: ㎎/L
C34: P C B | D34: ㎎/L | T34: 検出されないこと
C35: ジクロロメタン | D35: ㎎/L | T35: 0.02 以下
C36: 四塩化炭素 | D36: ㎎/L | T36: 0.002 以下
C37: 1,2-ジクロロエタン | D37: ㎎/L | T37: 0.004 以下
C38: 1,1-ジクロロエチレン | D38: ㎎/L | T38: 0.1 以下
C39: ｼｽ-1,2-ｼﾞｸﾛﾛｴﾁﾚﾝ | D39: ㎎/L | T39: 0.04 以下
C40: 1,1,1-ﾄﾘｸﾛﾛｴﾀﾝ | D40: ㎎/L | T40: 1 以下
C41: 1,1,2-ﾄﾘｸﾛﾛｴﾀﾝ | D41: ㎎/L | T41: 0.006 以下
C42: トリクロロエチレン | D42: ㎎/L | T42: 0.01 以下
...

Sheet 備讃瀬戸2底層
G1: 2025年度 | I1: 公共用水水質結果一覧表（備讃瀬戸2底層）
B3: 測定地点番号 | E3: 2 | T3: 環境基準 または 指針値
B4: 水系 | E4: 備讃瀬戸
B5: 測定地点名 | E5: 備讃瀬戸2底層
B6: 環境基準類型 | E6: 海域BⅣ、生物Ａ
B7: 採取年月日 | E7: 45761 | F7: 45791 | G7: 45833 | H7: 45847 | I7: 45876 | J7: 45908 | K7: 45938 | L7: 45966 | M7: 45995 | N7: 46041 | O7: 46056 | P7: 46099 | Q7: 平均 | R7: 最大 | S7: 最小
B8: 気温 | D8: ℃ | E8: 13.0 | F8: 20.4 | G8: 27.5 | H8: 31.0 | I8: 29.2 | J8: 30.5 | K8: 26.8 | L8: 17.0 | M8: 8.0 | N8: 10.8 | O8: 6.3 | P8: 10.8
B9: 水温 | D9: ℃ | E9: 12.4 | F9: 16.1 | G9: 20.2 | H9: 21.8 | I9: 26.6 | J9: 28.9 | K9: 26.6 | L9: 20.4 | M9: 15.2 | N9: 11.8 | O9: 9.8 | P9: 11.1
B10: 透視度 | D10: ㎝
B11: 測定項目
B12: 生活環境項目 | C12: p H | T12: 7.8～8.3
C13: D O | D13: ㎎/L | T13: 5 以上
C14: B O D | D14: ㎎/L | T14: ――
C15: C O D | D15: ㎎/L | T15: 3 以下
C16: S S | D16: ㎎/L | T16: ――
C17: 大腸菌数 | D17: CFU/100ｍL | T17: ――
C18: n-ヘキサン抽出物質 | D18: ㎎/L | T18: 検出されないこと
C19: 全窒素 | D19: ㎎/L | T19: 1 以下
C20: 全燐 | D20: ㎎/L | T20: 0.09 以下
C21: 全亜鉛 | D21: ㎎/L | T21: 0.02 以下
C22: ノニルフェノール | D22: ㎎/L | T22: 0.001 以下
B23: 要測定指標 | C23: 底層溶存酸素量 | D23: ㎎/L | E23: 8.3 | F23: 7 | G23: 4 | H23: 2.3 | I23: 2.4 | J23: 2.2 | K23: 5.5 | L23: 7.4 | M23: 8.3 | N23: 9.5 | O23: 9.5 | P23: 9.4 | Q23: =AVERAGE(E23:P23) -> 6.3166667 | R23: =MAX(E23:P23) -> 9.5 | S23: =MIN(E23:P23) -> 2.2 | T23: ――
C24: 透明度 | D24: m | E24: 3.2 | F24: 3 | G24: 1.5 | H24: 1.6 | I24: 0.9 | J24: 2 | K24: 1.7 | L24: 3.5 | M24: 2.9 | N24: 4.1 | O24: 6 | P24: 7 | Q24: =AVERAGE(E24:P24) -> 3.1166667 | R24: =MAX(E24:P24) -> 7 | S24: =MIN(E24:P24) -> 0.9 | T24: ――
B26: 補足測定項目 | C26: T O C | D26: ㎎/L | T26: ――
B27: 健康項目 | C27: カドミウム | D27: ㎎/L | T27: 0.003 以下
C28: 全シアン | D28: ㎎/L | T28: 検出されないこと
C29: 鉛 | D29: ㎎/L | T29: 0.01 以下
C30: 六価クロム | D30: ㎎/L | T30: 0.02 以下
C31: 砒素 | D31: ㎎/L | T31: 0.01 以下
C32: 総水銀 | D32: ㎎/L | T32: 0.0005 以下
C33: アルキル水銀 | D33: ㎎/L
C34: P C B | D34: ㎎/L | T34: 検出されないこと
C35: ジクロロメタン | D35: ㎎/L | T35: 0.02 以下
C36: 四塩化炭素 | D36: ㎎/L | T36: 0.002 以下
C37: 1,2-ジクロロエタン | D37: ㎎/L | T37: 0.004 以下
C38: 1,1-ジクロロエチレン | D38: ㎎/L | T38: 0.1 以下
C39: ｼｽ-1,2-ｼﾞｸﾛﾛｴﾁﾚﾝ | D39: ㎎/L | T39: 0.04 以下
C40: 1,1,1-ﾄﾘｸﾛﾛｴﾀﾝ | D40: ㎎/L | T40: 1 以下
C41: 1,1,2-ﾄﾘｸﾛﾛｴﾀﾝ | D41: ㎎/L | T41: 0.006 以下
C42: トリクロロエチレン | D42: ㎎/L | T42: 0.01 以下
...

Sheet 備讃瀬戸2全層
G1: 2025年度 | I1: 公共用水水質結果一覧表（備讃瀬戸2全層）
B3: 測定地点番号 | E3: 2 | T3: 環境基準 または 指針値
B4: 水系 | E4: 備讃瀬戸
B5: 測定地点名 | E5: 備讃瀬戸2全層
B6: 環境基準類型 | E6: 海域BⅣ、生物Ａ
B7: 採取年月日 | E7: 45761 | F7: 45791 | G7: 45833 | H7: 45847 | I7: 45876 | J7: 45908 | K7: 45938 | L7: 45966 | M7: 45995 | N7: 46041 | O7: 46056 | P7: 46099 | Q7: 平均 | R7: 最大 | S7: 最小
B8: 気温 | D8: ℃ | E8: ―― | F8: ―― | G8: ―― | H8: ―― | I8: ―― | J8: ―― | K8: ―― | L8: ―― | M8: ―― | N8: ―― | O8: ―― | P8: ――
B9: 水温 | D9: ℃ | E9: ―― | F9: ―― | G9: ―― | H9: ―― | I9: ―― | J9: ―― | K9: ―― | L9: ―― | M9: ―― | N9: ―― | O9: ―― | P9: ――
B10: 透視度 | D10: ㎝ | E10: >30 | F10: >30 | G10: >30 | H10: >30 | I10: >30 | J10: >30 | K10: >30 | L10: >30 | M10: >30 | N10: >30 | O10: >30 | P10: >30
B11: 測定項目
B12: 生活環境項目 | C12: p H | E12: 8 | F12: 8.1 | G12: 8.1 | H12: 8.1 | I12: 7.9 | J12: 8 | K12: 8.1 | L12: 8 | M12: 8.1 | N12: 8.1 | O12: 8.1 | P12: 8.1 | Q12: =AVERAGE(E12:P12) -> 8.0583333 | R12: =MAX(備讃瀬戸2上層!E12:P12,備讃瀬戸2中層!E12:P12,備讃瀬戸2下層!E12:P12) -> 8.2 | S12: =MIN(備讃瀬戸2上層!E12:P12,備讃瀬戸2中層!E12:P12,備讃瀬戸2下層!E12:P12) -> 7.8 | T12: 7.8～8.3
C13: D O | D13: ㎎/L | E13: 9.1 | F13: 9.9 | G13: 9.5 | H13: 10 | I13: 7.7 | J13: 6.5 | K13: 8 | L13: 7.3 | M13: 8.1 | N13: 10 | O13: 9 | P13: 9.6 | Q13: =AVERAGE(E13:P13) -> 8.725 | R13: =MAX(備讃瀬戸2上層!E13:P13,備讃瀬戸2中層!E13:P13) -> 10 | S13: =MIN(備讃瀬戸2上層!E13:P13,備讃瀬戸2中層!E13:P13) -> 6 | T13: 5 以上
C14: B O D | D14: ㎎/L | T14: ――
C15: C O D | D15: ㎎/L | E15: 1.9 | F15: 1.9 | G15: 3.4 | H15: 3.6 | I15: 3.2 | J15: 2.5 | K15: 2.3 | L15: 1.7 | M15: 1.3 | N15: 1.7 | O15: 1.3 | P15: 1.8 | Q15: =AVERAGE(E15:P15) -> 2.2166667 | R15: =MAX(備讃瀬戸2上層!E15:P15,備讃瀬戸2中層!E15:P15,備讃瀬戸2下層!E15:P15) -> 4.7 | S15: =MIN(備讃瀬戸2上層!E15:P15,備讃瀬戸2中層!E15:P15,備讃瀬戸2下層!E15:P15) -> 1.2 | T15: 3 以下
C16: S S | D16: ㎎/L | E16: 4 | F16: 2 | G16: 4 | H16: 3 | I16: 4 | J16: 4 | K16: 3 | L16: 4 | M16: 6 | N16: 4 | O16: 2 | P16: 2 | Q16: =AVERAGE(E16:P16) -> 3.5 | R16: =MAX(備讃瀬戸2上層!E16:P16,備讃瀬戸2中層!E16:P16,備讃瀬戸2下層!E16:P16) -> 6 | S16: =MIN(備讃瀬戸2上層!E16:P16,備讃瀬戸2中層!E16:P16,備讃瀬戸2下層!E16:P16) -> 1 | T16: ――
C17: 大腸菌数 | D17: CFU/100ｍL | E17: 3 | F17: 1 | G17: 35 | H17: 8 | I17: 21 | J17: 2 | K17: 3 | L17: 3 | M17: 2 | N17: 2 | O17: 1 | P17: <1 | Q17: =AVERAGE(E17:P17) -> 7.3636364 | R17: =MAX(E17:P17) -> 35 | S17: =MIN(E17:P17) -> 1 | T17: ――
C18: n-ヘキサン抽出物質 | D18: ㎎/L | E18: <0.5 | F18: <0.5 | G18: <0.5 | H18: <0.5 | I18: <0.5 | J18: <0.5 | K18: <0.5 | L18: <0.5 | M18: <0.5 | N18: <0.5 | O18: <0.5 | P18: <0.5 | Q18: <0.5 | R18: <0.5 | S18: <0.5 | T18: 検出されないこと
C19: 全窒素 | D19: ㎎/L | E19: 0.82 | F19: 0.59 | G19: 1.2 | H19: 0.76 | I19: 1.1 | J19: 0.88 | K19: 1.4 | L19: 0.75 | M19: 0.51 | N19: 0.64 | O19: 0.53 | P19: 0.69 | Q19: =AVERAGE(E19:P19) -> 0.8225 | R19: =MAX(備讃瀬戸2上層!E19:P19,備讃瀬戸2中層!E19:P19,備讃瀬戸2下層!E19:P19) -> 2.8 | S19: =MIN(備讃瀬戸2上層!E19:P19,備讃瀬戸2中層!E19:P19,備讃瀬戸2下層!E19:P19) -> 0.13 | T19: 1 以下
C20: 全燐 | D20: ㎎/L | E20: 0.054 | F20: 0.036 | G20: 0.062 | H20: 0.041 | I20: 0.08 | J20: 0.081 | K20: 0.082 | L20: 0.049 | M20: 0.037 | N20: 0.03 | O20: 0.037 | P20: 0.039 | Q20: =AVERAGE(E20:P20) -> 0.052333333 | R20: =MAX(備讃瀬戸2上層!E20:P20,備讃瀬戸2中層!E20:P20,備讃瀬戸2下層!E20:P20) -> 0.14 | S20: =MIN(備讃瀬戸2上層!E20:P20,備讃瀬戸2中層!E20:P20,備讃瀬戸2下層!E20:P20) -> 0.019 | T20: 0.09 以下
C21: 全亜鉛 | D21: ㎎/L | T21: 0.02 以下
C22: ノニルフェノール | D22: ㎎/L | T22: 0.001 以下
B23: 要測定指標 | C23: 底層溶存酸素量 | D23: ㎎/L | E23: 8.3 | F23: 7 | G23: 4 | H23: 2.3 | I23: 2.4 | J23: 2.2 | K23: 5.5 | L23: 7.4 | M23: 8.3 | N23: 9.5 | O23: 9.5 | P23: 9.4 | Q23: =AVERAGE(E23:P23) -> 6.3166667 | R23: =MAX(E23:P23) -> 9.5 | S23: =MIN(E23:P23) -> 2.2 | T23: ――
C24: 透明度 | D24: m | E24: 3.2 | F24: 3 | G24: 1.5 | H24: 1.6 | I24: 0.9 | J24: 2 | K24: 1.7 | L24: 3.5 | M24: 2.9 | N24: 4.1 | O24: 6 | P24: 7 | Q24: =AVERAGE(E24:P24) -> 3.1166667 | R24: =MAX(E24:P24) -> 7 | S24: =MIN(E24:P24) -> 0.9 | T24: ――
B26: 補足測定項目 | C26: T O C | D26: ㎎/L | E26: 2.1 | H26: 2.9 | K26: 2.1 | N26: 1.6 | Q26: =AVERAGE(E26:P26) -> 2.175 | R26: =MAX(E26:P26) -> 2.9 | S26: =MIN(E26:P26) -> 1.6 | T26: ――
B27: 健康項目 | C27: カドミウム | D27: ㎎/L | H27: <0.0003 | Q27: <0.0003 | R27: <0.0003 | S27: <0.0003 | T27: 0.003 以下
C28: 全シアン | D28: ㎎/L | H28: <0.1 | Q28: <0.1 | R28: <0.1 | S28: <0.1 | T28: 検出されないこと
C29: 鉛 | D29: ㎎/L | H29: <0.005 | Q29: <0.005 | R29: <0.005 | S29: <0.005 | T29: 0.01 以下
C30: 六価クロム | D30: ㎎/L | H30: <0.01 | Q30: <0.01 | R30: <0.01 | S30: <0.01 | T30: 0.02 以下
C31: 砒素 | D31: ㎎/L | H31: <0.005 | Q31: <0.005 | R31: <0.005 | S31: <0.005 | T31: 0.01 以下
C32: 総水銀 | D32: ㎎/L | H32: <0.0005 | Q32: <0.0005 | R32: <0.0005 | S32: <0.0005 | T32: 0.0005 以下
C33: アルキル水銀 | D33: ㎎/L
C34: P C B | D34: ㎎/L | H34: <0.0005 | Q34: <0.0005 | R34: <0.0005 | S34: <0.0005 | T34: 検出されないこと
C35: ジクロロメタン | D35: ㎎/L | T35: 0.02 以下
C36: 四塩化炭素 | D36: ㎎/L | T36: 0.002 以下
C37: 1,2-ジクロロエタン | D37: ㎎/L | T37: 0.004 以下
C38: 1,1-ジクロロエチレン | D38: ㎎/L | T38: 0.1 以下
C39: ｼｽ-1,2-ｼﾞｸﾛﾛｴﾁﾚﾝ | D39: ㎎/L | T39: 0.04 以下
C40: 1,1,1-ﾄﾘｸﾛﾛｴﾀﾝ | D40: ㎎/L | T40: 1 以下
C41: 1,1,2-ﾄﾘｸﾛﾛｴﾀﾝ | D41: ㎎/L | T41: 0.006 以下
C42: トリクロロエチレン | D42: ㎎/L | T42: 0.01 以下
...

Sheet 備讃瀬戸3上層
G1: 2025年度 | I1: 公共用水水質結果一覧表（備讃瀬戸3上層）
B3: 測定地点番号 | E3: 3 | T3: 環境基準 または 指針値
B4: 水系 | E4: 備讃瀬戸
B5: 測定地点名 | E5: 備讃瀬戸3上層
B6: 環境基準類型 | E6: 海域AⅡ、生物Ａ
B7: 採取年月日 | E7: 45761 | F7: 45791 | G7: 45833 | H7: 45847 | I7: 45876 | J7: 45908 | K7: 45938 | L7: 45966 | M7: 45995 | N7: 46041 | O7: 46056 | P7: 46099 | Q7: 平均 | R7: 最大 | S7: 最小
B8: 気温 | D8: ℃ | E8: 12.5 | F8: 20.4 | G8: 27.0 | H8: 31.0 | I8: 29.0 | J8: 30.0 | K8: 26.8 | L8: 17.0 | M8: 8.0 | N8: 10.8 | O8: 6.3 | P8: 10.0
B9: 水温 | D9: ℃ | E9: 12.8 | F9: 19.1 | G9: 25.4 | H9: 28.0 | I9: 29.3 | J9: 30.2 | K9: 26.5 | L9: 20.0 | M9: 15.2 | N9: 12.2 | O9: 9.8 | P9: 11.1
B10: 透視度 | D10: ㎝ | E10: >30 | F10: >30 | G10: >30 | H10: >30 | I10: >30 | J10: >30 | K10: >30 | L10: >30 | M10: >30 | N10: >30 | O10: >30 | P10: >30
B11: 測定項目
B12: 生活環境項目 | C12: p H | E12: 8 | F12: 8 | G12: 8 | H12: 8.1 | I12: 8.1 | J12: 8.2 | K12: 8.1 | L12: 8.1 | M12: 8.1 | N12: 8.1 | O12: 8.1 | P12: 8.1 | Q12: =AVERAGE(E12:P12) -> 8.0833333 | R12: =MAX(E12:P12) -> 8.2 | S12: =MIN(E12:P12) -> 8 | T12: 7.8～8.3
C13: D O | D13: ㎎/L | E13: 9.2 | F13: 8.5 | G13: 8.2 | H13: 11 | I13: 6.8 | J13: 8.7 | K13: 7.2 | L13: 7.5 | M13: 8.3 | N13: 9.7 | O13: 10 | P13: 9.7 | Q13: =AVERAGE(E13:P13) -> 8.7333333 | R13: =MAX(E13:P13) -> 11 | S13: =MIN(E13:P13) -> 6.8 | T13: 7.5 以上
C14: B O D | D14: ㎎/L | T14: ――
C15: C O D | D15: ㎎/L | E15: 1.3 | F15: 1.6 | G15: 2.2 | H15: 2.8 | I15: 6.1 | J15: 3.6 | K15: 1.4 | L15: 1.6 | M15: 1.2 | N15: 1.5 | O15: 0.9 | P15: 1.3 | Q15: =AVERAGE(E15:P15) -> 2.125 | R15: =MAX(E15:P15) -> 6.1 | S15: =MIN(E15:P15) -> 0.9 | T15: 2 以下
C16: S S | D16: ㎎/L | E16: 1 | F16: 5 | G16: 2 | H16: 1 | I16: 7 | J16: 5 | K16: 3 | L16: 4 | M16: 5 | N16: 3 | O16: 2 | P16: 1 | Q16: =AVERAGE(E16:P16) -> 3.25 | R16: =MAX(E16:P16) -> 7 | S16: =MIN(E16:P16) -> 1 | T16: ――
C17: 大腸菌数 | D17: CFU/100ｍL | E17: <1 | F17: <1 | G17: <1 | H17: <1 | I17: 43 | J17: <1 | K17: <1 | L17: <1 | M17: <1 | N17: <1 | O17: <1 | P17: <1 | Q17: 5 | R17: =MAX(E17:P17) -> 43 | S17: <1 | T17: 20 以下
C18: n-ヘキサン抽出物質 | D18: ㎎/L | E18: <0.5 | F18: <0.5 | G18: <0.5 | H18: <0.5 | I18: <0.5 | J18: <0.5 | K18: <0.5 | L18: <0.5 | M18: <0.5 | N18: <0.5 | O18: <0.5 | P18: <0.5 | Q18: <0.5 | R18: <0.5 | S18: <0.5 | T18: 検出されないこと
C19: 全窒素 | D19: ㎎/L | E19: 0.17 | F19: 0.15 | G19: 0.16 | H19: 0.12 | I19: 0.37 | J19: 0.23 | K19: 0.15 | L19: 0.13 | M19: 0.16 | N19: 0.13 | O19: 0.17 | P19: 0.1 | Q19: =AVERAGE(E19:P19) -> 0.17 | R19: =MAX(E19:P19) -> 0.37 | S19: =MIN(E19:P19) -> 0.1 | T19: 0.3 以下
C20: 全燐 | D20: ㎎/L | E20: 0.021 | F20: 0.028 | G20: 0.031 | H20: 0.021 | I20: 0.16 | J20: 0.053 | K20: 0.032 | L20: 0.023 | M20: 0.03 | N20: 0.014 | O20: 0.026 | P20: 0.024 | Q20: =AVERAGE(E20:P20) -> 0.038583333 | R20: =MAX(E20:P20) -> 0.16 | S20: =MIN(E20:P20) -> 0.014 | T20: 0.03 以下
C21: 全亜鉛 | D21: ㎎/L | T21: 0.02 以下
C22: ノニルフェノール | D22: ㎎/L | T22: 0.001 以下
B23: 要測定指標 | C23: 底層溶存酸素量 | D23: ㎎/L | T23: ――
C24: 透明度 | D24: m | E24: 4 | F24: 4.7 | G24: 3 | H24: 3.8 | I24: 1 | J24: 2.1 | K24: 3.8 | L24: 2.9 | M24: 4 | N24: 4.1 | O24: 6 | P24: 8.6 | Q24: =AVERAGE(E24:P24) -> 4 | R24: =MAX(E24:P24) -> 8.6 | S24: =MIN(E24:P24) -> 1 | T24: ――
B26: 補足測定項目 | C26: T O C | D26: ㎎/L | E26: 1.5 | H26: 2.2 | K26: 1.5 | N26: 1.4 | Q26: =AVERAGE(E26:P26) -> 1.65 | R26: =MAX(E26:P26) -> 2.2 | S26: =MIN(E26:P26) -> 1.4 | T26: ――
B27: 健康項目 | C27: カドミウム | D27: ㎎/L | H27: <0.0003 | Q27: <0.0003 | R27: <0.0003 | S27: <0.0003 | T27: 0.003 以下
C28: 全シアン | D28: ㎎/L | H28: <0.1 | Q28: <0.1 | R28: <0.1 | S28: <0.1 | T28: 検出されないこと
C29: 鉛 | D29: ㎎/L | H29: <0.005 | Q29: <0.005 | R29: <0.005 | S29: <0.005 | T29: 0.01 以下
C30: 六価クロム | D30: ㎎/L | H30: <0.01 | Q30: <0.01 | R30: <0.01 | S30: <0.01 | T30: 0.02 以下
C31: 砒素 | D31: ㎎/L | H31: <0.005 | Q31: <0.005 | R31: <0.005 | S31: <0.005 | T31: 0.01 以下
C32: 総水銀 | D32: ㎎/L | H32: <0.0005 | Q32: <0.0005 | R32: <0.0005 | S32: <0.0005 | T32: 0.0005 以下
C33: アルキル水銀 | D33: ㎎/L
C34: P C B | D34: ㎎/L | T34: 検出されないこと
C35: ジクロロメタン | D35: ㎎/L | T35: 0.02 以下
C36: 四塩化炭素 | D36: ㎎/L | T36: 0.002 以下
C37: 1,2-ジクロロエタン | D37: ㎎/L | T37: 0.004 以下
C38: 1,1-ジクロロエチレン | D38: ㎎/L | T38: 0.1 以下
C39: ｼｽ-1,2-ｼﾞｸﾛﾛｴﾁﾚﾝ | D39: ㎎/L | T39: 0.04 以下
C40: 1,1,1-ﾄﾘｸﾛﾛｴﾀﾝ | D40: ㎎/L | T40: 1 以下
C41: 1,1,2-ﾄﾘｸﾛﾛｴﾀﾝ | D41: ㎎/L | T41: 0.006 以下
C42: トリクロロエチレン | D42: ㎎/L | T42: 0.01 以下
...

Sheet 備讃瀬戸3中層
G1: 2025年度 | I1: 公共用水水質結果一覧表（備讃瀬戸3中層）
B3: 測定地点番号 | E3: 3 | T3: 環境基準 または 指針値
B4: 水系 | E4: 備讃瀬戸
B5: 測定地点名 | E5: 備讃瀬戸3中層
B6: 環境基準類型 | E6: 海域AⅡ、生物Ａ
B7: 採取年月日 | E7: 45761 | F7: 45791 | G7: 45833 | H7: 45847 | I7: 45876 | J7: 45908 | K7: 45938 | L7: 45966 | M7: 45995 | N7: 46041 | O7: 46056 | P7: 46099 | Q7: 平均 | R7: 最大 | S7: 最小
B8: 気温 | D8: ℃ | E8: 12.5 | F8: 20.4 | G8: 27.0 | H8: 31.0 | I8: 29.0 | J8: 30 | K8: 26.8 | L8: 17.0 | M8: 8.0 | N8: 10.8 | O8: 6.3 | P8: 10.0
B9: 水温 | D9: ℃ | E9: 12.7 | F9: 18.5 | G9: 23.5 | H9: 27.3 | I9: 28.3 | J9: 29.5 | K9: 26.6 | L9: 19.7 | M9: 15.2 | N9: 12.1 | O9: 9.8 | P9: 11.1
B10: 透視度 | D10: ㎝ | E10: >30 | F10: >30 | G10: >30 | H10: >30 | I10: >30 | J10: >30 | K10: >30 | L10: >30 | M10: >30 | N10: >30 | O10: >30 | P10: >30
B11: 測定項目
B12: 生活環境項目 | C12: p H | E12: 8 | F12: 8 | G12: 8.1 | H12: 8.1 | I12: 7.9 | J12: 8.2 | K12: 8.1 | L12: 8.1 | M12: 8.1 | N12: 8.1 | O12: 8.1 | P12: 8.1 | Q12: =AVERAGE(E12:P12) -> 8.075 | R12: =MAX(E12:P12) -> 8.2 | S12: =MIN(E12:P12) -> 7.9 | T12: 7.8～8.3
C13: D O | D13: ㎎/L | E13: 9.1 | F13: 8.7 | G13: 9 | H13: 9.3 | I13: 6.1 | J13: 8.2 | K13: 7.4 | L13: 7.7 | M13: 8 | N13: 9.8 | O13: 9.5 | P13: 9.9 | Q13: =AVERAGE(E13:P13) -> 8.5583333 | R13: =MAX(E13:P13) -> 9.9 | S13: =MIN(E13:P13) -> 6.1 | T13: 7.5 以上
C14: B O D | D14: ㎎/L | T14: ――
C15: C O D | D15: ㎎/L | E15: 1.4 | F15: 1.6 | G15: 2 | H15: 2.7 | I15: 2.8 | J15: 3.3 | K15: 1.3 | L15: 1.4 | M15: 1.2 | N15: 1.4 | O15: 1.2 | P15: 1.6 | Q15: =AVERAGE(E15:P15) -> 1.825 | R15: =MAX(E15:P15) -> 3.3 | S15: =MIN(E15:P15) -> 1.2 | T15: 2 以下
C16: S S | D16: ㎎/L | E16: 2 | F16: 1 | G16: 1 | H16: 1 | I16: 3 | J16: 5 | K16: 1 | L16: 4 | M16: 5 | N16: 2 | O16: 3 | P16: 2 | Q16: =AVERAGE(E16:P16) -> 2.5 | R16: =MAX(E16:P16) -> 5 | S16: =MIN(E16:P16) -> 1 | T16: ――
C17: 大腸菌数 | D17: CFU/100ｍL | T17: 20 以下
C18: n-ヘキサン抽出物質 | D18: ㎎/L | T18: 検出されないこと
C19: 全窒素 | D19: ㎎/L | E19: 0.16 | F19: 0.11 | G19: 0.17 | H19: 0.11 | I19: 0.26 | J19: 0.24 | K19: 0.16 | L19: 0.12 | M19: 0.16 | N19: 0.11 | O19: 0.14 | P19: 0.11 | Q19: =AVERAGE(E19:P19) -> 0.15416667 | R19: =MAX(E19:P19) -> 0.26 | S19: =MIN(E19:P19) -> 0.11 | T19: 0.3 以下
C20: 全燐 | D20: ㎎/L | E20: 0.018 | F20: 0.019 | G20: 0.028 | H20: 0.021 | I20: 0.079 | J20: 0.046 | K20: 0.034 | L20: 0.023 | M20: 0.028 | N20: 0.014 | O20: 0.025 | P20: 0.026 | Q20: =AVERAGE(E20:P20) -> 0.030083333 | R20: =MAX(E20:P20) -> 0.079 | S20: =MIN(E20:P20) -> 0.014 | T20: 0.03 以下
C21: 全亜鉛 | D21: ㎎/L | T21: 0.02 以下
C22: ノニルフェノール | D22: ㎎/L | T22: 0.001 以下
B23: 要測定指標 | C23: 底層溶存酸素量 | D23: ㎎/L | T23: ――
C24: 透明度 | D24: m | E24: 4 | F24: 4.7 | G24: 3 | H24: 3.8 | I24: 1 | J24: 2.1 | K24: 3.8 | L24: 2.9 | M24: 4 | N24: 4.1 | O24: 6 | P24: 8.6 | Q24: =AVERAGE(E24:P24) -> 4 | R24: =MAX(E24:P24) -> 8.6 | S24: =MIN(E24:P24) -> 1 | T24: ――
B26: 補足測定項目 | C26: T O C | D26: ㎎/L | T26: ――
B27: 健康項目 | C27: カドミウム | D27: ㎎/L | T27: 0.003 以下
C28: 全シアン | D28: ㎎/L | T28: 検出されないこと
C29: 鉛 | D29: ㎎/L | T29: 0.01 以下
C30: 六価クロム | D30: ㎎/L | T30: 0.02 以下
C31: 砒素 | D31: ㎎/L | T31: 0.01 以下
C32: 総水銀 | D32: ㎎/L | T32: 0.0005 以下
C33: アルキル水銀 | D33: ㎎/L
C34: P C B | D34: ㎎/L | T34: 検出されないこと
C35: ジクロロメタン | D35: ㎎/L | T35: 0.02 以下
C36: 四塩化炭素 | D36: ㎎/L | T36: 0.002 以下
C37: 1,2-ジクロロエタン | D37: ㎎/L | T37: 0.004 以下
C38: 1,1-ジクロロエチレン | D38: ㎎/L | T38: 0.1 以下
C39: ｼｽ-1,2-ｼﾞｸﾛﾛｴﾁﾚﾝ | D39: ㎎/L | T39: 0.04 以下
C40: 1,1,1-ﾄﾘｸﾛﾛｴﾀﾝ | D40: ㎎/L | T40: 1 以下
C41: 1,1,2-ﾄﾘｸﾛﾛｴﾀﾝ | D41: ㎎/L | T41: 0.006 以下
C42: トリクロロエチレン | D42: ㎎/L | T42: 0.01 以下
...

Sheet 備讃瀬戸3下層
G1: 2025年度 | I1: 公共用水水質結果一覧表（備讃瀬戸3下層）
B3: 測定地点番号 | E3: 3 | T3: 環境基準 または 指針値
B4: 水系 | E4: 備讃瀬戸
B5: 測定地点名 | E5: 備讃瀬戸3下層
B6: 環境基準類型 | E6: 海域AⅡ、生物Ａ
B7: 採取年月日 | E7: 45761 | F7: 45791 | G7: 45833 | H7: 45847 | I7: 45876 | J7: 45908 | K7: 45938 | L7: 45966 | M7: 45995 | N7: 46041 | O7: 46056 | P7: 46099 | Q7: 平均 | R7: 最大 | S7: 最小
B8: 気温 | D8: ℃ | E8: 12.5 | F8: 20.4 | G8: 27.0 | H8: 31.0 | I8: 29.0 | J8: 30.0 | K8: 26.8 | L8: 17.0 | M8: 8.0 | N8: 10.8 | O8: 6.3 | P8: 10.0
B9: 水温 | D9: ℃ | E9: 12.6 | F9: 17.2 | G9: 22.8 | H9: 25.6 | I9: 26.6 | J9: 29.2 | K9: 26.4 | L9: 20.0 | M9: 15.1 | N9: 12.2 | O9: 9.6 | P9: 11.1
B10: 透視度 | D10: ㎝ | E10: >30 | F10: >30 | G10: >30 | H10: >30 | I10: >30 | J10: >30 | K10: >30 | L10: >30 | M10: >30 | N10: >30 | O10: >30 | P10: >30
B11: 測定項目
B12: 生活環境項目 | C12: p H | E12: 8 | F12: 8 | G12: 8 | H12: 8 | I12: 7.8 | J12: 8 | K12: 8 | L12: 8.1 | M12: 8.1 | N12: 8.1 | O12: 8.1 | P12: 8.1 | Q12: =AVERAGE(E12:P12) -> 8.025 | R12: =MAX(E12:P12) -> 8.1 | S12: =MIN(E12:P12) -> 7.8 | T12: 7.8～8.3
C13: D O | D13: ㎎/L | T13: 7.5 以上
C14: B O D | D14: ㎎/L | T14: ――
C15: C O D | D15: ㎎/L | E15: 1.5 | F15: 1.7 | G15: 1.8 | H15: 2.2 | I15: 1.5 | J15: 1.7 | K15: 1.2 | L15: 1.6 | M15: 1.2 | N15: 1.4 | O15: 1.2 | P15: 1.5 | Q15: =AVERAGE(E15:P15) -> 1.5416667 | R15: =MAX(E15:P15) -> 2.2 | S15: =MIN(E15:P15) -> 1.2 | T15: 2 以下
C16: S S | D16: ㎎/L | E16: 1 | F16: 7 | G16: 2 | H16: 5 | I16: 2 | J16: 2 | K16: 1 | L16: 4 | M16: 4 | N16: 4 | O16: 2 | P16: 3 | Q16: =AVERAGE(E16:P16) -> 3.0833333 | R16: =MAX(E16:P16) -> 7 | S16: =MIN(E16:P16) -> 1 | T16: ――
C17: 大腸菌数 | D17: CFU/100ｍL | T17: 20 以下
C18: n-ヘキサン抽出物質 | D18: ㎎/L | T18: 検出されないこと
C19: 全窒素 | D19: ㎎/L | T19: 0.3 以下
C20: 全燐 | D20: ㎎/L | T20: 0.03 以下
C21: 全亜鉛 | D21: ㎎/L | T21: 0.02 以下
C22: ノニルフェノール | D22: ㎎/L | T22: 0.001 以下
B23: 要測定指標 | C23: 底層溶存酸素量 | D23: ㎎/L | T23: ――
C24: 透明度 | D24: m | E24: 4 | F24: 4.7 | G24: 3 | H24: 3.8 | I24: 1 | J24: 2.1 | K24: 3.8 | L24: 2.9 | M24: 4 | N24: 4.1 | O24: 6 | P24: 8.6 | Q24: =AVERAGE(E24:P24) -> 4 | R24: =MAX(E24:P24) -> 8.6 | S24: =MIN(E24:P24) -> 1 | T24: ――
B26: 補足測定項目 | C26: T O C | D26: ㎎/L | T26: ――
B27: 健康項目 | C27: カドミウム | D27: ㎎/L | T27: 0.003 以下
C28: 全シアン | D28: ㎎/L | T28: 検出されないこと
C29: 鉛 | D29: ㎎/L | T29: 0.01 以下
C30: 六価クロム | D30: ㎎/L | T30: 0.02 以下
C31: 砒素 | D31: ㎎/L | T31: 0.01 以下
C32: 総水銀 | D32: ㎎/L | T32: 0.0005 以下
C33: アルキル水銀 | D33: ㎎/L
C34: P C B | D34: ㎎/L | T34: 検出されないこと
C35: ジクロロメタン | D35: ㎎/L | T35: 0.02 以下
C36: 四塩化炭素 | D36: ㎎/L | T36: 0.002 以下
C37: 1,2-ジクロロエタン | D37: ㎎/L | T37: 0.004 以下
C38: 1,1-ジクロロエチレン | D38: ㎎/L | T38: 0.1 以下
C39: ｼｽ-1,2-ｼﾞｸﾛﾛｴﾁﾚﾝ | D39: ㎎/L | T39: 0.04 以下
C40: 1,1,1-ﾄﾘｸﾛﾛｴﾀﾝ | D40: ㎎/L | T40: 1 以下
C41: 1,1,2-ﾄﾘｸﾛﾛｴﾀﾝ | D41: ㎎/L | T41: 0.006 以下
C42: トリクロロエチレン | D42: ㎎/L | T42: 0.01 以下
...

Sheet 備讃瀬戸3底層
G1: 2025年度 | I1: 公共用水水質結果一覧表（備讃瀬戸3底層）
B3: 測定地点番号 | E3: 3 | T3: 環境基準 または 指針値
B4: 水系 | E4: 備讃瀬戸
B5: 測定地点名 | E5: 備讃瀬戸3底層
B6: 環境基準類型 | E6: 海域AⅡ、生物Ａ
B7: 採取年月日 | E7: 45761 | F7: 45791 | G7: 45833 | H7: 45847 | I7: 45876 | J7: 45908 | K7: 45938 | L7: 45966 | M7: 45995 | N7: 46041 | O7: 46056 | P7: 46099 | Q7: 平均 | R7: 最大 | S7: 最小
B8: 気温 | D8: ℃ | E8: 12.5 | F8: 20.4 | G8: 27.0 | H8: 31.0 | I8: 29.0 | J8: 30.0 | K8: 26.8 | L8: 17.0 | M8: 8.0 | N8: 10.8 | O8: 6.3 | P8: 10.0
B9: 水温 | D9: ℃ | E9: 12.4 | F9: 16.1 | G9: 20.3 | H9: 22.2 | I9: 26.3 | J9: 28.8 | K9: 26.4 | L9: 20.3 | M9: 15.0 | N9: 12.3 | O9: 9.6 | P9: 11.1
B10: 透視度 | D10: ㎝
B11: 測定項目
B12: 生活環境項目 | C12: p H | T12: 7.8～8.3
C13: D O | D13: ㎎/L | T13: 7.5 以上
C14: B O D | D14: ㎎/L | T14: ――
C15: C O D | D15: ㎎/L | T15: 2 以下
C16: S S | D16: ㎎/L | T16: ――
C17: 大腸菌数 | D17: CFU/100ｍL | T17: 20 以下
C18: n-ヘキサン抽出物質 | D18: ㎎/L | T18: 検出されないこと
C19: 全窒素 | D19: ㎎/L | T19: 0.3 以下
C20: 全燐 | D20: ㎎/L | T20: 0.03 以下
C21: 全亜鉛 | D21: ㎎/L | T21: 0.02 以下
C22: ノニルフェノール | D22: ㎎/L | T22: 0.001 以下
B23: 要測定指標 | C23: 底層溶存酸素量 | D23: ㎎/L | E23: 8.4 | F23: 7.8 | G23: 5.4 | H23: 5.1 | I23: 5.2 | J23: 3.4 | K23: 5.6 | L23: 7.6 | M23: 7.9 | N23: 9.2 | O23: 9.6 | P23: 9.5 | Q23: =AVERAGE(E23:P23) -> 7.0583333 | R23: =MAX(E23:P23) -> 9.6 | S23: =MIN(E23:P23) -> 3.4 | T23: ――
C24: 透明度 | D24: m | E24: 4 | F24: 4.7 | G24: 3 | H24: 3.8 | I24: 1 | J24: 2.1 | K24: 3.8 | L24: 2.9 | M24: 4 | N24: 4.1 | O24: 6 | P24: 8.6 | Q24: =AVERAGE(E24:P24) -> 4 | R24: =MAX(E24:P24) -> 8.6 | S24: =MIN(E24:P24) -> 1 | T24: ――
B26: 補足測定項目 | C26: T O C | D26: ㎎/L | T26: ――
B27: 健康項目 | C27: カドミウム | D27: ㎎/L | T27: 0.003 以下
C28: 全シアン | D28: ㎎/L | T28: 検出されないこと
C29: 鉛 | D29: ㎎/L | T29: 0.01 以下
C30: 六価クロム | D30: ㎎/L | T30: 0.02 以下
C31: 砒素 | D31: ㎎/L | T31: 0.01 以下
C32: 総水銀 | D32: ㎎/L | T32: 0.0005 以下
C33: アルキル水銀 | D33: ㎎/L
C34: P C B | D34: ㎎/L | T34: 検出されないこと
C35: ジクロロメタン | D35: ㎎/L | T35: 0.02 以下
C36: 四塩化炭素 | D36: ㎎/L | T36: 0.002 以下
C37: 1,2-ジクロロエタン | D37: ㎎/L | T37: 0.004 以下
C38: 1,1-ジクロロエチレン | D38: ㎎/L | T38: 0.1 以下
C39: ｼｽ-1,2-ｼﾞｸﾛﾛｴﾁﾚﾝ | D39: ㎎/L | T39: 0.04 以下
C40: 1,1,1-ﾄﾘｸﾛﾛｴﾀﾝ | D40: ㎎/L | T40: 1 以下
C41: 1,1,2-ﾄﾘｸﾛﾛｴﾀﾝ | D41: ㎎/L | T41: 0.006 以下
C42: トリクロロエチレン | D42: ㎎/L | T42: 0.01 以下
...

Sheet 備讃瀬戸3全層
G1: 2025年度 | I1: 公共用水水質結果一覧表（備讃瀬戸3全層）
B3: 測定地点番号 | E3: 3 | T3: 環境基準 または 指針値
B4: 水系 | E4: 備讃瀬戸
B5: 測定地点名 | E5: 備讃瀬戸3全層
B6: 環境基準類型 | E6: 海域AⅡ、生物Ａ
B7: 採取年月日 | E7: 45761 | F7: 45791 | G7: 45833 | H7: 45847 | I7: 45876 | J7: 45908 | K7: 45938 | L7: 45966 | M7: 45995 | N7: 46041 | O7: 46056 | P7: 46099 | Q7: 平均 | R7: 最大 | S7: 最小
B8: 気温 | D8: ℃ | E8: ―― | F8: ―― | G8: ―― | H8: ―― | I8: ―― | J8: ―― | K8: ―― | L8: ―― | M8: ―― | N8: ―― | O8: ―― | P8: ――
B9: 水温 | D9: ℃ | E9: ―― | F9: ―― | G9: ―― | H9: ―― | I9: ―― | J9: ―― | K9: ―― | L9: ―― | M9: ―― | N9: ―― | O9: ―― | P9: ――
B10: 透視度 | D10: ㎝ | E10: >30 | F10: >30 | G10: >30 | H10: >30 | I10: >30 | J10: >30 | K10: >30 | L10: >30 | M10: >30 | N10: >30 | O10: >30 | P10: >30
B11: 測定項目
B12: 生活環境項目 | C12: p H | E12: 8 | F12: 8 | G12: 8 | H12: 8.1 | I12: 7.9 | J12: 8.1 | K12: 8.1 | L12: 8.1 | M12: 8.1 | N12: 8.1 | O12: 8.1 | P12: 8.1 | Q12: =AVERAGE(E12:P12) -> 8.0583333 | R12: =MAX(備讃瀬戸3上層!E12:P12,備讃瀬戸3中層!E12:P12,備讃瀬戸3下層!E12:P12) -> 8.2 | S12: =MIN(備讃瀬戸3上層!E12:P12,備讃瀬戸3中層!E12:P12,備讃瀬戸3下層!E12:P12) -> 7.8 | T12: 7.8～8.3
C13: D O | D13: ㎎/L | E13: 9.2 | F13: 8.6 | G13: 8.6 | H13: 10 | I13: 6.5 | J13: 8.5 | K13: 7.3 | L13: 7.6 | M13: 8.2 | N13: 9.8 | O13: 9.8 | P13: 9.8 | Q13: =AVERAGE(E13:P13) -> 8.6583333 | R13: =MAX(備讃瀬戸3上層!E13:P13,備讃瀬戸3中層!E13:P13) -> 11 | S13: =MIN(備讃瀬戸3上層!E13:P13,備讃瀬戸3中層!E13:P13) -> 6.1 | T13: 7.5 以上
C14: B O D | D14: ㎎/L | T14: ――
C15: C O D | D15: ㎎/L | E15: 1.4 | F15: 1.6 | G15: 2 | H15: 2.6 | I15: 3.5 | J15: 2.9 | K15: 1.3 | L15: 1.5 | M15: 1.2 | N15: 1.4 | O15: 1.1 | P15: 1.5 | Q15: =AVERAGE(E15:P15) -> 1.8333333 | R15: =MAX(備讃瀬戸3上層!E15:P15,備讃瀬戸3中層!E15:P15,備讃瀬戸3下層!E15:P15) -> 6.1 | S15: =MIN(備讃瀬戸3上層!E15:P15,備讃瀬戸3中層!E15:P15,備讃瀬戸3下層!E15:P15) -> 0.9 | T15: 2 以下
C16: S S | D16: ㎎/L | E16: 1 | F16: 4 | G16: 2 | H16: 2 | I16: 4 | J16: 4 | K16: 2 | L16: 4 | M16: 5 | N16: 3 | O16: 2 | P16: 2 | Q16: =AVERAGE(E16:P16) -> 2.9166667 | R16: =MAX(備讃瀬戸3上層!E16:P16,備讃瀬戸3中層!E16:P16,備讃瀬戸3下層!E16:P16) -> 7 | S16: =MIN(備讃瀬戸3上層!E16:P16,備讃瀬戸3中層!E16:P16,備讃瀬戸3下層!E16:P16) -> 1 | T16: ――
C17: 大腸菌数 | D17: CFU/100ｍL | E17: <1 | F17: <1 | G17: <1 | H17: <1 | I17: 43 | J17: <1 | K17: <1 | L17: <1 | M17: <1 | N17: <1 | O17: <1 | P17: <1 | Q17: 5 | R17: =MAX(E17:P17) -> 43 | S17: <1 | T17: 20 以下
C18: n-ヘキサン抽出物質 | D18: ㎎/L | E18: <0.5 | F18: <0.5 | G18: <0.5 | H18: <0.5 | I18: <0.5 | J18: <0.5 | K18: <0.5 | L18: <0.5 | M18: <0.5 | N18: <0.5 | O18: <0.5 | P18: <0.5 | Q18: <0.5 | R18: <0.5 | S18: <0.5 | T18: 検出されないこと
C19: 全窒素 | D19: ㎎/L | E19: 0.17 | F19: 0.13 | G19: 0.17 | H19: 0.12 | I19: 0.32 | J19: 0.24 | K19: 0.16 | L19: 0.13 | M19: 0.16 | N19: 0.12 | O19: 0.16 | P19: 0.11 | Q19: =AVERAGE(E19:P19) -> 0.16583333 | R19: =MAX(備讃瀬戸3上層!E19:P19,備讃瀬戸3中層!E19:P19) -> 0.37 | S19: =MIN(備讃瀬戸3上層!E19:P19,備讃瀬戸3中層!E19:P19) -> 0.1 | T19: 0.3 以下
C20: 全燐 | D20: ㎎/L | E20: 0.02 | F20: 0.024 | G20: 0.03 | H20: 0.021 | I20: 0.12 | J20: 0.05 | K20: 0.033 | L20: 0.023 | M20: 0.029 | N20: 0.014 | O20: 0.026 | P20: 0.025 | Q20: =AVERAGE(E20:P20) -> 0.034583333 | R20: =MAX(備讃瀬戸3上層!E20:P20,備讃瀬戸3中層!E20:P20) -> 0.16 | S20: =MIN(備讃瀬戸3上層!E20:P20,備讃瀬戸3中層!E20:P20) -> 0.014 | T20: 0.03 以下
C21: 全亜鉛 | D21: ㎎/L | T21: 0.02 以下
C22: ノニルフェノール | D22: ㎎/L | T22: 0.001 以下
B23: 要測定指標 | C23: 底層溶存酸素量 | D23: ㎎/L | E23: 8.4 | F23: 7.8 | G23: 5.4 | H23: 5.1 | I23: 5.2 | J23: 3.4 | K23: 5.6 | L23: 7.6 | M23: 7.9 | N23: 9.2 | O23: 9.6 | P23: 9.5 | Q23: =AVERAGE(E23:P23) -> 7.0583333 | R23: =MAX(E23:P23) -> 9.6 | S23: =MIN(E23:P23) -> 3.4 | T23: ――
C24: 透明度 | D24: m | E24: 4 | F24: 4.7 | G24: 3 | H24: 3.8 | I24: 1 | J24: 2.1 | K24: 3.8 | L24: 2.9 | M24: 4 | N24: 4.1 | O24: 6 | P24: 8.6 | Q24: =AVERAGE(E24:P24) -> 4 | R24: =MAX(E24:P24) -> 8.6 | S24: =MIN(E24:P24) -> 1 | T24: ――
B26: 補足測定項目 | C26: T O C | D26: ㎎/L | E26: 1.5 | H26: 2.2 | K26: 1.5 | N26: 1.4 | Q26: =AVERAGE(E26:P26) -> 1.65 | R26: =MAX(E26:P26) -> 2.2 | S26: =MIN(E26:P26) -> 1.4 | T26: ――
B27: 健康項目 | C27: カドミウム | D27: ㎎/L | H27: <0.0003 | Q27: <0.0003 | R27: <0.0003 | S27: <0.0003 | T27: 0.003 以下
C28: 全シアン | D28: ㎎/L | H28: <0.1 | Q28: <0.1 | R28: <0.1 | S28: <0.1 | T28: 検出されないこと
C29: 鉛 | D29: ㎎/L | H29: <0.005 | Q29: <0.005 | R29: <0.005 | S29: <0.005 | T29: 0.01 以下
C30: 六価クロム | D30: ㎎/L | H30: <0.01 | Q30: <0.01 | R30: <0.01 | S30: <0.01 | T30: 0.02 以下
C31: 砒素 | D31: ㎎/L | H31: <0.005 | Q31: <0.005 | R31: <0.005 | S31: <0.005 | T31: 0.01 以下
C32: 総水銀 | D32: ㎎/L | H32: <0.0005 | Q32: <0.0005 | R32: <0.0005 | S32: <0.0005 | T32: 0.0005 以下
C33: アルキル水銀 | D33: ㎎/L
C34: P C B | D34: ㎎/L | T34: 検出されないこと
C35: ジクロロメタン | D35: ㎎/L | T35: 0.02 以下
C36: 四塩化炭素 | D36: ㎎/L | T36: 0.002 以下
C37: 1,2-ジクロロエタン | D37: ㎎/L | T37: 0.004 以下
C38: 1,1-ジクロロエチレン | D38: ㎎/L | T38: 0.1 以下
C39: ｼｽ-1,2-ｼﾞｸﾛﾛｴﾁﾚﾝ | D39: ㎎/L | T39: 0.04 以下
C40: 1,1,1-ﾄﾘｸﾛﾛｴﾀﾝ | D40: ㎎/L | T40: 1 以下
C41: 1,1,2-ﾄﾘｸﾛﾛｴﾀﾝ | D41: ㎎/L | T41: 0.006 以下
C42: トリクロロエチレン | D42: ㎎/L | T42: 0.01 以下
...

Sheet 備讃瀬戸4上層
G1: 2025年度 | I1: 公共用水水質結果一覧表（備讃瀬戸4上層）
B3: 測定地点番号 | E3: 4 | T3: 環境基準 または 指針値
B4: 水系 | E4: 備讃瀬戸
B5: 測定地点名 | E5: 備讃瀬戸4上層
B6: 環境基準類型 | E6: 海域AⅡ、生物特Ａ
B7: 採取年月日 | E7: 45761 | F7: 45791 | G7: 45833 | H7: 45847 | I7: 45876 | J7: 45908 | K7: 45938 | L7: 45966 | M7: 45995 | N7: 46041 | O7: 46056 | P7: 46099 | Q7: 平均 | R7: 最大 | S7: 最小
B8: 気温 | D8: ℃ | E8: 12.5 | F8: 17.9 | G8: 27.0 | H8: 28.0 | I8: 30.0 | J8: 30.5 | K8: 26.8 | L8: 14.0 | M8: 7.5 | N8: 10.8 | O8: 6.5 | P8: 10.0
B9: 水温 | D9: ℃ | E9: 13.7 | F9: 17.2 | G9: 24.0 | H9: 27.1 | I9: 30.6 | J9: 30.6 | K9: 27.0 | L9: 19.5 | M9: 13.3 | N9: 11.8 | O9: 9.7 | P9: 11.3
B10: 透視度 | D10: ㎝ | E10: >30 | F10: >30 | G10: >30 | H10: >30 | I10: >30 | J10: >30 | K10: >30 | L10: >30 | M10: >30 | N10: >30 | O10: >30 | P10: >30
B11: 測定項目
B12: 生活環境項目 | C12: p H | E12: 8.2 | F12: 8 | G12: 8.1 | H12: 8.1 | I12: 8.1 | J12: 8.2 | K12: 8 | L12: 8.1 | M12: 8.1 | N12: 8.2 | O12: 8.1 | P12: 8.2 | Q12: =AVERAGE(E12:P12) -> 8.1166667 | R12: =MAX(E12:P12) -> 8.2 | S12: =MIN(E12:P12) -> 8 | T12: 7.8～8.3
C13: D O | D13: ㎎/L | E13: 11 | F13: 9 | G13: 8.6 | H13: 9.2 | I13: 6.2 | J13: 8.3 | K13: 7.2 | L13: 7.8 | M13: 8 | N13: 9.3 | O13: 8.5 | P13: 10 | Q13: =AVERAGE(E13:P13) -> 8.5916667 | R13: =MAX(E13:P13) -> 11 | S13: =MIN(E13:P13) -> 6.2 | T13: 7.5 以上
C14: B O D | D14: ㎎/L | T14: ――
C15: C O D | D15: ㎎/L | E15: 2.9 | F15: 1.5 | G15: 1.9 | H15: 2.8 | I15: 6.2 | J15: 2.6 | K15: 3 | L15: 1.6 | M15: 1.4 | N15: 1.8 | O15: 1.3 | P15: 2.1 | Q15: =AVERAGE(E15:P15) -> 2.425 | R15: =MAX(E15:P15) -> 6.2 | S15: =MIN(E15:P15) -> 1.3 | T15: 2 以下
C16: S S | D16: ㎎/L | E16: 8 | F16: 2 | G16: 2 | H16: 3 | I16: 8 | J16: 3 | K16: 4 | L16: 6 | M16: 4 | N16: 5 | O16: 4 | P16: 5 | Q16: =AVERAGE(E16:P16) -> 4.5 | R16: =MAX(E16:P16) -> 8 | S16: =MIN(E16:P16) -> 2 | T16: ――
C17: 大腸菌数 | D17: CFU/100ｍL | E17: 3 | F17: <1 | G17: 130 | H17: <1 | I17: 64 | J17: 1 | K17: 7 | L17: <1 | M17: <1 | N17: <1 | O17: <1 | P17: <1 | Q17: 18 | R17: =MAX(E17:P17) -> 130 | S17: <1 | T17: 20 以下
C18: n-ヘキサン抽出物質 | D18: ㎎/L | E18: <0.5 | F18: <0.5 | G18: <0.5 | H18: <0.5 | I18: <0.5 | J18: <0.5 | K18: <0.5 | L18: <0.5 | M18: <0.5 | N18: <0.5 | O18: <0.5 | P18: <0.5 | Q18: <0.5 | R18: <0.5 | S18: <0.5 | T18: 検出されないこと
C19: 全窒素 | D19: ㎎/L | E19: 0.27 | F19: 0.16 | G19: 0.21 | H19: 0.12 | I19: 0.43 | J19: 0.2 | K19: 0.48 | L19: 0.21 | M19: 0.22 | N19: 0.15 | O19: 0.18 | P19: 0.19 | Q19: =AVERAGE(E19:P19) -> 0.235 | R19: =MAX(E19:P19) -> 0.48 | S19: =MIN(E19:P19) -> 0.12 | T19: 0.3 以下
C20: 全燐 | D20: ㎎/L | E20: 0.035 | F20: 0.018 | G20: 0.023 | H20: 0.023 | I20: 0.19 | J20: 0.036 | K20: 0.065 | L20: 0.031 | M20: 0.027 | N20: 0.015 | O20: 0.024 | P20: 0.03 | Q20: =AVERAGE(E20:P20) -> 0.043083333 | R20: =MAX(E20:P20) -> 0.19 | S20: =MIN(E20:P20) -> 0.015 | T20: 0.03 以下
C21: 全亜鉛 | D21: ㎎/L | T21: 0.01 以下
C22: ノニルフェノール | D22: ㎎/L | T22: 0.0007 以下
B23: 要測定指標 | C23: 底層溶存酸素量 | D23: ㎎/L | T23: ――
C24: 透明度 | D24: m | E24: 1.8 | F24: 2.8 | G24: 2.3 | H24: 2.8 | I24: 0.8 | J24: 2.1 | K24: 2.5 | L24: 2 | M24: 3.3 | N24: 2.8 | O24: >5.0 | P24: 2.8 | Q24: 2.6 | R24: >5.0 | S24: =MIN(E24:P24) -> 0.8 | T24: ――
B26: 補足測定項目 | C26: T O C | D26: ㎎/L | E26: 2.1 | H26: 2 | K26: 2.1 | N26: 1.5 | Q26: =AVERAGE(E26:P26) -> 1.925 | R26: =MAX(E26:P26) -> 2.1 | S26: =MIN(E26:P26) -> 1.5 | T26: ――
B27: 健康項目 | C27: カドミウム | D27: ㎎/L | H27: <0.0003 | Q27: <0.0003 | R27: <0.0003 | S27: <0.0003 | T27: 0.003 以下
C28: 全シアン | D28: ㎎/L | H28: <0.1 | Q28: <0.1 | R28: <0.1 | S28: <0.1 | T28: 検出されないこと
C29: 鉛 | D29: ㎎/L | H29: <0.005 | Q29: <0.005 | R29: <0.005 | S29: <0.005 | T29: 0.01 以下
C30: 六価クロム | D30: ㎎/L | H30: <0.01 | Q30: <0.01 | R30: <0.01 | S30: <0.01 | T30: 0.02 以下
C31: 砒素 | D31: ㎎/L | H31: <0.005 | Q31: <0.005 | R31: <0.005 | S31: <0.005 | T31: 0.01 以下
C32: 総水銀 | D32: ㎎/L | H32: <0.0005 | Q32: <0.0005 | R32: <0.0005 | S32: <0.0005 | T32: 0.0005 以下
C33: アルキル水銀 | D33: ㎎/L
C34: P C B | D34: ㎎/L | T34: 検出されないこと
C35: ジクロロメタン | D35: ㎎/L | T35: 0.02 以下
C36: 四塩化炭素 | D36: ㎎/L | T36: 0.002 以下
C37: 1,2-ジクロロエタン | D37: ㎎/L | T37: 0.004 以下
C38: 1,1-ジクロロエチレン | D38: ㎎/L | T38: 0.1 以下
C39: ｼｽ-1,2-ｼﾞｸﾛﾛｴﾁﾚﾝ | D39: ㎎/L | T39: 0.04 以下
C40: 1,1,1-ﾄﾘｸﾛﾛｴﾀﾝ | D40: ㎎/L | T40: 1 以下
C41: 1,1,2-ﾄﾘｸﾛﾛｴﾀﾝ | D41: ㎎/L | T41: 0.006 以下
C42: トリクロロエチレン | D42: ㎎/L | T42: 0.01 以下
...

Sheet 備讃瀬戸4中層
G1: 2025年度 | I1: 公共用水水質結果一覧表（備讃瀬戸4中層）
B3: 測定地点番号 | E3: 4 | T3: 環境基準 または 指針値
B4: 水系 | E4: 備讃瀬戸
B5: 測定地点名 | E5: 備讃瀬戸4中層
B6: 環境基準類型 | E6: 海域AⅡ、生物特Ａ
B7: 採取年月日 | E7: 45761 | F7: 45791 | G7: 45833 | H7: 45847 | I7: 45876 | J7: 45908 | K7: 45938 | L7: 45966 | M7: 45995 | N7: 46041 | O7: 46056 | P7: 46099 | Q7: 平均 | R7: 最大 | S7: 最小
B8: 気温 | D8: ℃ | E8: 12.5 | F8: 17.9 | G8: 27.0 | H8: 28.0 | I8: 30.0 | J8: 30.5 | K8: 26.8 | L8: 14.0 | M8: 7.5 | N8: 10.8 | O8: 6.5 | P8: 10.0
B9: 水温 | D9: ℃ | E9: 12.7 | F9: 17.1 | G9: 23.2 | H9: 26.7 | I9: 28.7 | J9: 29.8 | K9: 26.7 | L9: 19.4 | M9: 13.7 | N9: 11.6 | O9: 9.6 | P9: 11.2
B10: 透視度 | D10: ㎝ | E10: >30 | F10: >30 | G10: >30 | H10: >30 | I10: >30 | J10: >30 | K10: >30 | L10: >30 | M10: >30 | N10: >30 | O10: >30 | P10: >30
B11: 測定項目
B12: 生活環境項目 | C12: p H | E12: 8 | F12: 8 | G12: 8.1 | H12: 8.1 | I12: 7.9 | J12: 8.1 | K12: 8 | L12: 8.1 | M12: 8.1 | N12: 8.2 | O12: 8.1 | P12: 8.1 | Q12: =AVERAGE(E12:P12) -> 8.0666667 | R12: =MAX(E12:P12) -> 8.2 | S12: =MIN(E12:P12) -> 7.9 | T12: 7.8～8.3
C13: D O | D13: ㎎/L | E13: 9.3 | F13: 8.6 | G13: 8.4 | H13: 8.9 | I13: 5.3 | J13: 7.2 | K13: 7.2 | L13: 7.2 | M13: 8.4 | N13: 10 | O13: 9.9 | P13: 10 | Q13: =AVERAGE(E13:P13) -> 8.3666667 | R13: =MAX(E13:P13) -> 10 | S13: =MIN(E13:P13) -> 5.3 | T13: 7.5 以上
C14: B O D | D14: ㎎/L | T14: ――
C15: C O D | D15: ㎎/L | E15: 2 | F15: 1.9 | G15: 2.8 | H15: 2.9 | I15: 3.3 | J15: 1.7 | K15: 1.7 | L15: 1.9 | M15: 1.3 | N15: 1.9 | O15: 1.2 | P15: 1.7 | Q15: =AVERAGE(E15:P15) -> 2.025 | R15: =MAX(E15:P15) -> 3.3 | S15: =MIN(E15:P15) -> 1.2 | T15: 2 以下
C16: S S | D16: ㎎/L | E16: 6 | F16: 2 | G16: 4 | H16: 3 | I16: 5 | J16: 3 | K16: 3 | L16: 6 | M16: 4 | N16: 4 | O16: 2 | P16: 3 | Q16: =AVERAGE(E16:P16) -> 3.75 | R16: =MAX(E16:P16) -> 6 | S16: =MIN(E16:P16) -> 2 | T16: ――
C17: 大腸菌数 | D17: CFU/100ｍL | T17: 20 以下
C18: n-ヘキサン抽出物質 | D18: ㎎/L | T18: 検出されないこと
C19: 全窒素 | D19: ㎎/L | E19: 0.19 | F19: 0.16 | G19: 0.27 | H19: 0.13 | I19: 0.32 | J19: 0.21 | K19: 0.21 | L19: 0.22 | M19: 0.2 | N19: 0.14 | O19: 0.14 | P19: 0.15 | Q19: =AVERAGE(E19:P19) -> 0.195 | R19: =MAX(E19:P19) -> 0.32 | S19: =MIN(E19:P19) -> 0.13 | T19: 0.3 以下
C20: 全燐 | D20: ㎎/L | E20: 0.022 | F20: 0.023 | G20: 0.036 | H20: 0.023 | I20: 0.1 | J20: 0.041 | K20: 0.039 | L20: 0.032 | M20: 0.028 | N20: 0.016 | O20: 0.025 | P20: 0.025 | Q20: =AVERAGE(E20:P20) -> 0.034166667 | R20: =MAX(E20:P20) -> 0.1 | S20: =MIN(E20:P20) -> 0.016 | T20: 0.03 以下
C21: 全亜鉛 | D21: ㎎/L | T21: 0.01 以下
C22: ノニルフェノール | D22: ㎎/L | T22: 0.0007 以下
B23: 要測定指標 | C23: 底層溶存酸素量 | D23: ㎎/L | T23: ――
C24: 透明度 | D24: m | E24: 1.8 | F24: 2.8 | G24: 2.3 | H24: 2.8 | I24: 0.8 | J24: 2.1 | K24: 2.5 | L24: 2 | M24: 3.3 | N24: 2.8 | O24: >5.0 | P24: 2.8 | Q24: 2.6 | R24: >5.0 | S24: =MIN(E24:P24) -> 0.8 | T24: ――
B26: 補足測定項目 | C26: T O C | D26: ㎎/L | T26: ――
B27: 健康項目 | C27: カドミウム | D27: ㎎/L | T27: 0.003 以下
C28: 全シアン | D28: ㎎/L | T28: 検出されないこと
C29: 鉛 | D29: ㎎/L | T29: 0.01 以下
C30: 六価クロム | D30: ㎎/L | T30: 0.02 以下
C31: 砒素 | D31: ㎎/L | T31: 0.01 以下
C32: 総水銀 | D32: ㎎/L | T32: 0.0005 以下
C33: アルキル水銀 | D33: ㎎/L
C34: P C B | D34: ㎎/L | T34: 検出されないこと
C35: ジクロロメタン | D35: ㎎/L | T35: 0.02 以下
C36: 四塩化炭素 | D36: ㎎/L | T36: 0.002 以下
C37: 1,2-ジクロロエタン | D37: ㎎/L | T37: 0.004 以下
C38: 1,1-ジクロロエチレン | D38: ㎎/L | T38: 0.1 以下
C39: ｼｽ-1,2-ｼﾞｸﾛﾛｴﾁﾚﾝ | D39: ㎎/L | T39: 0.04 以下
C40: 1,1,1-ﾄﾘｸﾛﾛｴﾀﾝ | D40: ㎎/L | T40: 1 以下
C41: 1,1,2-ﾄﾘｸﾛﾛｴﾀﾝ | D41: ㎎/L | T41: 0.006 以下
C42: トリクロロエチレン | D42: ㎎/L | T42: 0.01 以下
...

Sheet 備讃瀬戸4下層
G1: 2025年度 | I1: 公共用水水質結果一覧表（備讃瀬戸4下層）
B3: 測定地点番号 | E3: 4 | T3: 環境基準 または 指針値
B4: 水系 | E4: 備讃瀬戸
B5: 測定地点名 | E5: 備讃瀬戸4下層
B6: 環境基準類型 | E6: 海域AⅡ、生物特Ａ
B7: 採取年月日 | E7: 45761 | F7: 45791 | G7: 45833 | H7: 45847 | I7: 45876 | J7: 45908 | K7: 45938 | L7: 45966 | M7: 45995 | N7: 46041 | O7: 46056 | P7: 46099 | Q7: 平均 | R7: 最大 | S7: 最小
B8: 気温 | D8: ℃ | E8: 12.5 | F8: 17.9 | G8: 27.0 | H8: 28.0 | I8: 30.0 | J8: 30.5 | K8: 26.8 | L8: 14.0 | M8: 7.5 | N8: 10.8 | O8: 6.5 | P8: 10.0
B9: 水温 | D9: ℃ | E9: 12.7 | F9: 17.2 | G9: 22.7 | H9: 26.1 | I9: 21.6 | J9: 29.5 | K9: 26.6 | L9: 19.5 | M9: 13.6 | N9: 11.9 | O9: 9.8 | P9: 11.1
B10: 透視度 | D10: ㎝ | E10: >30 | F10: >30 | G10: >30 | H10: >30 | I10: >30 | J10: >30 | K10: >30 | L10: >30 | M10: >30 | N10: >30 | O10: >30 | P10: >30
B11: 測定項目
B12: 生活環境項目 | C12: p H | E12: 8 | F12: 8 | G12: 8 | H12: 8.1 | I12: 7.9 | J12: 8.1 | K12: 8 | L12: 8.1 | M12: 8.1 | N12: 8.2 | O12: 8.1 | P12: 8.1 | Q12: =AVERAGE(E12:P12) -> 8.0583333 | R12: =MAX(E12:P12) -> 8.2 | S12: =MIN(E12:P12) -> 7.9 | T12: 7.8～8.3
C13: D O | D13: ㎎/L | T13: 7.5 以上
C14: B O D | D14: ㎎/L | T14: ――
C15: C O D | D15: ㎎/L | E15: 1.9 | F15: 1.9 | G15: 2.5 | H15: 2.7 | I15: 1.7 | J15: 2.2 | K15: 1.5 | L15: 1.7 | M15: 1.4 | N15: 1.6 | O15: 1.3 | P15: 2 | Q15: =AVERAGE(E15:P15) -> 1.8666667 | R15: =MAX(E15:P15) -> 2.7 | S15: =MIN(E15:P15) -> 1.3 | T15: 2 以下
C16: S S | D16: ㎎/L | E16: 5 | F16: 6 | G16: 5 | H16: 3 | I16: 4 | J16: 3 | K16: 5 | L16: 4 | M16: 5 | N16: 5 | O16: 4 | P16: 6 | Q16: =AVERAGE(E16:P16) -> 4.5833333 | R16: =MAX(E16:P16) -> 6 | S16: =MIN(E16:P16) -> 3 | T16: ――
C17: 大腸菌数 | D17: CFU/100ｍL | T17: 20 以下
C18: n-ヘキサン抽出物質 | D18: ㎎/L | T18: 検出されないこと
C19: 全窒素 | D19: ㎎/L | T19: 0.3 以下
C20: 全燐 | D20: ㎎/L | T20: 0.03 以下
C21: 全亜鉛 | D21: ㎎/L | T21: 0.01 以下
C22: ノニルフェノール | D22: ㎎/L | T22: 0.0007 以下
B23: 要測定指標 | C23: 底層溶存酸素量 | D23: ㎎/L | E23: 8.7 | F23: 8.5 | G23: 7.8 | H23: 8.7 | I23: 4.5 | J23: 6.4 | K23: 6.2 | L23: 7.3 | M23: 8.1 | N23: 10 | O23: 9.9 | P23: 9.7 | Q23: =AVERAGE(E23:P23) -> 7.9833333 | R23: =MAX(E23:P23) -> 10 | S23: =MIN(E23:P23) -> 4.5 | T23: ――
C24: 透明度 | D24: m | E24: 1.8 | F24: 2.8 | G24: 2.3 | H24: 2.8 | I24: 0.8 | J24: 2.1 | K24: 2.5 | L24: 2 | M24: 3.3 | N24: 2.8 | O24: >5.0 | P24: 2.8 | Q24: 2.6 | R24: >5.0 | S24: =MIN(E24:P24) -> 0.8 | T24: ――
B26: 補足測定項目 | C26: T O C | D26: ㎎/L | T26: ――
B27: 健康項目 | C27: カドミウム | D27: ㎎/L | T27: 0.003 以下
C28: 全シアン | D28: ㎎/L | T28: 検出されないこと
C29: 鉛 | D29: ㎎/L | T29: 0.01 以下
C30: 六価クロム | D30: ㎎/L | T30: 0.02 以下
C31: 砒素 | D31: ㎎/L | T31: 0.01 以下
C32: 総水銀 | D32: ㎎/L | T32: 0.0005 以下
C33: アルキル水銀 | D33: ㎎/L
C34: P C B | D34: ㎎/L | T34: 検出されないこと
C35: ジクロロメタン | D35: ㎎/L | T35: 0.02 以下
C36: 四塩化炭素 | D36: ㎎/L | T36: 0.002 以下
C37: 1,2-ジクロロエタン | D37: ㎎/L | T37: 0.004 以下
C38: 1,1-ジクロロエチレン | D38: ㎎/L | T38: 0.1 以下
C39: ｼｽ-1,2-ｼﾞｸﾛﾛｴﾁﾚﾝ | D39: ㎎/L | T39: 0.04 以下
C40: 1,1,1-ﾄﾘｸﾛﾛｴﾀﾝ | D40: ㎎/L | T40: 1 以下
C41: 1,1,2-ﾄﾘｸﾛﾛｴﾀﾝ | D41: ㎎/L | T41: 0.006 以下
C42: トリクロロエチレン | D42: ㎎/L | T42: 0.01 以下
...

Sheet 備讃瀬戸4全層
G1: 2025年度 | I1: 公共用水水質結果一覧表（備讃瀬戸4全層）
B3: 測定地点番号 | E3: 4 | T3: 環境基準 または 指針値
B4: 水系 | E4: 備讃瀬戸
B5: 測定地点名 | E5: 備讃瀬戸4全層
B6: 環境基準類型 | E6: 海域AⅡ、生物特Ａ
B7: 採取年月日 | E7: 45761 | F7: 45791 | G7: 45833 | H7: 45847 | I7: 45876 | J7: 45908 | K7: 45938 | L7: 45966 | M7: 45995 | N7: 46041 | O7: 46056 | P7: 46099 | Q7: 平均 | R7: 最大 | S7: 最小
B8: 気温 | D8: ℃ | E8: ―― | F8: ―― | G8: ―― | H8: ―― | I8: ―― | J8: ―― | K8: ―― | L8: ―― | M8: ―― | N8: ―― | O8: ―― | P8: ――
B9: 水温 | D9: ℃ | E9: ―― | F9: ―― | G9: ―― | H9: ―― | I9: ―― | J9: ―― | K9: ―― | L9: ―― | M9: ―― | N9: ―― | O9: ―― | P9: ――
B10: 透視度 | D10: ㎝ | E10: >30 | F10: >30 | G10: >30 | H10: >30 | I10: >30 | J10: >30 | K10: >30 | L10: >30 | M10: >30 | N10: >30 | O10: >30 | P10: >30
B11: 測定項目
B12: 生活環境項目 | C12: p H | E12: 8.1 | F12: 8 | G12: 8.1 | H12: 8.1 | I12: 8 | J12: 8.1 | K12: 8 | L12: 8.1 | M12: 8.1 | N12: 8.2 | O12: 8.1 | P12: 8.1 | Q12: =AVERAGE(E12:P12) -> 8.0833333 | R12: =MAX(備讃瀬戸4上層!E12:P12,備讃瀬戸4中層!E12:P12,備讃瀬戸4下層!E12:P12) -> 8.2 | S12: =MIN(備讃瀬戸4上層!E12:P12,備讃瀬戸4中層!E12:P12,備讃瀬戸4下層!E12:P12) -> 7.9 | T12: 7.8～8.3
C13: D O | D13: ㎎/L | E13: 10 | F13: 8.8 | G13: 8.5 | H13: 9.1 | I13: 5.8 | J13: 7.8 | K13: 7.2 | L13: 7.5 | M13: 8.2 | N13: 9.7 | O13: 9.2 | P13: 10 | Q13: =AVERAGE(E13:P13) -> 8.4833333 | R13: =MAX(備讃瀬戸4上層!E13:P13,備讃瀬戸4中層!E13:P13) -> 11 | S13: =MIN(備讃瀬戸4上層!E13:P13,備讃瀬戸4中層!E13:P13) -> 5.3 | T13: 7.5 以上
C14: B O D | D14: ㎎/L | T14: ――
C15: C O D | D15: ㎎/L | E15: 2.3 | F15: 1.8 | G15: 2.4 | H15: 2.8 | I15: 3.7 | J15: 2.2 | K15: 2.1 | L15: 1.7 | M15: 1.4 | N15: 1.8 | O15: 1.3 | P15: 1.9 | Q15: =AVERAGE(E15:P15) -> 2.1166667 | R15: =MAX(備讃瀬戸4上層!E15:P15,備讃瀬戸4中層!E15:P15,備讃瀬戸4下層!E15:P15) -> 6.2 | S15: =MIN(備讃瀬戸4上層!E15:P15,備讃瀬戸4中層!E15:P15,備讃瀬戸4下層!E15:P15) -> 1.2 | T15: 2 以下
C16: S S | D16: ㎎/L | E16: 6 | F16: 3 | G16: 4 | H16: 3 | I16: 6 | J16: 3 | K16: 4 | L16: 5 | M16: 4 | N16: 5 | O16: 3 | P16: 5 | Q16: =AVERAGE(E16:P16) -> 4.25 | R16: =MAX(備讃瀬戸4上層!E16:P16,備讃瀬戸4中層!E16:P16,備讃瀬戸4下層!E16:P16) -> 8 | S16: =MIN(備讃瀬戸4上層!E16:P16,備讃瀬戸4中層!E16:P16,備讃瀬戸4下層!E16:P16) -> 2 | T16: ――
C17: 大腸菌数 | D17: CFU/100ｍL | E17: 3 | F17: <1 | G17: 130 | H17: <1 | I17: 64 | J17: 1 | K17: 7 | L17: <1 | M17: <1 | N17: <1 | O17: <1 | P17: <1 | Q17: 18 | R17: =MAX(E17:P17) -> 130 | S17: <1 | T17: 20 以下
C18: n-ヘキサン抽出物質 | D18: ㎎/L | E18: <0.5 | F18: <0.5 | G18: <0.5 | H18: <0.5 | I18: <0.5 | J18: <0.5 | K18: <0.5 | L18: <0.5 | M18: <0.5 | N18: <0.5 | O18: <0.5 | P18: <0.5 | Q18: <0.5 | R18: <0.5 | S18: <0.5 | T18: 検出されないこと
C19: 全窒素 | D19: ㎎/L | E19: 0.23 | F19: 0.16 | G19: 0.24 | H19: 0.13 | I19: 0.38 | J19: 0.21 | K19: 0.35 | L19: 0.22 | M19: 0.21 | N19: 0.15 | O19: 0.16 | P19: 0.17 | Q19: =AVERAGE(E19:P19) -> 0.2175 | R19: =MAX(備讃瀬戸4上層!E19:P19,備讃瀬戸4中層!E19:P19) -> 0.48 | S19: =MIN(備讃瀬戸4上層!E19:P19,備讃瀬戸4中層!E19:P19) -> 0.12 | T19: 0.3 以下
C20: 全燐 | D20: ㎎/L | E20: 0.029 | F20: 0.021 | G20: 0.03 | H20: 0.023 | I20: 0.15 | J20: 0.039 | K20: 0.052 | L20: 0.032 | M20: 0.028 | N20: 0.016 | O20: 0.025 | P20: 0.028 | Q20: =AVERAGE(E20:P20) -> 0.039416667 | R20: =MAX(備讃瀬戸4上層!E20:P20,備讃瀬戸4中層!E20:P20) -> 0.19 | S20: =MIN(備讃瀬戸4上層!E20:P20,備讃瀬戸4中層!E20:P20) -> 0.015 | T20: 0.03 以下
C21: 全亜鉛 | D21: ㎎/L | T21: 0.01 以下
C22: ノニルフェノール | D22: ㎎/L | T22: 0.0007 以下
B23: 要測定指標 | C23: 底層溶存酸素量 | D23: ㎎/L | E23: 8.7 | F23: 8.5 | G23: 7.8 | H23: 8.7 | I23: 4.5 | J23: 6.4 | K23: 6.2 | L23: 7.3 | M23: 8.1 | N23: 10 | O23: 9.9 | P23: 9.7 | Q23: =AVERAGE(E23:P23) -> 7.9833333 | R23: =MAX(E23:P23) -> 10 | S23: =MIN(E23:P23) -> 4.5 | T23: ――
C24: 透明度 | D24: m | E24: 1.8 | F24: 2.8 | G24: 2.3 | H24: 2.8 | I24: 0.8 | J24: 2.1 | K24: 2.5 | L24: 2 | M24: 3.3 | N24: 2.8 | O24: >5.0 | P24: 2.8 | Q24: 2.6 | R24: >5.0 | S24: =MIN(E24:P24) -> 0.8 | T24: ――
B26: 補足測定項目 | C26: T O C | D26: ㎎/L | E26: 2.1 | H26: 2 | K26: 2.1 | N26: 1.5 | Q26: =AVERAGE(E26:P26) -> 1.925 | R26: =MAX(E26:P26) -> 2.1 | S26: =MIN(E26:P26) -> 1.5 | T26: ――
B27: 健康項目 | C27: カドミウム | D27: ㎎/L | H27: <0.0003 | Q27: <0.0003 | R27: <0.0003 | S27: <0.0003 | T27: 0.003 以下
C28: 全シアン | D28: ㎎/L | H28: <0.1 | Q28: <0.1 | R28: <0.1 | S28: <0.1 | T28: 検出されないこと
C29: 鉛 | D29: ㎎/L | H29: <0.005 | Q29: <0.005 | R29: <0.005 | S29: <0.005 | T29: 0.01 以下
C30: 六価クロム | D30: ㎎/L | H30: <0.01 | Q30: <0.01 | R30: <0.01 | S30: <0.01 | T30: 0.02 以下
C31: 砒素 | D31: ㎎/L | H31: <0.005 | Q31: <0.005 | R31: <0.005 | S31: <0.005 | T31: 0.01 以下
C32: 総水銀 | D32: ㎎/L | H32: <0.0005 | Q32: <0.0005 | R32: <0.0005 | S32: <0.0005 | T32: 0.0005 以下
C33: アルキル水銀 | D33: ㎎/L
C34: P C B | D34: ㎎/L | T34: 検出されないこと
C35: ジクロロメタン | D35: ㎎/L | T35: 0.02 以下
C36: 四塩化炭素 | D36: ㎎/L | T36: 0.002 以下
C37: 1,2-ジクロロエタン | D37: ㎎/L | T37: 0.004 以下
C38: 1,1-ジクロロエチレン | D38: ㎎/L | T38: 0.1 以下
C39: ｼｽ-1,2-ｼﾞｸﾛﾛｴﾁﾚﾝ | D39: ㎎/L | T39: 0.04 以下
C40: 1,1,1-ﾄﾘｸﾛﾛｴﾀﾝ | D40: ㎎/L | T40: 1 以下
C41: 1,1,2-ﾄﾘｸﾛﾛｴﾀﾝ | D41: ㎎/L | T41: 0.006 以下
C42: トリクロロエチレン | D42: ㎎/L | T42: 0.01 以下
...

Sheet 備讃瀬戸12上層
G1: 2025年度 | I1: 公共用水水質結果一覧表（備讃瀬戸12上層）
B3: 測定地点番号 | E3: 12 | T3: 環境基準 または 指針値
B4: 水系 | E4: 備讃瀬戸
B5: 測定地点名 | E5: 備讃瀬戸12上層
B6: 環境基準類型 | E6: 海域ＡⅡ、生物Ａ
B7: 採取年月日 | E7: 45761 | F7: 45791 | G7: 45833 | H7: 45847 | I7: 45876 | J7: 45908 | K7: 45938 | L7: 45966 | M7: 45995 | N7: 46041 | O7: 46056 | P7: 46099 | Q7: 平均 | R7: 最大 | S7: 最小
B8: 気温 | D8: ℃ | E8: 12.5 | F8: 20.0 | G8: 27.0 | H8: 31.0 | I8: 27.8 | J8: 29.5 | K8: 26.8 | L8: 17.0 | M8: 8.0 | N8: 10.8 | O8: 6.3 | P8: 9.8
B9: 水温 | D9: ℃ | E9: 12.5 | F9: 18.9 | G9: 26.1 | H9: 27.8 | I9: 27.0 | J9: 30.7 | K9: 26.6 | L9: 19.8 | M9: 16.1 | N9: 13.1 | O9: 10.3 | P9: 11.0
B10: 透視度 | D10: ㎝ | E10: >30 | F10: >30 | G10: >30 | H10: >30 | I10: >30 | J10: >30 | K10: >30 | L10: >30 | M10: >30 | N10: >30 | O10: >30 | P10: >30
B11: 測定項目
B12: 生活環境項目 | C12: p H | E12: 8 | F12: 8.1 | G12: 8.2 | H12: 8.1 | I12: 8 | J12: 8.2 | K12: 8.1 | L12: 8.1 | M12: 8.1 | N12: 8.1 | O12: 8.1 | P12: 8.1 | Q12: =AVERAGE(E12:P12) -> 8.1 | R12: =MAX(E12:P12) -> 8.2 | S12: =MIN(E12:P12) -> 8 | T12: 7.8～8.3
C13: D O | D13: ㎎/L | E13: 9.3 | F13: 9.2 | G13: 10 | H13: 8 | I13: 7 | J13: 7.5 | K13: 7.2 | L13: 7.8 | M13: 8.1 | N13: 9.1 | O13: 9.3 | P13: 9.2 | Q13: =AVERAGE(E13:P13) -> 8.475 | R13: =MAX(E13:P13) -> 10 | S13: =MIN(E13:P13) -> 7 | T13: 7.5 以上
C14: B O D | D14: ㎎/L | T14: ――
