Workbook

Sheet 備讃瀬戸1上層
G1: 2025年度 | I1: 公共用水水質結果一覧表（備讃瀬戸1上層）
B3: 測定地点番号 | E3: 1 | T3: 環境基準 または 指針値
B4: 水系 | E4: 備讃瀬戸
B5: 測定地点名 | E5: 備讃瀬戸1上層
B6: 環境基準類型 | E6: 海域BⅣ、生物Ａ
B7: 採取年月日 | E7: 45761 | F7: 45791 | G7: 45833 | H7: 45847 | I7: 45876 | J7: 45908 | K7: 45938 | L7: 45966 | M7: 45995 | N7: 46041 | O7: 46056 | P7: 46099 | Q7: 平均 | R7: 最大 | S7: 最小
B8: 気温 | D8: ℃ | E8: 13.0 | F8: 22.6 | G8: 28.0 | H8: 31.0 | I8: 30.6 | J8: 31.5 | K8: 28.0 | L8: 17.7 | M8: 8.0 | N8: 11.2 | O8: 7.2 | P8: 11.3
B9: 水温 | D9: ℃ | E9: 16.1 | F9: 19.2 | G9: 27.5 | H9: 29.2 | I9: 29.7 | J9: 30.9 | K9: 28.1 | L9: 20.7 | M9: 15.3 | N9: 12.6 | O9: 10.6 | P9: 13.1
B10: 透視度 | D10: ㎝ | E10: >30 | F10: >30 | G10: >30 | H10: >30 | I10: >30 | J10: >30 | K10: >30 | L10: >30 | M10: >30 | N10: >30 | O10: >30 | P10: >30
B11: 測定項目
B12: 生活環境項目 | C12: p H | E12: 7.9 | F12: 8.2 | G12: 8.4 | H12: 8.1 | I12: 8.1 | J12: 7.9 | K12: 8.1 | L12: 8 | M12: 8.1 | N12: 8.2 | O12: 8.1 | P12: 8.1 | Q12: =AVERAGE(E12:P12) -> 8.1 | R12: =MAX(E12:P12) -> 8.4 | S12: =MIN(E12:P12) -> 7.9 | T12: 7.8～8.3
C13: D O | D13: ㎎/L | E13: 7.4 | F13: 11 | G13: 11 | H13: 10 | I13: 7.4 | J13: 5.6 | K13: 7.3 | L13: 7.3 | M13: 7.8 | N13: 10 | O13: 9.8 | P13: 8.9 | Q13: =AVERAGE(E13:P13) -> 8.625 | R13: =MAX(E13:P13) -> 11 | S13: =MIN(E13:P13) -> 5.6 | T13: 5 以上
C14: B O D | D14: ㎎/L | T14: ――
C15: C O D | D15: ㎎/L | E15: 3.8 | F15: 2.4 | G15: 6.5 | H15: 5 | I15: 5.5 | J15: 3.2 | K15: 2.8 | L15: 1.9 | M15: 1.4 | N15: 2.1 | O15: 1.7 | P15: 2.3 | Q15: =AVERAGE(E15:P15) -> 3.2166667 | R15: =MAX(E15:P15) -> 6.5 | S15: =MIN(E15:P15) -> 1.4 | T15: 3 以下
C16: S S | D16: ㎎/L | E16: 2 | F16: 3 | G16: 6 | H16: 4 | I16: 8 | J16: 3 | K16: 3 | L16: 4 | M16: 5 | N16: 3 | O16: 4 | P16: 4 | Q16: =AVERAGE(E16:P16) -> 4.0833333 | R16: =MAX(E16:P16) -> 8 | S16: =MIN(E16:P16) -> 2 | T16: ――
C17: 大腸菌数 | D17: CFU/100ｍL | E17: 25 | F17: 4 | G17: 76 | H17: 14 | I17: 260 | J17: 6 | K17: 12 | L17: 11 | M17: 6 | N17: 1 | O17: 1 | P17: 7 | Q17: =AVERAGE(E17:P17) -> 35.25 | R17: =MAX(E17:P17) -> 260 | S17: =MIN(E17:P17) -> 1 | T17: ――
C18: n-ヘキサン抽出物質 | D18: ㎎/L | E18: <0.5 | F18: <0.5 | G18: <0.5 | H18: <0.5 | I18: <0.5 | J18: <0.5 | K18: <0.5 | L18: <0.5 | M18: <0.5 | N18: <0.5 | O18: <0.5 | P18: <0.5 | Q18: <0.5 | R18: <0.5 | S18: <0.5 | T18: 検出されないこと
C19: 全窒素 | D19: ㎎/L | E19: 3.8 | F19: 0.87 | G19: 3.7 | H19: 2.2 | I19: 1.7 | J19: 1.3 | K19: 2.1 | L19: 1 | M19: 0.67 | N19: 1.5 | O19: 1.6 | P19: 1.5 | Q19: =AVERAGE(E19:P19) -> 1.8283333 | R19: =MAX(E19:P19) -> 3.8 | S19: =MIN(E19:P19) -> 0.67 | T19: 1 以下
C20: 全燐 | D20: ㎎/L | E20: 0.081 | F20: 0.026 | G20: 0.088 | H20: 0.053 | I20: 0.11 | J20: 0.078 | K20: 0.055 | L20: 0.035 | M20: 0.04 | N20: 0.023 | O20: 0.073 | P20: 0.038 | Q20: =AVERAGE(E20:P20) -> 0.058333333 | R20: =MAX(E20:P20) -> 0.11 | S20: =MIN(E20:P20) -> 0.023 | T20: 0.09 以下
C21: 全亜鉛 | D21: ㎎/L | T21: 0.02 以下
C22: ノニルフェノール | D22: ㎎/L | T22: 0.001 以下
B23: 要測定指標 | C23: 底層溶存酸素量 | D23: ㎎/L | T23: ――
C24: 透明度 | D24: m | E24: 2.1 | F24: 2.7 | G24: 1 | H24: 1.4 | I24: 0.5 | J24: 1.9 | K24: 1.9 | L24: 3.5 | M24: 2.5 | N24: 2.6 | O24: 4 | P24: 4 | Q24: =AVERAGE(E24:P24) -> 2.3416667 | R24: =MAX(E24:P24) -> 4 | S24: =MIN(E24:P24) -> 0.5 | T24: ――
B26: 補足測定項目 | C26: T O C | D26: ㎎/L | E26: 2.6 | H26: 2.9 | K26: 2.1 | N26: 1.7 | Q26: =AVERAGE(E26:P26) -> 2.325 | R26: =MAX(E26:P26) -> 2.9 | S26: =MIN(E26:P26) -> 1.7 | T26: ――
B27: 健康項目 | C27: カドミウム | D27: ㎎/L | H27: <0.0003 | N27: <0.0003 | Q27: <0.0003 | R27: <0.0003 | S27: <0.0003 | T27: 0.003 以下
C28: 全シアン | D28: ㎎/L | H28: <0.1 | N28: <0.1 | Q28: <0.1 | R28: <0.1 | S28: <0.1 | T28: 検出されないこと
C29: 鉛 | D29: ㎎/L | H29: <0.005 | N29: <0.005 | Q29: <0.005 | R29: <0.005 | S29: <0.005 | T29: 0.01 以下
C30: 六価クロム | D30: ㎎/L | H30: <0.01 | N30: <0.01 | Q30: <0.01 | R30: <0.01 | S30: <0.01 | T30: 0.02 以下
C31: 砒素 | D31: ㎎/L | H31: <0.005 | N31: <0.005 | Q31: <0.005 | R31: <0.005 | S31: <0.005 | T31: 0.01 以下
C32: 総水銀 | D32: ㎎/L | H32: <0.0005 | N32: <0.0005 | Q32: <0.0005 | R32: <0.0005 | S32: <0.0005 | T32: 0.0005 以下
C33: アルキル水銀 | D33: ㎎/L
C34: P C B | D34: ㎎/L | H34: <0.0005 | Q34: <0.0005 | R34: <0.0005 | S34: <0.0005 | T34: 検出されないこと
C35: ジクロロメタン | D35: ㎎/L | T35: 0.02 以下
C36: 四塩化炭素 | D36: ㎎/L | T36: 0.002 以下
C37: 1,2-ジクロロエタン | D37: ㎎/L | T37: 0.004 以下
C38: 1,1-ジクロロエチレン | D38: ㎎/L | T38: 0.1 以下
C39: ｼｽ-1,2-ｼﾞｸﾛﾛｴﾁﾚﾝ | D39: ㎎/L | T39: 0.04 以下
C40: 1,1,1-ﾄﾘｸﾛﾛｴﾀﾝ | D40: ㎎/L | T40: 1 以下
C41: 1,1,2-ﾄﾘｸﾛﾛｴﾀﾝ | D41: ㎎/L | T41: 0.006 以下
C42: トリクロロエチレン | D42: ㎎/L | T42: 0.01 以下
C43: テトラクロロエチレン | D43: ㎎/L | T43: 0.01 以下
C44: 1,3-ジクロロプロペン | D44: ㎎/L | T44: 0.002 以下
C45: チウラム | D45: ㎎/L | T45: 0.006 以下
C46: シマジン | D46: ㎎/L | T46: 0.003 以下
... C49: セレン | D49: ㎎/L | T49: 0.01 以下
C50: 硝酸性窒素及び亜硝酸性窒素 | D50: ㎎/L | H50: 0.25 | Q50: 0.25 | R50: 0.25 | S50: 0.25 | T50: 10 以下
C51: ふっ素 | D51: ㎎/L | T51: ――
C52: ほう素 | D52: ㎎/L | T52: ――
C53: 1,4-ジオキサン | D53: ㎎/L | T53: 0.05 以下
C54: フェノール類 | D54: ㎎/L
B55: 特殊項目 | C55: 銅 | D55: ㎎/L | T55: ――
C56: 亜鉛 | D56: ㎎/L | T56: ――
C57: 鉄_溶解性 | D57: ㎎/L | T57: ――
C58: マンガン_溶解性 | D58: ㎎/L | T58: ――
C59: クロム | D59: ㎎/L | T59: ――
B60: 要監視項目 | C60: クロロホルム | D60: ㎎/L | T60: 0.06 以下
C61: トランス-1,2-ジクロロエチレン | D61: ㎎/L | T61: 0.04 以下
C62: 1,2-ジクロロプロパン | D62: ㎎/L | T62: 0.06 以下
C63: p-ジクロロベンゼン | D63: ㎎/L | T63: 0.2 以下
C64: イソキサチオン | D64: ㎎/L | T64: 0.008 以下
C65: ダイアジノン | D65: ㎎/L | T65: 0.005 以下
C66: フェニトロチオン | D66: ㎎/L | T66: 0.003 以下
C67: イソプロチオラン | D67: ㎎/L | T67: 0.04 以下
C68: オキシン銅 | D68: ㎎/L | T68: 0.04 以下
C69: クロロタロニル | D69: ㎎/L | T69: 0.05 以下
C70: プロピザミド | D70: ㎎/L | T70: 0.008 以下
C71: EPN | D71: ㎎/L | T71: 0.006 以下
C72: ジクロルボス | D72: ㎎/L | T72: 0.008 以下
... C85: ウラン | D85: ㎎/L | T85: 0.002 以下
C86: フェノール | D86: ㎎/L
C87: ホルムアルデヒド | D87: ㎎/L
B88: その他の項目 | C88: 塩素イオン | D88: ㎎/L | E88: 8480 | F88: 17300 | G88: 11600 | H88: 15600 | I88: 11500 | J88: 16100 | K88: 15000 | L88: 17100 | M88: 18000 | N88: 16500 | O88: 16700 | P88: 15800 | Q88: 15000 | R88: =MAX(E88:P88) -> 18000 | S88: =MIN(E88:P88) -> 8480 | T88: ――
C89: アンモニア態窒素 | D89: ㎎/L | T89: ――
C90: 亜硝酸性窒素 | D90: ㎎/L | T90: ――
C91: 硝酸性窒素 | D91: ㎎/L | T91: ――
C92: 有機態窒素 | D92: ㎎/L | T92: ――
C93: 燐酸態燐 | D93: ㎎/L | T93: ――
C94: クロロフィルa | D94: ㎎/ｍ３ | E94: <0.5 | G94: 51 | I94: 33 | K94: 16 | M94: 1.7 | O94: 2.5 | Q94: 17 | R94: =MAX(E94:P94) -> 51 | S94: <0.5 | T94: ――
C95: トリハロメタン生成能 | D95: ㎎/L | T95: ――
C96: クロロホルム生成能 | D96: ㎎/L | T96: ――
C97: ブロモジクロロメタン生成能 | D97: ㎎/L | T97: ――
C98: ジブロモクロロメタン生成能 | D98: ㎎/L | T98: ――
C99: ブロモホルム生成能 | D99: ㎎/L | T99: ――
C100: ふん便性大腸菌群数 | D100: 個/100mL | T100: ――
C101: 濁度 | D101: 度 | T101: ――
C102: メチレンブルー活性物質 | D102: ㎎/ｌ | T102: ――
C103: 電気伝導度 | D103: μS/㎝ | T103: ――
B104: 生活環境項目 | C104: 直鎖アルキルベンゼンスルホン酸及びその塩 | D104: ㎎/L | T104: 0.01 以下
C105: 4-t-オクチルフェノール | D105: ㎎/L
C106: アニリン | D106: ㎎/L
C107: 2,4-ジクロロフェノール | D107: ㎎/L
C108: ビスフェノールＡ | D108: ㎎/L
B109: 特記事項

Sheet 備讃瀬戸1底層
G1: 2025年度 | I1: 公共用水水質結果一覧表（備讃瀬戸1底層）
B3: 測定地点番号 | E3: 1 | T3: 環境基準 または 指針値
B4: 水系 | E4: 備讃瀬戸
B5: 測定地点名 | E5: 備讃瀬戸1底層
B6: 環境基準類型 | E6: 海域BⅣ、生物Ａ
B7: 採取年月日 | E7: 45761 | F7: 45791 | G7: 45833 | H7: 45847 | I7: 45876 | J7: 45908 | K7: 45938 | L7: 45966 | M7: 45995 | N7: 46041 | O7: 46056 | P7: 46099 | Q7: 平均 | R7: 最大 | S7: 最小
B8: 気温 | D8: ℃ | E8: 13.0 | F8: 22.6 | G8: 28.0 | H8: 31.0 | I8: 30.6 | J8: 31.5 | K8: 28.0 | L8: 17.7 | M8: 8.0 | N8: 11.2 | O8: 7.2 | P8: 11.3
B9: 水温 | D9: ℃ | E9: 12.1 | F9: 16.2 | G9: 20.3 | H9: 22.8 | I9: 27.2 | J9: 28.8 | K9: 26.3 | L9: 20.3 | M9: 15.1 | N9: 12.7 | O9: 9.9 | P9: 11.1
B10: 透視度 | D10: ㎝
B11: 測定項目
B12: 生活環境項目 | C12: p H | T12: 7.8～8.3
C13: D O | D13: ㎎/L | T13: 5 以上
C14: B O D | D14: ㎎/L | T14: ――
C15: C O D | D15: ㎎/L | T15: 3 以下
C16: S S | D16: ㎎/L | T16: ――
C17: 大腸菌数 | D17: CFU/100ｍL | T17: ――
C18: n-ヘキサン抽出物質 | D18: ㎎/L | T18: 検出されないこと
C19: 全窒素 | D19: ㎎/L | T19: 1 以下
C20: 全燐 | D20: ㎎/L | T20: 0.09 以下
C21: 全亜鉛 | D21: ㎎/L | T21: 0.02 以下
C22: ノニルフェノール | D22: ㎎/L | T22: 0.001 以下
B23: 要測定指標 | C23: 底層溶存酸素量 | D23: ㎎/L | E23: 7.2 | F23: 6.8 | G23: 3.7 | H23: 2.3 | I23: 2.8 | J23: 0.5 | K23: 4.9 | L23: 6.9 | M23: 7.5 | N23: 8.6 | O23: 9 | P23: 8.7 | Q23: =AVERAGE(E23:P23) -> 5.7416667 | R23: =MAX(E23:P23) -> 9 | S23: =MIN(E23:P23) -> 0.5 | T23: ――
C24: 透明度 | D24: m | E24: 2.1 | F24: 2.7 | G24: 1 | H24: 1.4 | I24: 0.5 | J24: 1.9 | K24: 1.9 | L24: 3.5 | M24: 2.5 | N24: 2.6 | O24: 4 | P24: 4 | Q24: =AVERAGE(E24:P24) -> 2.3416667 | R24: =MAX(E24:P24) -> 4 | S24: =MIN(E24:P24) -> 0.5 | T24: ――
B26: 補足測定項目 | C26: T O C | D26: ㎎/L | T26: ――
B27: 健康項目 | C27: カドミウム | D27: ㎎/L | T27: 0.003 以下
C28: 全シアン | D28: ㎎/L | T28: 検出されないこと
C29: 鉛 | D29: ㎎/L | T29: 0.01 以下
C30: 六価クロム | D30: ㎎/L | T30: 0.02 以下
C31: 砒素 | D31: ㎎/L | T31: 0.01 以下
C32: 総水銀 | D32: ㎎/L | T32: 0.0005 以下
C33: アルキル水銀 | D33: ㎎/L
C34: P C B | D34: ㎎/L | T34: 検出されないこと
C35: ジクロロメタン | D35: ㎎/L | T35: 0.02 以下
C36: 四塩化炭素 | D36: ㎎/L | T36: 0.002 以下
C37: 1,2-ジクロロエタン | D37: ㎎/L | T37: 0.004 以下
C38: 1,1-ジクロロエチレン | D38: ㎎/L | T38: 0.1 以下
C39: ｼｽ-1,2-ｼﾞｸﾛﾛｴﾁﾚﾝ | D39: ㎎/L | T39: 0.04 以下
C40: 1,1,1-ﾄﾘｸﾛﾛｴﾀﾝ | D40: ㎎/L | T40: 1 以下
C41: 1,1,2-ﾄﾘｸﾛﾛｴﾀﾝ | D41: ㎎/L | T41: 0.006 以下
C42: トリクロロエチレン | D42: ㎎/L | T42: 0.01 以下
C43: テトラクロロエチレン | D43: ㎎/L | T43: 0.01 以下
C44: 1,3-ジクロロプロペン | D44: ㎎/L | T44: 0.002 以下
C45: チウラム | D45: ㎎/L | T45: 0.006 以下
... C53: 1,4-ジオキサン | D53: ㎎/L | T53: 0.05 以下
C54: フェノール類 | D54: ㎎/L
B55: 特殊項目 | C55: 銅 | D55: ㎎/L | T55: ――
C56: 亜鉛 | D56: ㎎/L | T56: ――
C57: 鉄_溶解性 | D57: ㎎/L | T57: ――
C58: マンガン_溶解性 | D58: ㎎/L | T58: ――
C59: クロム | D59: ㎎/L | T59: ――
B60: 要監視項目 | C60: クロロホルム | D60: ㎎/L | T60: 0.06 以下
C61: トランス-1,2-ジクロロエチレン | D61: ㎎/L | T61: 0.04 以下
C62: 1,2-ジクロロプロパン | D62: ㎎/L | T62: 0.06 以下
C63: p-ジクロロベンゼン | D63: ㎎/L | T63: 0.2 以下
C64: イソキサチオン | D64: ㎎/L | T64: 0.008 以下
C65: ダイアジノン | D65: ㎎/L | T65: 0.005 以下
C66: フェニトロチオン | D66: ㎎/L | T66: 0.003 以下
C67: イソプロチオラン | D67: ㎎/L | T67: 0.04 以下
C68: オキシン銅 | D68: ㎎/L | T68: 0.04 以下
C69: クロロタロニル | D69: ㎎/L | T69: 0.05 以下
C70: プロピザミド | D70: ㎎/L | T70: 0.008 以下
C71: EPN | D71: ㎎/L | T71: 0.006 以下
C72: ジクロルボス | D72: ㎎/L | T72: 0.008 以下
... C85: ウラン | D85: ㎎/L | T85: 0.002 以下
C86: フェノール | D86: ㎎/L
C87: ホルムアルデヒド | D87: ㎎/L
B88: その他の項目 | C88: 塩素イオン | D88: ㎎/L | T88: ――
C89: アンモニア態窒素 | D89: ㎎/L | T89: ――
C90: 亜硝酸性窒素 | D90: ㎎/L | T90: ――
C91: 硝酸性窒素 | D91: ㎎/L | T91: ――
C92: 有機態窒素 | D92: ㎎/L | T92: ――
C93: 燐酸態燐 | D93: ㎎/L | T93: ――
C94: クロロフィルa | D94: ㎎/ｍ３ | T94: ――
C95: トリハロメタン生成能 | D95: ㎎/L | T95: ――
C96: クロロホルム生成能 | D96: ㎎/L | T96: ――
C97: ブロモジクロロメタン生成能 | D97: ㎎/L | T97: ――
C98: ジブロモクロロメタン生成能 | D98: ㎎/L | T98: ――
C99: ブロモホルム生成能 | D99: ㎎/L | T99: ――
C100: ふん便性大腸菌群数 | D100: 個/100mL | T100: ――
... C103: 電気伝導度 | D103: μS/㎝ | T103: ――
B104: 生活環境項目 | C104: 直鎖アルキルベンゼンスルホン酸及びその塩 | D104: ㎎/L | T104: 0.01 以下
C105: 4-t-オクチルフェノール | D105: ㎎/L
C106: アニリン | D106: ㎎/L
C107: 2,4-ジクロロフェノール | D107: ㎎/L
C108: ビスフェノールＡ | D108: ㎎/L
B109: 特記事項

Sheet 備讃瀬戸2上層
G1: 2025年度 | I1: 公共用水水質結果一覧表（備讃瀬戸2上層）
B3: 測定地点番号 | E3: 2 | T3: 環境基準 または 指針値
B4: 水系 | E4: 備讃瀬戸
B5: 測定地点名 | E5: 備讃瀬戸2上層
B6: 環境基準類型 | E6: 海域BⅣ、生物Ａ
B7: 採取年月日 | E7: 45761 | F7: 45791 | G7: 45833 | H7: 45847 | I7: 45876 | J7: 45908 | K7: 45938 | L7: 45966 | M7: 45995 | N7: 46041 | O7: 46056 | P7: 46099 | Q7: 平均 | R7: 最大 | S7: 最小
B8: 気温 | D8: ℃ | E8: 13.0 | F8: 20.4 | G8: 27.5 | H8: 31.0 | I8: 29.2 | J8: 30.5 | K8: 26.8 | L8: 17.0 | M8: 8.0 | N8: 10.8 | O8: 6.3 | P8: 10.8
B9: 水温 | D9: ℃ | E9: 13.3 | F9: 19.1 | G9: 26.7 | H9: 28.8 | I9: 29.1 | J9: 30.4 | K9: 27.4 | L9: 20.3 | M9: 15.1 | N9: 12.2 | O9: 10.3 | P9: 11.7
B10: 透視度 | D10: ㎝ | E10: >30 | F10: >30 | G10: >30 | H10: >30 | I10: >30 | J10: >30 | K10: >30 | L10: >30 | M10: >30 | N10: >30 | O10: >30 | P10: >30
B11: 測定項目
B12: 生活環境項目 | C12: p H | E12: 8 | F12: 8.1 | G12: 8.1 | H12: 8.2 | I12: 8 | J12: 8 | K12: 8.1 | L12: 8 | M12: 8.1 | N12: 8.1 | O12: 8.1 | P12: 8.1 | Q12: =AVERAGE(E12:P12) -> 8.075 | R12: =MAX(E12:P12) -> 8.2 | S12: =MIN(E12:P12) -> 8 | T12: 7.8～8.3
C13: D O | D13: ㎎/L | E13: 9.1 | F13: 10 | G13: 9.1 | H13: 10 | I13: 9 | J13: 6 | K13: 7.9 | L13: 7.2 | M13: 8.2 | N13: 10 | O13: 9.2 | P13: 9.7 | Q13: =AVERAGE(E13:P13) -> 8.7833333 | R13: =MAX(E13:P13) -> 10 | S13: =MIN(E13:P13) -> 6 | T13: 5 以上
C14: B O D | D14: ㎎/L | T14: ――
C15: C O D | D15: ㎎/L | E15: 2.4 | F15: 2.5 | G15: 4.7 | H15: 4.4 | I15: 4.5 | J15: 3.3 | K15: 2.9 | L15: 2 | M15: 1.4 | N15: 1.9 | O15: 1.3 | P15: 1.8 | Q15: =AVERAGE(E15:P15) -> 2.7583333 | R15: =MAX(E15:P15) -> 4.7 | S15: =MIN(E15:P15) -> 1.3 | T15: 3 以下
C16: S S | D16: ㎎/L | E16: 2 | F16: 2 | G16: 4 | H16: 3 | I16: 6 | J16: 4 | K16: 2 | L16: 3 | M16: 6 | N16: 4 | O16: 2 | P16: 3 | Q16: =AVERAGE(E16:P16) -> 3.4166667 | R16: =MAX(E16:P16) -> 6 | S16: =MIN(E16:P16) -> 2 | T16: ――
C17: 大腸菌数 | D17: CFU/100ｍL | E17: 3 | F17: 1 | G17: 35 | H17: 8 | I17: 21 | J17: 2 | K17: 3 | L17: 3 | M17: 2 | N17: 2 | O17: 1 | P17: <1 | Q17: =AVERAGE(E17:P17) -> 7.3636364 | R17: =MAX(E17:P17) -> 35 | S17: <1 | T17: ――
C18: n-ヘキサン抽出物質 | D18: ㎎/L | E18: <0.5 | F18: <0.5 | G18: <0.5 | H18: <0.5 | I18: <0.5 | J18: <0.5 | K18: <0.5 | L18: <0.5 | M18: <0.5 | N18: <0.5 | O18: <0.5 | P18: <0.5 | Q18: <0.5 | R18: <0.5 | S18: <0.5 | T18: 検出されないこと
C19: 全窒素 | D19: ㎎/L | E19: 1.8 | F19: 1.1 | G19: 2.8 | H19: 1.4 | I19: 1.9 | J19: 2 | K19: 2.4 | L19: 1.3 | M19: 0.72 | N19: 1.2 | O19: 0.54 | P19: 1 | Q19: =AVERAGE(E19:P19) -> 1.5133333 | R19: =MAX(E19:P19) -> 2.8 | S19: =MIN(E19:P19) -> 0.54 | T19: 1 以下
C20: 全燐 | D20: ㎎/L | E20: 0.11 | F20: 0.059 | G20: 0.1 | H20: 0.057 | I20: 0.1 | J20: 0.14 | K20: 0.12 | L20: 0.086 | M20: 0.042 | N20: 0.045 | O20: 0.039 | P20: 0.057 | Q20: =AVERAGE(E20:P20) -> 0.079583333 | R20: =MAX(E20:P20) -> 0.14 | S20: =MIN(E20:P20) -> 0.039 | T20: 0.09 以下
C21: 全亜鉛 | D21: ㎎/L | T21: 0.02 以下
C22: ノニルフェノール | D22: ㎎/L | T22: 0.001 以下
B23: 要測定指標 | C23: 底層溶存酸素量 | D23: ㎎/L | T23: ――
C24: 透明度 | D24: m | E24: 3.2 | F24: 3 | G24: 1.5 | H24: 1.6 | I24: 0.9 | J24: 2 | K24: 1.7 | L24: 3.5 | M24: 2.9 | N24: 4.1 | O24: 6 | P24: 7 | Q24: =AVERAGE(E24:P24) -> 3.1166667 | R24: =MAX(E24:P24) -> 7 | S24: =MIN(E24:P24) -> 0.9 | T24: ――
B26: 補足測定項目 | C26: T O C | D26: ㎎/L | E26: 2.1 | H26: 2.9 | K26: 2.1 | N26: 1.6 | Q26: =AVERAGE(E26:P26) -> 2.175 | R26: =MAX(E26:P26) -> 2.9 | S26: =MIN(E26:P26) -> 1.6 | T26: ――
B27: 健康項目 | C27: カドミウム | D27: ㎎/L | H27: <0.0003 | N27: <0.0003 | Q27: <0.0003 | R27: <0.0003 | S27: <0.0003 | T27: 0.003 以下
C28: 全シアン | D28: ㎎/L | H28: <0.1 | N28: <0.1 | Q28: <0.1 | R28: <0.1 | S28: <0.1 | T28: 検出されないこと
C29: 鉛 | D29: ㎎/L | H29: <0.005 | N29: <0.005 | Q29: <0.005 | R29: <0.005 | S29: <0.005 | T29: 0.01 以下
C30: 六価クロム | D30: ㎎/L | H30: <0.01 | N30: <0.01 | Q30: <0.01 | R30: <0.01 | S30: <0.01 | T30: 0.02 以下
C31: 砒素 | D31: ㎎/L | H31: <0.005 | N31: <0.005 | Q31: <0.005 | R31: <0.005 | S31: <0.005 | T31: 0.01 以下
C32: 総水銀 | D32: ㎎/L | H32: <0.0005 | N32: <0.0005 | Q32: <0.0005 | R32: <0.0005 | S32: <0.0005 | T32: 0.0005 以下
C33: アルキル水銀 | D33: ㎎/L
C34: P C B | D34: ㎎/L | H34: <0.0005 | Q34: <0.0005 | R34: <0.0005 | S34: <0.0005 | T34: 検出されないこと
C35: ジクロロメタン | D35: ㎎/L | T35: 0.02 以下
C36: 四塩化炭素 | D36: ㎎/L | T36: 0.002 以下
C37: 1,2-ジクロロエタン | D37: ㎎/L | T37: 0.004 以下
C38: 1,1-ジクロロエチレン | D38: ㎎/L | T38: 0.1 以下
C39: ｼｽ-1,2-ｼﾞｸﾛﾛｴﾁﾚﾝ | D39: ㎎/L | T39: 0.04 以下
C40: 1,1,1-ﾄﾘｸﾛﾛｴﾀﾝ | D40: ㎎/L | T40: 1 以下
C41: 1,1,2-ﾄﾘｸﾛﾛｴﾀﾝ | D41: ㎎/L | T41: 0.006 以下
C42: トリクロロエチレン | D42: ㎎/L | T42: 0.01 以下
C43: テトラクロロエチレン | D43: ㎎/L | T43: 0.01 以下
C44: 1,3-ジクロロプロペン | D44: ㎎/L | T44: 0.002 以下
C45: チウラム | D45: ㎎/L | T45: 0.006 以下
C46: シマジン | D46: ㎎/L | T46: 0.003 以下
... C49: セレン | D49: ㎎/L | T49: 0.01 以下
C50: 硝酸性窒素及び亜硝酸性窒素 | D50: ㎎/L | H50: 0.2 | Q50: 0.2 | R50: 0.2 | S50: 0.2 | T50: 10 以下
C51: ふっ素 | D51: ㎎/L | T51: ――
C52: ほう素 | D52: ㎎/L | T52: ――
C53: 1,4-ジオキサン | D53: ㎎/L | T53: 0.05 以下
C54: フェノール類 | D54: ㎎/L
B55: 特殊項目 | C55: 銅 | D55: ㎎/L | T55: ――
C56: 亜鉛 | D56: ㎎/L | T56: ――
C57: 鉄_溶解性 | D57: ㎎/L | T57: ――
C58: マンガン_溶解性 | D58: ㎎/L | T58: ――
C59: クロム | D59: ㎎/L | T59: ――
B60: 要監視項目 | C60: クロロホルム | D60: ㎎/L | T60: 0.06 以下
C61: トランス-1,2-ジクロロエチレン | D61: ㎎/L | T61: 0.04 以下
C62: 1,2-ジクロロプロパン | D62: ㎎/L | T62: 0.06 以下
C63: p-ジクロロベンゼン | D63: ㎎/L | T63: 0.2 以下
C64: イソキサチオン | D64: ㎎/L | T64: 0.008 以下
C65: ダイアジノン | D65: ㎎/L | T65: 0.005 以下
C66: フェニトロチオン | D66: ㎎/L | T66: 0.003 以下
C67: イソプロチオラン | D67: ㎎/L | T67: 0.04 以下
C68: オキシン銅 | D68: ㎎/L | T68: 0.04 以下
C69: クロロタロニル | D69: ㎎/L | T69: 0.05 以下
C70: プロピザミド | D70: ㎎/L | T70: 0.008 以下
C71: EPN | D71: ㎎/L | T71: 0.006 以下
C72: ジクロルボス | D72: ㎎/L | T72: 0.008 以下
... C85: ウラン | D85: ㎎/L | T85: 0.002 以下
C86: フェノール | D86: ㎎/L
C87: ホルムアルデヒド | D87: ㎎/L
B88: その他の項目 | C88: 塩素イオン | D88: ㎎/L | E88: 16700 | F88: 17100 | G88: 13400 | H88: 16000 | I88: 14800 | J88: 15400 | K88: 14800 | L88: 16600 | M88: 17500 | N88: 16800 | O88: 18600 | P88: 16200 | Q88: 16200 | R88: =MAX(E88:P88) -> 18600 | S88: =MIN(E88:P88) -> 13400 | T88: ――
C89: アンモニア態窒素 | D89: ㎎/L | T89: ――
C90: 亜硝酸性窒素 | D90: ㎎/L | T90: ――
C91: 硝酸性窒素 | D91: ㎎/L | T91: ――
C92: 有機態窒素 | D92: ㎎/L | T92: ――
C93: 燐酸態燐 | D93: ㎎/L | T93: ――
C94: クロロフィルa | D94: ㎎/ｍ３ | E94: <0.5 | G94: 35 | I94: 45 | K94: 7.1 | M94: 1.1 | O94: 2.8 | Q94: 15 | R94: =MAX(E94:P94) -> 45 | S94: <0.5 | T94: ――
C95: トリハロメタン生成能 | D95: ㎎/L | T95: ――
C96: クロロホルム生成能 | D96: ㎎/L | T96: ――
C97: ブロモジクロロメタン生成能 | D97: ㎎/L | T97: ――
C98: ジブロモクロロメタン生成能 | D98: ㎎/L | T98: ――
C99: ブロモホルム生成能 | D99: ㎎/L | T99: ――
C100: ふん便性大腸菌群数 | D100: 個/100mL | T100: ――
C101: 濁度 | D101: 度 | T101: ――
C102: メチレンブルー活性物質 | D102: ㎎/ｌ | T102: ――
C103: 電気伝導度 | D103: μS/㎝ | T103: ――
B104: 生活環境項目 | C104: 直鎖アルキルベンゼンスルホン酸及びその塩 | D104: ㎎/L | T104: 0.01 以下
C105: 4-t-オクチルフェノール | D105: ㎎/L
C106: アニリン | D106: ㎎/L
C107: 2,4-ジクロロフェノール | D107: ㎎/L
C108: ビスフェノールＡ | D108: ㎎/L
B109: 特記事項

Sheet 備讃瀬戸2中層
G1: 2025年度 | I1: 公共用水水質結果一覧表（備讃瀬戸2中層）
B3: 測定地点番号 | E3: 2 | T3: 環境基準 または 指針値
B4: 水系 | E4: 備讃瀬戸
B5: 測定地点名 | E5: 備讃瀬戸2中層
B6: 環境基準類型 | E6: 海域BⅣ、生物Ａ
B7: 採取年月日 | E7: 45761 | F7: 45791 | G7: 45833 | H7: 45847 | I7: 45876 | J7: 45908 | K7: 45938 | L7: 45966 | M7: 45995 | N7: 46041 | O7: 46056 | P7: 46099 | Q7: 平均 | R7: 最大 | S7: 最小
B8: 気温 | D8: ℃ | E8: 13.0 | F8: 20.4 | G8: 27.5 | H8: 31.0 | I8: 29.2 | J8: 30.5 | K8: 26.8 | L8: 17.0 | M8: 8.0 | N8: 10.8 | O8: 6.3 | P8: 10.8
B9: 水温 | D9: ℃ | E9: 13.2 | F9: 18.9 | G9: 23.9 | H9: 27.4 | I9: 28.7 | J9: 30.1 | K9: 27.0 | L9: 20.1 | M9: 15.2 | N9: 12.0 | O9: 10.1 | P9: 11.2
B10: 透視度 | D10: ㎝ | E10: >30 | F10: >30 | G10: >30 | H10: >30 | I10: >30 | J10: >30 | K10: >30 | L10: >30 | M10: >30 | N10: >30 | O10: >30 | P10: >30
B11: 測定項目
B12: 生活環境項目 | C12: p H | E12: 8 | F12: 8.1 | G12: 8.1 | H12: 8.2 | I12: 8 | J12: 8.1 | K12: 8.1 | L12: 8 | M12: 8.1 | N12: 8.1 | O12: 8.1 | P12: 8.1 | Q12: =AVERAGE(E12:P12) -> 8.0833333 | R12: =MAX(E12:P12) -> 8.2 | S12: =MIN(E12:P12) -> 8 | T12: 7.8～8.3
C13: D O | D13: ㎎/L | E13: 9 | F13: 9.7 | G13: 9.8 | H13: 10 | I13: 6.3 | J13: 6.9 | K13: 8.1 | L13: 7.3 | M13: 7.9 | N13: 9.9 | O13: 8.8 | P13: 9.4 | Q13: =AVERAGE(E13:P13) -> 8.5916667 | R13: =MAX(E13:P13) -> 10 | S13: =MIN(E13:P13) -> 6.3 | T13: 5 以上
C14: B O D | D14: ㎎/L | T14: ――
C15: C O D | D15: ㎎/L | E15: 1.7 | F15: 2 | G15: 3.9 | H15: 4.3 | I15: 3.7 | J15: 2.5 | K15: 2.6 | L15: 1.8 | M15: 1.4 | N15: 1.7 | O15: 1.4 | P15: 1.8 | Q15: =AVERAGE(E15:P15) -> 2.4 | R15: =MAX(E15:P15) -> 4.3 | S15: =MIN(E15:P15) -> 1.4 | T15: 3 以下
C16: S S | D16: ㎎/L | E16: 4 | F16: 2 | G16: 6 | H16: 3 | I16: 5 | J16: 3 | K16: 4 | L16: 5 | M16: 6 | N16: 2 | O16: 2 | P16: 2 | Q16: =AVERAGE(E16:P16) -> 3.6666667 | R16: =MAX(E16:P16) -> 6 | S16: =MIN(E16:P16) -> 2 | T16: ――
C17: 大腸菌数 | D17: CFU/100ｍL | T17: ――
C18: n-ヘキサン抽出物質 | D18: ㎎/L | T18: 検出されないこと
C19: 全窒素 | D19: ㎎/L | E19: 0.44 | F19: 0.51 | G19: 0.57 | H19: 0.66 | I19: 1.2 | J19: 0.44 | K19: 1.6 | L19: 0.74 | M19: 0.53 | N19: 0.59 | O19: 0.51 | P19: 0.89 | Q19: =AVERAGE(E19:P19) -> 0.72333333 | R19: =MAX(E19:P19) -> 1.6 | S19: =MIN(E19:P19) -> 0.44 | T19: 1 以下
C20: 全燐 | D20: ㎎/L | E20: 0.025 | F20: 0.028 | G20: 0.06 | H20: 0.037 | I20: 0.082 | J20: 0.052 | K20: 0.091 | L20: 0.034 | M20: 0.038 | N20: 0.025 | O20: 0.036 | P20: 0.035 | Q20: =AVERAGE(E20:P20) -> 0.04525 | R20: =MAX(E20:P20) -> 0.091 | S20: =MIN(E20:P20) -> 0.025 | T20: 0.09 以下
C21: 全亜鉛 | D21: ㎎/L | T21: 0.02 以下
C22: ノニルフェノール | D22: ㎎/L | T22: 0.001 以下
B23: 要測定指標 | C23: 底層溶存酸素量 | D23: ㎎/L | T23: ――
C24: 透明度 | D24: m | E24: 3.2 | F24: 3 | G24: 1.5 | H24: 1.6 | I24: 0.9 | J24: 2 | K24: 1.7 | L24: 3.5 | M24: 2.9 | N24: 4.1 | O24: 6 | P24: 7 | Q24: =AVERAGE(E24:P24) -> 3.1166667 | R24: =MAX(E24:P24) -> 7 | S24: =MIN(E24:P24) -> 0.9 | T24: ――
B26: 補足測定項目 | C26: T O C | D26: ㎎/L | T26: ――
B27: 健康項目 | C27: カドミウム | D27: ㎎/L | T27: 0.003 以下
C28: 全シアン | D28: ㎎/L | T28: 検出されないこと
C29: 鉛 | D29: ㎎/L | T29: 0.01 以下
C30: 六価クロム | D30: ㎎/L | T30: 0.02 以下
C31: 砒素 | D31: ㎎/L | T31: 0.01 以下
C32: 総水銀 | D32: ㎎/L | T32: 0.0005 以下
C33: アルキル水銀 | D33: ㎎/L
C34: P C B | D34: ㎎/L | T34: 検出されないこと
C35: ジクロロメタン | D35: ㎎/L | T35: 0.02 以下
C36: 四塩化炭素 | D36: ㎎/L | T36: 0.002 以下
C37: 1,2-ジクロロエタン | D37: ㎎/L | T37: 0.004 以下
C38: 1,1-ジクロロエチレン | D38: ㎎/L | T38: 0.1 以下
C39: ｼｽ-1,2-ｼﾞｸﾛﾛｴﾁﾚﾝ | D39: ㎎/L | T39: 0.04 以下
C40: 1,1,1-ﾄﾘｸﾛﾛｴﾀﾝ | D40: ㎎/L | T40: 1 以下
C41: 1,1,2-ﾄﾘｸﾛﾛｴﾀﾝ | D41: ㎎/L | T41: 0.006 以下
C42: トリクロロエチレン | D42: ㎎/L | T42: 0.01 以下
C43: テトラクロロエチレン | D43: ㎎/L | T43: 0.01 以下
C44: 1,3-ジクロロプロペン | D44: ㎎/L | T44: 0.002 以下
C45: チウラム | D45: ㎎/L | T45: 0.006 以下
... C53: 1,4-ジオキサン | D53: ㎎/L | T53: 0.05 以下
C54: フェノール類 | D54: ㎎/L
B55: 特殊項目 | C55: 銅 | D55: ㎎/L | T55: ――
C56: 亜鉛 | D56: ㎎/L | T56: ――
C57: 鉄_溶解性 | D57: ㎎/L | T57: ――
C58: マンガン_溶解性 | D58: ㎎/L | T58: ――
C59: クロム | D59: ㎎/L | T59: ――
B60: 要監視項目 | C60: クロロホルム | D60: ㎎/L | T60: 0.06 以下
C61: トランス-1,2-ジクロロエチレン | D61: ㎎/L | T61: 0.04 以下
C62: 1,2-ジクロロプロパン | D62: ㎎/L | T62: 0.06 以下
C63: p-ジクロロベンゼン | D63: ㎎/L | T63: 0.2 以下
C64: イソキサチオン | D64: ㎎/L | T64: 0.008 以下
C65: ダイアジノン | D65: ㎎/L | T65: 0.005 以下
C66: フェニトロチオン | D66: ㎎/L | T66: 0.003 以下
C67: イソプロチオラン | D67: ㎎/L | T67: 0.04 以下
C68: オキシン銅 | D68: ㎎/L | T68: 0.04 以下
C69: クロロタロニル | D69: ㎎/L | T69: 0.05 以下
C70: プロピザミド | D70: ㎎/L | T70: 0.008 以下
C71: EPN | D71: ㎎/L | T71: 0.006 以下
C72: ジクロルボス | D72: ㎎/L | T72: 0.008 以下
... C85: ウラン | D85: ㎎/L | T85: 0.002 以下
C86: フェノール | D86: ㎎/L
C87: ホルムアルデヒド | D87: ㎎/L
B88: その他の項目 | C88: 塩素イオン | D88: ㎎/L | T88: ――
C89: アンモニア態窒素 | D89: ㎎/L | T89: ――
C90: 亜硝酸性窒素 | D90: ㎎/L | T90: ――
C91: 硝酸性窒素 | D91: ㎎/L | T91: ――
C92: 有機態窒素 | D92: ㎎/L | T92: ――
C93: 燐酸態燐 | D93: ㎎/L | T93: ――
C94: クロロフィルa | D94: ㎎/ｍ３ | T94: ――
C95: トリハロメタン生成能 | D95: ㎎/L | T95: ――
C96: クロロホルム生成能 | D96: ㎎/L | T96: ――
C97: ブロモジクロロメタン生成能 | D97: ㎎/L | T97: ――
C98: ジブロモクロロメタン生成能 | D98: ㎎/L | T98: ――
C99: ブロモホルム生成能 | D99: ㎎/L | T99: ――
C100: ふん便性大腸菌群数 | D100: 個/100mL | T100: ――
... C103: 電気伝導度 | D103: μS/㎝ | T103: ――
B104: 生活環境項目 | C104: 直鎖アルキルベンゼンスルホン酸及びその塩 | D104: ㎎/L | T104: 0.01 以下
C105: 4-t-オクチルフェノール | D105: ㎎/L
C106: アニリン | D106: ㎎/L
C107: 2,4-ジクロロフェノール | D107: ㎎/L
C108: ビスフェノールＡ | D108: ㎎/L
B109: 特記事項

Sheet 備讃瀬戸2下層
G1: 2025年度 | I1: 公共用水水質結果一覧表（備讃瀬戸2下層）
B3: 測定地点番号 | E3: 2 | T3: 環境基準 または 指針値
B4: 水系 | E4: 備讃瀬戸
B5: 測定地点名 | E5: 備讃瀬戸2下層
B6: 環境基準類型 | E6: 海域BⅣ、生物Ａ
B7: 採取年月日 | E7: 45761 | F7: 45791 | G7: 45833 | H7: 45847 | I7: 45876 | J7: 45908 | K7: 45938 | L7: 45966 | M7: 45995 | N7: 46041 | O7: 46056 | P7: 46099 | Q7: 平均 | R7: 最大 | S7: 最小
B8: 気温 | D8: ℃ | E8: 13.0 | F8: 20.4 | G8: 27.5 | H8: 31.0 | I8: 29.2 | J8: 30.5 | K8: 26.8 | L8: 17.0 | M8: 8.0 | N8: 10.8 | O8: 6.3 | P8: 10.8
B9: 水温 | D9: ℃ | E9: 12.7 | F9: 16.4 | G9: 21.7 | H9: 24.8 | I9: 27.3 | J9: 29.3 | K9: 26.6 | L9: 20.1 | M9: 15.5 | N9: 12.1 | O9: 9.7 | P9: 11.3
B10: 透視度 | D10: ㎝ | E10: >30 | F10: >30 | G10: >30 | H10: >30 | I10: >30 | J10: >30 | K10: >30 | L10: >30 | M10: >30 | N10: >30 | O10: >30 | P10: >30
B11: 測定項目
B12: 生活環境項目 | C12: p H | E12: 8 | F12: 8 | G12: 8 | H12: 7.9 | I12: 7.8 | J12: 7.9 | K12: 8 | L12: 8.1 | M12: 8.1 | N12: 8.1 | O12: 8.1 | P12: 8.1 | Q12: =AVERAGE(E12:P12) -> 8.0083333 | R12: =MAX(E12:P12) -> 8.1 | S12: =MIN(E12:P12) -> 7.8 | T12: 7.8～8.3
C13: D O | D13: ㎎/L | T13: 5 以上
C14: B O D | D14: ㎎/L | T14: ――
C15: C O D | D15: ㎎/L | E15: 1.5 | F15: 1.3 | G15: 1.5 | H15: 2.1 | I15: 1.4 | J15: 1.6 | K15: 1.4 | L15: 1.4 | M15: 1.2 | N15: 1.4 | O15: 1.2 | P15: 1.7 | Q15: =AVERAGE(E15:P15) -> 1.475 | R15: =MAX(E15:P15) -> 2.1 | S15: =MIN(E15:P15) -> 1.2 | T15: 3 以下
C16: S S | D16: ㎎/L | E16: 5 | F16: 2 | G16: 1 | H16: 2 | I16: 2 | J16: 4 | K16: 2 | L16: 4 | M16: 5 | N16: 5 | O16: 3 | P16: 2 | Q16: =AVERAGE(E16:P16) -> 3.0833333 | R16: =MAX(E16:P16) -> 5 | S16: =MIN(E16:P16) -> 1 | T16: ――
C17: 大腸菌数 | D17: CFU/100ｍL | T17: ――
C18: n-ヘキサン抽出物質 | D18: ㎎/L | T18: 検出されないこと
C19: 全窒素 | D19: ㎎/L | E19: 0.23 | F19: 0.16 | G19: 0.18 | H19: 0.21 | I19: 0.23 | J19: 0.2 | K19: 0.23 | L19: 0.21 | M19: 0.28 | N19: 0.13 | O19: 0.54 | P19: 0.18 | Q19: =AVERAGE(E19:P19) -> 0.23166667 | R19: =MAX(E19:P19) -> 0.54 | S19: =MIN(E19:P19) -> 0.13 | T19: 1 以下
C20: 全燐 | D20: ㎎/L | E20: 0.027 | F20: 0.021 | G20: 0.026 | H20: 0.03 | I20: 0.059 | J20: 0.05 | K20: 0.034 | L20: 0.027 | M20: 0.03 | N20: 0.019 | O20: 0.036 | P20: 0.026 | Q20: =AVERAGE(E20:P20) -> 0.032083333 | R20: =MAX(E20:P20) -> 0.059 | S20: =MIN(E20:P20) -> 0.019 | T20: 0.09 以下
C21: 全亜鉛 | D21: ㎎/L | T21: 0.02 以下
C22: ノニルフェノール | D22: ㎎/L | T22: 0.001 以下
B23: 要測定指標 | C23: 底層溶存酸素量 | D23: ㎎/L | T23: ――
C24: 透明度 | D24: m | E24: 3.2 | F24: 3 | G24: 1.5 | H24: 1.6 | I24: 0.9 | J24: 2 | K24: 1.7 | L24: 3.5 | M24: 2.9 | N24: 4.1 | O24: 6 | P24: 7 | Q24: =AVERAGE(E24:P24) -> 3.1166667 | R24: =MAX(E24:P24) -> 7 | S24: =MIN(E24:P24) -> 0.9 | T24: ――
B26: 補足測定項目 | C26: T O C | D26: ㎎/L | T26: ――
B27: 健康項目 | C27: カドミウム | D27: ㎎/L | T27: 0.003 以下
C28: 全シアン | D28: ㎎/L | T28: 検出されないこと
C29: 鉛 | D29: ㎎/L | T29: 0.01 以下
C30: 六価クロム | D30: ㎎/L | T30: 0.02 以下
C31: 砒素 | D31: ㎎/L | T31: 0.01 以下
C32: 総水銀 | D32: ㎎/L | T32: 0.0005 以下
C33: アルキル水銀 | D33: ㎎/L
C34: P C B | D34: ㎎/L | T34: 検出されないこと
C35: ジクロロメタン | D35: ㎎/L | T35: 0.02 以下
C36: 四塩化炭素 | D36: ㎎/L | T36: 0.002 以下
C37: 1,2-ジクロロエタン | D37: ㎎/L | T37: 0.004 以下
C38: 1,1-ジクロロエチレン | D38: ㎎/L | T38: 0.1 以下
C39: ｼｽ-1,2-ｼﾞｸﾛﾛｴﾁﾚﾝ | D39: ㎎/L | T39: 0.04 以下
C40: 1,1,1-ﾄﾘｸﾛﾛｴﾀﾝ | D40: ㎎/L | T40: 1 以下
C41: 1,1,2-ﾄﾘｸﾛﾛｴﾀﾝ | D41: ㎎/L | T41: 0.006 以下
C42: トリクロロエチレン | D42: ㎎/L | T42: 0.01 以下
C43: テトラクロロエチレン | D43: ㎎/L | T43: 0.01 以下
C44: 1,3-ジクロロプロペン | D44: ㎎/L | T44: 0.002 以下
C45: チウラム | D45: ㎎/L | T45: 0.006 以下
... C53: 1,4-ジオキサン | D53: ㎎/L | T53: 0.05 以下
C54: フェノール類 | D54: ㎎/L
B55: 特殊項目 | C55: 銅 | D55: ㎎/L | T55: ――
C56: 亜鉛 | D56: ㎎/L | T56: ――
C57: 鉄_溶解性 | D57: ㎎/L | T57: ――
C58: マンガン_溶解性 | D58: ㎎/L | T58: ――
C59: クロム | D59: ㎎/L | T59: ――
B60: 要監視項目 | C60: クロロホルム | D60: ㎎/L | T60: 0.06 以下
C61: トランス-1,2-ジクロロエチレン | D61: ㎎/L | T61: 0.04 以下
C62: 1,2-ジクロロプロパン | D62: ㎎/L | T62: 0.06 以下
C63: p-ジクロロベンゼン | D63: ㎎/L | T63: 0.2 以下
C64: イソキサチオン | D64: ㎎/L | T64: 0.008 以下
C65: ダイアジノン | D65: ㎎/L | T65: 0.005 以下
C66: フェニトロチオン | D66: ㎎/L | T66: 0.003 以下
C67: イソプロチオラン | D67: ㎎/L | T67: 0.04 以下
C68: オキシン銅 | D68: ㎎/L | T68: 0.04 以下
C69: クロロタロニル | D69: ㎎/L | T69: 0.05 以下
C70: プロピザミド | D70: ㎎/L | T70: 0.008 以下
C71: EPN | D71: ㎎/L | T71: 0.006 以下
C72: ジクロルボス | D72: ㎎/L | T72: 0.008 以下
... C85: ウラン | D85: ㎎/L | T85: 0.002 以下
C86: フェノール | D86: ㎎/L
C87: ホルムアルデヒド | D87: ㎎/L
B88: その他の項目 | C88: 塩素イオン | D88: ㎎/L | T88: ――
C89: アンモニア態窒素 | D89: ㎎/L | T89: ――
C90: 亜硝酸性窒素 | D90: ㎎/L | T90: ――
C91: 硝酸性窒素 | D91: ㎎/L | T91: ――
C92: 有機態窒素 | D92: ㎎/L | T92: ――
C93: 燐酸態燐 | D93: ㎎/L | T93: ――
C94: クロロフィルa | D94: ㎎/ｍ３ | T94: ――
C95: トリハロメタン生成能 | D95: ㎎/L | T95: ――
C96: クロロホルム生成能 | D96: ㎎/L | T96: ――
C97: ブロモジクロロメタン生成能 | D97: ㎎/L | T97: ――
C98: ジブロモクロロメタン生成能 | D98: ㎎/L | T98: ――
C99: ブロモホルム生成能 | D99: ㎎/L | T99: ――
C100: ふん便性大腸菌群数 | D100: 個/100mL | T100: ――
... C103: 電気伝導度 | D103: μS/㎝ | T103: ――
B104: 生活環境項目 | C104: 直鎖アルキルベンゼンスルホン酸及びその塩 | D104: ㎎/L | T104: 0.01 以下
C105: 4-t-オクチルフェノール | D105: ㎎/L
C106: アニリン | D106: ㎎/L
C107: 2,4-ジクロロフェノール | D107: ㎎/L
C108: ビスフェノールＡ | D108: ㎎/L
B109: 特記事項

Sheet 備讃瀬戸2底層
G1: 2025年度 | I1: 公共用水水質結果一覧表（備讃瀬戸2底層）
B3: 測定地点番号 | E3: 2 | T3: 環境基準 または 指針値
B4: 水系 | E4: 備讃瀬戸
B5: 測定地点名 | E5: 備讃瀬戸2底層
B6: 環境基準類型 | E6: 海域BⅣ、生物Ａ
B7: 採取年月日 | E7: 45761 | F7: 45791 | G7: 45833 | H7: 45847 | I7: 45876 | J7: 45908 | K7: 45938 | L7: 45966 | M7: 45995 | N7: 46041 | O7: 46056 | P7: 46099 | Q7: 平均 | R7: 最大 | S7: 最小
B8: 気温 | D8: ℃ | E8: 13.0 | F8: 20.4 | G8: 27.5 | H8: 31.0 | I8: 29.2 | J8: 30.5 | K8: 26.8 | L8: 17.0 | M8: 8.0 | N8: 10.8 | O8: 6.3 | P8: 10.8
B9: 水温 | D9: ℃ | E9: 12.4 | F9: 16.1 | G9: 20.2 | H9: 21.8 | I9: 26.6 | J9: 28.9 | K9: 26.6 | L9: 20.4 | M9: 15.2 | N9: 11.8 | O9: 9.8 | P9: 11.1
B10: 透視度 | D10: ㎝
B11: 測定項目
B12: 生活環境項目 | C12: p H | T12: 7.8～8.3
C13: D O | D13: ㎎/L | T13: 5 以上
C14: B O D | D14: ㎎/L | T14: ――
C15: C O D | D15: ㎎/L | T15: 3 以下
C16: S S | D16: ㎎/L | T16: ――
C17: 大腸菌数 | D17: CFU/100ｍL | T17: ――
C18: n-ヘキサン抽出物質 | D18: ㎎/L | T18: 検出されないこと
C19: 全窒素 | D19: ㎎/L | T19: 1 以下
C20: 全燐 | D20: ㎎/L | T20: 0.09 以下
C21: 全亜鉛 | D21: ㎎/L | T21: 0.02 以下
C22: ノニルフェノール | D22: ㎎/L | T22: 0.001 以下
B23: 要測定指標 | C23: 底層溶存酸素量 | D23: ㎎/L | E23: 8.3 | F23: 7 | G23: 4 | H23: 2.3 | I23: 2.4 | J23: 2.2 | K23: 5.5 | L23: 7.4 | M23: 8.3 | N23: 9.5 | O23: 9.5 | P23: 9.4 | Q23: =AVERAGE(E23:P23) -> 6.3166667 | R23: =MAX(E23:P23) -> 9.5 | S23: =MIN(E23:P23) -> 2.2 | T23: ――
C24: 透明度 | D24: m | E24: 3.2 | F24: 3 | G24: 1.5 | H24: 1.6 | I24: 0.9 | J24: 2 | K24: 1.7 | L24: 3.5 | M24: 2.9 | N24: 4.1 | O24: 6 | P24: 7 | Q24: =AVERAGE(E24:P24) -> 3.1166667 | R24: =MAX(E24:P24) -> 7 | S24: =MIN(E24:P24) -> 0.9 | T24: ――
B26: 補足測定項目 | C26: T O C | D26: ㎎/L | T26: ――
B27: 健康項目 | C27: カドミウム | D27: ㎎/L | T27: 0.003 以下
C28: 全シアン | D28: ㎎/L | T28: 検出されないこと
C29: 鉛 | D29: ㎎/L | T29: 0.01 以下
C30: 六価クロム | D30: ㎎/L | T30: 0.02 以下
C31: 砒素 | D31: ㎎/L | T31: 0.01 以下
C32: 総水銀 | D32: ㎎/L | T32: 0.0005 以下
C33: アルキル水銀 | D33: ㎎/L
C34: P C B | D34: ㎎/L | T34: 検出されないこと
C35: ジクロロメタン | D35: ㎎/L | T35: 0.02 以下
C36: 四塩化炭素 | D36: ㎎/L | T36: 0.002 以下
C37: 1,2-ジクロロエタン | D37: ㎎/L | T37: 0.004 以下
C38: 1,1-ジクロロエチレン | D38: ㎎/L | T38: 0.1 以下
C39: ｼｽ-1,2-ｼﾞｸﾛﾛｴﾁﾚﾝ | D39: ㎎/L | T39: 0.04 以下
C40: 1,1,1-ﾄﾘｸﾛﾛｴﾀﾝ | D40: ㎎/L | T40: 1 以下
C41: 1,1,2-ﾄﾘｸﾛﾛｴﾀﾝ | D41: ㎎/L | T41: 0.006 以下
C42: トリクロロエチレン | D42: ㎎/L | T42: 0.01 以下
C43: テトラクロロエチレン | D43: ㎎/L | T43: 0.01 以下
C44: 1,3-ジクロロプロペン | D44: ㎎/L | T44: 0.002 以下
C45: チウラム | D45: ㎎/L | T45: 0.006 以下
... C53: 1,4-ジオキサン | D53: ㎎/L | T53: 0.05 以下
C54: フェノール類 | D54: ㎎/L
B55: 特殊項目 | C55: 銅 | D55: ㎎/L | T55: ――
C56: 亜鉛 | D56: ㎎/L | T56: ――
C57: 鉄_溶解性 | D57: ㎎/L | T57: ――
C58: マンガン_溶解性 | D58: ㎎/L | T58: ――
C59: クロム | D59: ㎎/L | T59: ――
B60: 要監視項目 | C60: クロロホルム | D60: ㎎/L | T60: 0.06 以下
C61: トランス-1,2-ジクロロエチレン | D61: ㎎/L | T61: 0.04 以下
C62: 1,2-ジクロロプロパン | D62: ㎎/L | T62: 0.06 以下
C63: p-ジクロロベンゼン | D63: ㎎/L | T63: 0.2 以下
C64: イソキサチオン | D64: ㎎/L | T64: 0.008 以下
C65: ダイアジノン | D65: ㎎/L | T65: 0.005 以下
C66: フェニトロチオン | D66: ㎎/L | T66: 0.003 以下
C67: イソプロチオラン | D67: ㎎/L | T67: 0.04 以下
C68: オキシン銅 | D68: ㎎/L | T68: 0.04 以下
C69: クロロタロニル | D69: ㎎/L | T69: 0.05 以下
C70: プロピザミド | D70: ㎎/L | T70: 0.008 以下
C71: EPN | D71: ㎎/L | T71: 0.006 以下
C72: ジクロルボス | D72: ㎎/L | T72: 0.008 以下
... C85: ウラン | D85: ㎎/L | T85: 0.002 以下
C86: フェノール | D86: ㎎/L
C87: ホルムアルデヒド | D87: ㎎/L
B88: その他の項目 | C88: 塩素イオン | D88: ㎎/L | T88: ――
C89: アンモニア態窒素 | D89: ㎎/L | T89: ――
C90: 亜硝酸性窒素 | D90: ㎎/L | T90: ――
C91: 硝酸性窒素 | D91: ㎎/L | T91: ――
C92: 有機態窒素 | D92: ㎎/L | T92: ――
C93: 燐酸態燐 | D93: ㎎/L | T93: ――
C94: クロロフィルa | D94: ㎎/ｍ３ | T94: ――
C95: トリハロメタン生成能 | D95: ㎎/L | T95: ――
C96: クロロホルム生成能 | D96: ㎎/L | T96: ――
C97: ブロモジクロロメタン生成能 | D97: ㎎/L | T97: ――
C98: ジブロモクロロメタン生成能 | D98: ㎎/L | T98: ――
C99: ブロモホルム生成能 | D99: ㎎/L | T99: ――
C100: ふん便性大腸菌群数 | D100: 個/100mL | T100: ――
... C103: 電気伝導度 | D103: μS/㎝ | T103: ――
B104: 生活環境項目 | C104: 直鎖アルキルベンゼンスルホン酸及びその塩 | D104: ㎎/L | T104: 0.01 以下
C105: 4-t-オクチルフェノール | D105: ㎎/L
C106: アニリン | D106: ㎎/L
C107: 2,4-ジクロロフェノール | D107: ㎎/L
C108: ビスフェノールＡ | D108: ㎎/L
B109: 特記事項

Sheet 備讃瀬戸2全層
G1: 2025年度 | I1: 公共用水水質結果一覧表（備讃瀬戸2全層）
B3: 測定地点番号 | E3: 2 | T3: 環境基準 または 指針値
B4: 水系 | E4: 備讃瀬戸
B5: 測定地点名 | E5: 備讃瀬戸2全層
B6: 環境基準類型 | E6: 海域BⅣ、生物Ａ
B7: 採取年月日 | E7: 45761 | F7: 45791 | G7: 45833 | H7: 45847 | I7: 45876 | J7: 45908 | K7: 45938 | L7: 45966 | M7: 45995 | N7: 46041 | O7: 46056 | P7: 46099 | Q7: 平均 | R7: 最大 | S7: 最小
B8: 気温 | D8: ℃ | E8: ―― | F8: ―― | G8: ―― | H8: ―― | I8: ―― | J8: ―― | K8: ―― | L8: ―― | M8: ―― | N8: ―― | O8: ―― | P8: ――
B9: 水温 | D9: ℃ | E9: ―― | F9: ―― | G9: ―― | H9: ―― | I9: ―― | J9: ―― | K9: ―― | L9: ―― | M9: ―― | N9: ―― | O9: ―― | P9: ――
B10: 透視度 | D10: ㎝ | E10: >30 | F10: >30 | G10: >30 | H10: >30 | I10: >30 | J10: >30 | K10: >30 | L10: >30 | M10: >30 | N10: >30 | O10: >30 | P10: >30
B11: 測定項目
B12: 生活環境項目 | C12: p H | E12: 8 | F12: 8.1 | G12: 8.1 | H12: 8.1 | I12: 7.9 | J12: 8 | K12: 8.1 | L12: 8 | M12: 8.1 | N12: 8.1 | O12: 8.1 | P12: 8.1 | Q12: =AVERAGE(E12:P12) -> 8.0583333 | R12: =MAX(備讃瀬戸2上層!E12:P12,備讃瀬戸2中層!E12:P12,備讃瀬戸2下層!E12:P12) -> 8.2 | S12: =MIN(備讃瀬戸2上層!E12:P12,備讃瀬戸2中層!E12:P12,備讃瀬戸2下層!E12:P12) -> 7.8 | T12: 7.8～8.3
C13: D O | D13: ㎎/L | E13: 9.1 | F13: 9.9 | G13: 9.5 | H13: 10 | I13: 7.7 | J13: 6.5 | K13: 8 | L13: 7.3 | M13: 8.1 | N13: 10 | O13: 9 | P13: 9.6 | Q13: =AVERAGE(E13:P13) -> 8.725 | R13: =MAX(備讃瀬戸2上層!E13:P13,備讃瀬戸2中層!E13:P13) -> 10 | S13: =MIN(備讃瀬戸2上層!E13:P13,備讃瀬戸2中層!E13:P13) -> 6 | T13: 5 以上
C14: B O D | D14: ㎎/L | T14: ――
C15: C O D | D15: ㎎/L | E15: 1.9 | F15: 1.9 | G15: 3.4 | H15: 3.6 | I15: 3.2 | J15: 2.5 | K15: 2.3 | L15: 1.7 | M15: 1.3 | N15: 1.7 | O15: 1.3 | P15: 1.8 | Q15: =AVERAGE(E15:P15) -> 2.2166667 | R15: =MAX(備讃瀬戸2上層!E15:P15,備讃瀬戸2中層!E15:P15,備讃瀬戸2下層!E15:P15) -> 4.7 | S15: =MIN(備讃瀬戸2上層!E15:P15,備讃瀬戸2中層!E15:P15,備讃瀬戸2下層!E15:P15) -> 1.2 | T15: 3 以下
C16: S S | D16: ㎎/L | E16: 4 | F16: 2 | G16: 4 | H16: 3 | I16: 4 | J16: 4 | K16: 3 | L16: 4 | M16: 6 | N16: 4 | O16: 2 | P16: 2 | Q16: =AVERAGE(E16:P16) -> 3.5 | R16: =MAX(備讃瀬戸2上層!E16:P16,備讃瀬戸2中層!E16:P16,備讃瀬戸2下層!E16:P16) -> 6 | S16: =MIN(備讃瀬戸2上層!E16:P16,備讃瀬戸2中層!E16:P16,備讃瀬戸2下層!E16:P16) -> 1 | T16: ――
C17: 大腸菌数 | D17: CFU/100ｍL | E17: 3 | F17: 1 | G17: 35 | H17: 8 | I17: 21 | J17: 2 | K17: 3 | L17: 3 | M17: 2 | N17: 2 | O17: 1 | P17: <1 | Q17: =AVERAGE(E17:P17) -> 7.3636364 | R17: =MAX(E17:P17) -> 35 | S17: =MIN(E17:P17) -> 1 | T17: ――
C18: n-ヘキサン抽出物質 | D18: ㎎/L | E18: <0.5 | F18: <0.5 | G18: <0.5 | H18: <0.5 | I18: <0.5 | J18: <0.5 | K18: <0.5 | L18: <0.5 | M18: <0.5 | N18: <0.5 | O18: <0.5 | P18: <0.5 | Q18: <0.5 | R18: <0.5 | S18: <0.5 | T18: 検出されないこと
C19: 全窒素 | D19: ㎎/L | E19: 0.82 | F19: 0.59 | G19: 1.2 | H19: 0.76 | I19: 1.1 | J19: 0.88 | K19: 1.4 | L19: 0.75 | M19: 0.51 | N19: 0.64 | O19: 0.53 | P19: 0.69 | Q19: =AVERAGE(E19:P19) -> 0.8225 | R19: =MAX(備讃瀬戸2上層!E19:P19,備讃瀬戸2中層!E19:P19,備讃瀬戸2下層!E19:P19) -> 2.8 | S19: =MIN(備讃瀬戸2上層!E19:P19,備讃瀬戸2中層!E19:P19,備讃瀬戸2下層!E19:P19) -> 0.13 | T19: 1 以下
C20: 全燐 | D20: ㎎/L | E20: 0.054 | F20: 0.036 | G20: 0.062 | H20: 0.041 | I20: 0.08 | J20: 0.081 | K20: 0.082 | L20: 0.049 | M20: 0.037 | N20: 0.03 | O20: 0.037 | P20: 0.039 | Q20: =AVERAGE(E20:P20) -> 0.052333333 | R20: =MAX(備讃瀬戸2上層!E20:P20,備讃瀬戸2中層!E20:P20,備讃瀬戸2下層!E20:P20) -> 0.14 | S20: =MIN(備讃瀬戸2上層!E20:P20,備讃瀬戸2中層!E20:P20,備讃瀬戸2下層!E20:P20) -> 0.019 | T20: 0.09 以下
C21: 全亜鉛 | D21: ㎎/L | T21: 0.02 以下
C22: ノニルフェノール | D22: ㎎/L | T22: 0.001 以下
B23: 要測定指標 | C23: 底層溶存酸素量 | D23: ㎎/L | E23: 8.3 | F23: 7 | G23: 4 | H23: 2.3 | I23: 2.4 | J23: 2.2 | K23: 5.5 | L23: 7.4 | M23: 8.3 | N23: 9.5 | O23: 9.5 | P23: 9.4 | Q23: =AVERAGE(E23:P23) -> 6.3166667 | R23: =MAX(E23:P23) -> 9.5 | S23: =MIN(E23:P23) -> 2.2 | T23: ――
C24: 透明度 | D24: m | E24: 3.2 | F24: 3 | G24: 1.5 | H24: 1.6 | I24: 0.9 | J24: 2 | K24: 1.7 | L24: 3.5 | M24: 2.9 | N24: 4.1 | O24: 6 | P24: 7 | Q24: =AVERAGE(E24:P24) -> 3.1166667 | R24: =MAX(E24:P24) -> 7 | S24: =MIN(E24:P24) -> 0.9 | T24: ――
B26: 補足測定項目 | C26: T O C | D26: ㎎/L | E26: 2.1 | H26: 2.9 | K26: 2.1 | N26: 1.6 | Q26: =AVERAGE(E26:P26) -> 2.175 | R26: =MAX(E26:P26) -> 2.9 | S26: =MIN(E26:P26) -> 1.6 | T26: ――
B27: 健康項目 | C27: カドミウム | D27: ㎎/L | H27: <0.0003 | Q27: <0.0003 | R27: <0.0003 | S27: <0.0003 | T27: 0.003 以下
C28: 全シアン | D28: ㎎/L | H28: <0.1 | Q28: <0.1 | R28: <0.1 | S28: <0.1 | T28: 検出されないこと
C29: 鉛 | D29: ㎎/L | H29: <0.005 | Q29: <0.005 | R29: <0.005 | S29: <0.005 | T29: 0.01 以下
C30: 六価クロム | D30: ㎎/L | H30: <0.01 | Q30: <0.01 | R30: <0.01 | S30: <0.01 | T30: 0.02 以下
C31: 砒素 | D31: ㎎/L | H31: <0.005 | Q31: <0.005 | R31: <0.005 | S31: <0.005 | T31: 0.01 以下
C32: 総水銀 | D32: ㎎/L | H32: <0.0005 | Q32: <0.0005 | R32: <0.0005 | S32: <0.0005 | T32: 0.0005 以下
C33: アルキル水銀 | D33: ㎎/L
C34: P C B | D34: ㎎/L | H34: <0.0005 | Q34: <0.0005 | R34: <0.0005 | S34: <0.0005 | T34: 検出されないこと
C35: ジクロロメタン | D35: ㎎/L | T35: 0.02 以下
C36: 四塩化炭素 | D36: ㎎/L | T36: 0.002 以下
C37: 1,2-ジクロロエタン | D37: ㎎/L | T37: 0.004 以下
C38: 1,1-ジクロロエチレン | D38: ㎎/L | T38: 0.1 以下
C39: ｼｽ-1,2-ｼﾞｸﾛﾛｴﾁﾚﾝ | D39: ㎎/L | T39: 0.04 以下
C40: 1,1,1-ﾄﾘｸﾛﾛｴﾀﾝ | D40: ㎎/L | T40: 1 以下
C41: 1,1,2-ﾄﾘｸﾛﾛｴﾀﾝ | D41: ㎎/L | T41: 0.006 以下
C42: トリクロロエチレン | D42: ㎎/L | T42: 0.01 以下
C43: テトラクロロエチレン | D43: ㎎/L | T43: 0.01 以下
C44: 1,3-ジクロロプロペン | D44: ㎎/L | T44: 0.002 以下
C45: チウラム | D45: ㎎/L | T45: 0.006 以下
C46: シマジン | D46: ㎎/L | T46: 0.003 以下
... C49: セレン | D49: ㎎/L | T49: 0.01 以下
C50: 硝酸性窒素及び亜硝酸性窒素 | D50: ㎎/L | H50: 0.2 | Q50: 0.2 | R50: 0.2 | S50: 0.2 | T50: 10 以下
C51: ふっ素 | D51: ㎎/L | T51: ――
C52: ほう素 | D52: ㎎/L | T52: ――
C53: 1,4-ジオキサン | D53: ㎎/L | T53: 0.05 以下
C54: フェノール類 | D54: ㎎/L
B55: 特殊項目 | C55: 銅 | D55: ㎎/L | T55: ――
C56: 亜鉛 | D56: ㎎/L | T56: ――
C57: 鉄_溶解性 | D57: ㎎/L | T57: ――
C58: マンガン_溶解性 | D58: ㎎/L | T58: ――
C59: クロム | D59: ㎎/L | T59: ――
B60: 要監視項目 | C60: クロロホルム | D60: ㎎/L | T60: 0.06 以下
C61: トランス-1,2-ジクロロエチレン | D61: ㎎/L | T61: 0.04 以下
C62: 1,2-ジクロロプロパン | D62: ㎎/L | T62: 0.06 以下
C63: p-ジクロロベンゼン | D63: ㎎/L | T63: 0.2 以下
C64: イソキサチオン | D64: ㎎/L | T64: 0.008 以下
C65: ダイアジノン | D65: ㎎/L | T65: 0.005 以下
C66: フェニトロチオン | D66: ㎎/L | T66: 0.003 以下
C67: イソプロチオラン | D67: ㎎/L | T67: 0.04 以下
C68: オキシン銅 | D68: ㎎/L | T68: 0.04 以下
C69: クロロタロニル | D69: ㎎/L | T69: 0.05 以下
C70: プロピザミド | D70: ㎎/L | T70: 0.008 以下
C71: EPN | D71: ㎎/L | T71: 0.006 以下
C72: ジクロルボス | D72: ㎎/L | T72: 0.008 以下
... C85: ウラン | D85: ㎎/L | T85: 0.002 以下
C86: フェノール | D86: ㎎/L
C87: ホルムアルデヒド | D87: ㎎/L
B88: その他の項目 | C88: 塩素イオン | D88: ㎎/L | E88: 16700 | F88: 17100 | G88: 13400 | H88: 16000 | I88: 14800 | J88: 15400 | K88: 14800 | L88: 16600 | M88: 17500 | N88: 16800 | O88: 18600 | P88: 16200 | Q88: 16200 | R88: =MAX(E88:P88) -> 18600 | S88: =MIN(E88:P88) -> 13400 | T88: ――
C89: アンモニア態窒素 | D89: ㎎/L | T89: ――
C90: 亜硝酸性窒素 | D90: ㎎/L | T90: ――
C91: 硝酸性窒素 | D91: ㎎/L | T91: ――
C92: 有機態窒素 | D92: ㎎/L | T92: ――
C93: 燐酸態燐 | D93: ㎎/L | T93: ――
C94: クロロフィルa | D94: ㎎/ｍ３ | E94: <0.5 | G94: 35 | I94: 45 | K94: 7.1 | M94: 1.1 | O94: 2.8 | Q94: 15 | R94: =MAX(E94:P94) -> 45 | S94: <0.5 | T94: ――
C95: トリハロメタン生成能 | D95: ㎎/L | T95: ――
C96: クロロホルム生成能 | D96: ㎎/L | T96: ――
C97: ブロモジクロロメタン生成能 | D97: ㎎/L | T97: ――
C98: ジブロモクロロメタン生成能 | D98: ㎎/L | T98: ――
C99: ブロモホルム生成能 | D99: ㎎/L | T99: ――
C100: ふん便性大腸菌群数 | D100: 個/100mL | T100: ――
C101: 濁度 | D101: 度 | T101: ――
C102: メチレンブルー活性物質 | D102: ㎎/ｌ | T102: ――
C103: 電気伝導度 | D103: μS/㎝ | T103: ――
B104: 生活環境項目 | C104: 直鎖アルキルベンゼンスルホン酸及びその塩 | D104: ㎎/L | T104: 0.01 以下
C105: 4-t-オクチルフェノール | D105: ㎎/L
C106: アニリン | D106: ㎎/L
C107: 2,4-ジクロロフェノール | D107: ㎎/L
C108: ビスフェノールＡ | D108: ㎎/L
B109: 特記事項

Sheet 備讃瀬戸3上層
G1: 2025年度 | I1: 公共用水水質結果一覧表（備讃瀬戸3上層）
B3: 測定地点番号 | E3: 3 | T3: 環境基準 または 指針値
B4: 水系 | E4: 備讃瀬戸
B5: 測定地点名 | E5: 備讃瀬戸3上層
B6: 環境基準類型 | E6: 海域AⅡ、生物Ａ
B7: 採取年月日 | E7: 45761 | F7: 45791 | G7: 45833 | H7: 45847 | I7: 45876 | J7: 45908 | K7: 45938 | L7: 45966 | M7: 45995 | N7: 46041 | O7: 46056 | P7: 46099 | Q7: 平均 | R7: 最大 | S7: 最小
B8: 気温 | D8: ℃ | E8: 12.5 | F8: 20.4 | G8: 27.0 | H8: 31.0 | I8: 29.0 | J8: 30.0 | K8: 26.8 | L8: 17.0 | M8: 8.0 | N8: 10.8 | O8: 6.3 | P8: 10.0
B9: 水温 | D9: ℃ | E9: 12.8 | F9: 19.1 | G9: 25.4 | H9: 28.0 | I9: 29.3 | J9: 30.2 | K9: 26.5 | L9: 20.0 | M9: 15.2 | N9: 12.2 | O9: 9.8 | P9: 11.1
B10: 透視度 | D10: ㎝ | E10: >30 | F10: >30 | G10: >30 | H10: >30 | I10: >30 | J10: >30 | K10: >30 | L10: >30 | M10: >30 | N10: >30 | O10: >30 | P10: >30
B11: 測定項目
B12: 生活環境項目 | C12: p H | E12: 8 | F12: 8 | G12: 8 | H12: 8.1 | I12: 8.1 | J12: 8.2 | K12: 8.1 | L12: 8.1 | M12: 8.1 | N12: 8.1 | O12: 8.1 | P12: 8.1 | Q12: =AVERAGE(E12:P12) -> 8.0833333 | R12: =MAX(E12:P12) -> 8.2 | S12: =MIN(E12:P12) -> 8 | T12: 7.8～8.3
C13: D O | D13: ㎎/L | E13: 9.2 | F13: 8.5 | G13: 8.2 | H13: 11 | I13: 6.8 | J13: 8.7 | K13: 7.2 | L13: 7.5 | M13: 8.3 | N13: 9.7 | O13: 10 | P13: 9.7 | Q13: =AVERAGE(E13:P13) -> 8.7333333 | R13: =MAX(E13:P13) -> 11 | S13: =MIN(E13:P13) -> 6.8 | T13: 7.5 以上
C14: B O D | D14: ㎎/L | T14: ――
C15: C O D | D15: ㎎/L | E15: 1.3 | F15: 1.6 | G15: 2.2 | H15: 2.8 | I15: 6.1 | J15: 3.6 | K15: 1.4 | L15: 1.6 | M15: 1.2 | N15: 1.5 | O15: 0.9 | P15: 1.3 | Q15: =AVERAGE(E15:P15) -> 2.125 | R15: =MAX(E15:P15) -> 6.1 | S15: =MIN(E15:P15) -> 0.9 | T15: 2 以下
C16: S S | D16: ㎎/L | E16: 1 | F16: 5 | G16: 2 | H16: 1 | I16: 7 | J16: 5 | K16: 3 | L16: 4 | M16: 5 | N16: 3 | O16: 2 | P16: 1 | Q16: =AVERAGE(E16:P16) -> 3.25 | R16: =MAX(E16:P16) -> 7 | S16: =MIN(E16:P16) -> 1 | T16: ――
C17: 大腸菌数 | D17: CFU/100ｍL | E17: <1 | F17: <1 | G17: <1 | H17: <1 | I17: 43 | J17: <1 | K17: <1 | L17: <1 | M17: <1 | N17: <1 | O17: <1 | P17: <1 | Q17: 5 | R17: =MAX(E17:P17) -> 43 | S17: <1 | T17: 20 以下
C18: n-ヘキサン抽出物質 | D18: ㎎/L | E18: <0.5 | F18: <0.5 | G18: <0.5 | H18: <0.5 | I18: <0.5 | J18: <0.5 | K18: <0.5 | L18: <0.5 | M18: <0.5 | N18: <0.5 | O18: <0.5 | P18: <0.5 | Q18: <0.5 | R18: <0.5 | S18: <0.5 | T18: 検出されないこと
C19: 全窒素 | D19: ㎎/L | E19: 0.17 | F19: 0.15 | G19: 0.16 | H19: 0.12 | I19: 0.37 | J19: 0.23 | K19: 0.15 | L19: 0.13 | M19: 0.16 | N19: 0.13 | O19: 0.17 | P19: 0.1 | Q19: =AVERAGE(E19:P19) -> 0.17 | R19: =MAX(E19:P19) -> 0.37 | S19: =MIN(E19:P19) -> 0.1 | T19: 0.3 以下
C20: 全燐 | D20: ㎎/L | E20: 0.021 | F20: 0.028 | G20: 0.031 | H20: 0.021 | I20: 0.16 | J20: 0.053 | K20: 0.032 | L20: 0.023 | M20: 0.03 | N20: 0.014 | O20: 0.026 | P20: 0.024 | Q20: =AVERAGE(E20:P20) -> 0.038583333 | R20: =MAX(E20:P20) -> 0.16 | S20: =MIN(E20:P20) -> 0.014 | T20: 0.03 以下
C21: 全亜鉛 | D21: ㎎/L | T21: 0.02 以下
C22: ノニルフェノール | D22: ㎎/L | T22: 0.001 以下
B23: 要測定指標 | C23: 底層溶存酸素量 | D23: ㎎/L | T23: ――
C24: 透明度 | D24: m | E24: 4 | F24: 4.7 | G24: 3 | H24: 3.8 | I24: 1 | J24: 2.1 | K24: 3.8 | L24: 2.9 | M24: 4 | N24: 4.1 | O24: 6 | P24: 8.6 | Q24: =AVERAGE(E24:P24) -> 4 | R24: =MAX(E24:P24) -> 8.6 | S24: =MIN(E24:P24) -> 1 | T24: ――
B26: 補足測定項目 | C26: T O C | D26: ㎎/L | E26: 1.5 | H26: 2.2 | K26: 1.5 | N26: 1.4 | Q26: =AVERAGE(E26:P26) -> 1.65 | R26: =MAX(E26:P26) -> 2.2 | S26: =MIN(E26:P26) -> 1.4 | T26: ――
B27: 健康項目 | C27: カドミウム | D27: ㎎/L | H27: <0.0003 | Q27: <0.0003 | R27: <0.0003 | S27: <0.0003 | T27: 0.003 以下
C28: 全シアン | D28: ㎎/L | H28: <0.1 | Q28: <0.1 | R28: <0.1 | S28: <0.1 | T28: 検出されないこと
C29: 鉛 | D29: ㎎/L | H29: <0.005 | Q29: <0.005 | R29: <0.005 | S29: <0.005 | T29: 0.01 以下
C30: 六価クロム | D30: ㎎/L | H30: <0.01 | Q30: <0.01 | R30: <0.01 | S30: <0.01 | T30: 0.02 以下
C31: 砒素 | D31: ㎎/L | H31: <0.005 | Q31: <0.005 | R31: <0.005 | S31: <0.005 | T31: 0.01 以下
C32: 総水銀 | D32: ㎎/L | H32: <0.0005 | Q32: <0.0005 | R32: <0.0005 | S32: <0.0005 | T32: 0.0005 以下
C33: アルキル水銀 | D33: ㎎/L
C34: P C B | D34: ㎎/L | T34: 検出されないこと
C35: ジクロロメタン | D35: ㎎/L | T35: 0.02 以下
C36: 四塩化炭素 | D36: ㎎/L | T36: 0.002 以下
C37: 1,2-ジクロロエタン | D37: ㎎/L | T37: 0.004 以下
C38: 1,1-ジクロロエチレン | D38: ㎎/L | T38: 0.1 以下
C39: ｼｽ-1,2-ｼﾞｸﾛﾛｴﾁﾚﾝ | D39: ㎎/L | T39: 0.04 以下
C40: 1,1,1-ﾄﾘｸﾛﾛｴﾀﾝ | D40: ㎎/L | T40: 1 以下
C41: 1,1,2-ﾄﾘｸﾛﾛｴﾀﾝ | D41: ㎎/L | T41: 0.006 以下
C42: トリクロロエチレン | D42: ㎎/L | T42: 0.01 以下
C43: テトラクロロエチレン | D43: ㎎/L | T43: 0.01 以下
C44: 1,3-ジクロロプロペン | D44: ㎎/L | T44: 0.002 以下
C45: チウラム | D45: ㎎/L | T45: 0.006 以下
... C49: セレン | D49: ㎎/L | T49: 0.01 以下
C50: 硝酸性窒素及び亜硝酸性窒素 | D50: ㎎/L | H50: <0.01 | Q50: <0.01 | R50: <0.01 | S50: <0.01 | T50: 10 以下
C51: ふっ素 | D51: ㎎/L | T51: ――
C52: ほう素 | D52: ㎎/L | T52: ――
C53: 1,4-ジオキサン | D53: ㎎/L | T53: 0.05 以下
C54: フェノール類 | D54: ㎎/L
B55: 特殊項目 | C55: 銅 | D55: ㎎/L | T55: ――
C56: 亜鉛 | D56: ㎎/L | T56: ――
C57: 鉄_溶解性 | D57: ㎎/L | T57: ――
C58: マンガン_溶解性 | D58: ㎎/L | T58: ――
C59: クロム | D59: ㎎/L | T59: ――
B60: 要監視項目 | C60: クロロホルム | D60: ㎎/L | T60: 0.06 以下
C61: トランス-1,2-ジクロロエチレン | D61: ㎎/L | T61: 0.04 以下
C62: 1,2-ジクロロプロパン | D62: ㎎/L | T62: 0.06 以下
C63: p-ジクロロベンゼン | D63: ㎎/L | T63: 0.2 以下
C64: イソキサチオン | D64: ㎎/L | T64: 0.008 以下
C65: ダイアジノン | D65: ㎎/L | T65: 0.005 以下
C66: フェニトロチオン | D66: ㎎/L | T66: 0.003 以下
C67: イソプロチオラン | D67: ㎎/L | T67: 0.04 以下
C68: オキシン銅 | D68: ㎎/L | T68: 0.04 以下
C69: クロロタロニル | D69: ㎎/L | T69: 0.05 以下
C70: プロピザミド | D70: ㎎/L | T70: 0.008 以下
C71: EPN | D71: ㎎/L | T71: 0.006 以下
C72: ジクロルボス | D72: ㎎/L | T72: 0.008 以下
... C85: ウラン | D85: ㎎/L | T85: 0.002 以下
C86: フェノール | D86: ㎎/L
C87: ホルムアルデヒド | D87: ㎎/L
B88: その他の項目 | C88: 塩素イオン | D88: ㎎/L | E88: 18500 | F88: 18100 | G88: 16100 | H88: 17200 | I88: 12300 | J88: 16900 | K88: 17100 | L88: 18300 | M88: 18300 | N88: 18100 | O88: 18500 | P88: 16800 | Q88: 17200 | R88: =MAX(E88:P88) -> 18500 | S88: =MIN(E88:P88) -> 12300 | T88: ――
C89: アンモニア態窒素 | D89: ㎎/L | T89: ――
C90: 亜硝酸性窒素 | D90: ㎎/L | T90: ――
C91: 硝酸性窒素 | D91: ㎎/L | T91: ――
C92: 有機態窒素 | D92: ㎎/L | T92: ――
C93: 燐酸態燐 | D93: ㎎/L | T93: ――
C94: クロロフィルa | D94: ㎎/ｍ３ | T94: ――
C95: トリハロメタン生成能 | D95: ㎎/L | T95: ――
C96: クロロホルム生成能 | D96: ㎎/L | T96: ――
C97: ブロモジクロロメタン生成能 | D97: ㎎/L | T97: ――
C98: ジブロモクロロメタン生成能 | D98: ㎎/L | T98: ――
C99: ブロモホルム生成能 | D99: ㎎/L | T99: ――
C100: ふん便性大腸菌群数 | D100: 個/100mL | T100: ――
... C103: 電気伝導度 | D103: μS/㎝ | T103: ――
B104: 生活環境項目 | C104: 直鎖アルキルベンゼンスルホン酸及びその塩 | D104: ㎎/L | T104: 0.01 以下
C105: 4-t-オクチルフェノール | D105: ㎎/L
C106: アニリン | D106: ㎎/L
C107: 2,4-ジクロロフェノール | D107: ㎎/L
C108: ビスフェノールＡ | D108: ㎎/L
B109: 特記事項

Sheet 備讃瀬戸3中層
G1: 2025年度 | I1: 公共用水水質結果一覧表（備讃瀬戸3中層）
B3: 測定地点番号 | E3: 3 | T3: 環境基準 または 指針値
B4: 水系 | E4: 備讃瀬戸
B5: 測定地点名 | E5: 備讃瀬戸3中層
B6: 環境基準類型 | E6: 海域AⅡ、生物Ａ
B7: 採取年月日 | E7: 45761 | F7: 45791 | G7: 45833 | H7: 45847 | I7: 45876 | J7: 45908 | K7: 45938 | L7: 45966 | M7: 45995 | N7: 46041 | O7: 46056 | P7: 46099 | Q7: 平均 | R7: 最大 | S7: 最小
B8: 気温 | D8: ℃ | E8: 12.5 | F8: 20.4 | G8: 27.0 | H8: 31.0 | I8: 29.0 | J8: 30 | K8: 26.8 | L8: 17.0 | M8: 8.0 | N8: 10.8 | O8: 6.3 | P8: 10.0
B9: 水温 | D9: ℃ | E9: 12.7 | F9: 18.5 | G9: 23.5 | H9: 27.3 | I9: 28.3 | J9: 29.5 | K9: 26.6 | L9: 19.7 | M9: 15.2 | N9: 12.1 | O9: 9.8 | P9: 11.1
B10: 透視度 | D10: ㎝ | E10: >30 | F10: >30 | G10: >30 | H10: >30 | I10: >30 | J10: >30 | K10: >30 | L10: >30 | M10: >30 | N10: >30 | O10: >30 | P10: >30
B11: 測定項目
B12: 生活環境項目 | C12: p H | E12: 8 | F12: 8 | G12: 8.1 | H12: 8.1 | I12: 7.9 | J12: 8.2 | K12: 8.1 | L12: 8.1 | M12: 8.1 | N12: 8.1 | O12: 8.1 | P12: 8.1 | Q12: =AVERAGE(E12:P12) -> 8.075 | R12: =MAX(E12:P12) -> 8.2 | S12: =MIN(E12:P12) -> 7.9 | T12: 7.8～8.3
C13: D O | D13: ㎎/L | E13: 9.1 | F13: 8.7 | G13: 9 | H13: 9.3 | I13: 6.1 | J13: 8.2 | K13: 7.4 | L13: 7.7 | M13: 8 | N13: 9.8 | O13: 9.5 | P13: 9.9 | Q13: =AVERAGE(E13:P13) -> 8.5583333 | R13: =MAX(E13:P13) -> 9.9 | S13: =MIN(E13:P13) -> 6.1 | T13: 7.5 以上
C14: B O D | D14: ㎎/L | T14: ――
C15: C O D | D15: ㎎/L | E15: 1.4 | F15: 1.6 | G15: 2 | H15: 2.7 | I15: 2.8 | J15: 3.3 | K15: 1.3 | L15: 1.4 | M15: 1.2 | N15: 1.4 | O15: 1.2 | P15: 1.6 | Q15: =AVERAGE(E15:P15) -> 1.825 | R15: =MAX(E15:P15) -> 3.3 | S15: =MIN(E15:P15) -> 1.2 | T15: 2 以下
C16: S S | D16: ㎎/L | E16: 2 | F16: 1 | G16: 1 | H16: 1 | I16: 3 | J16: 5 | K16: 1 | L16: 4 | M16: 5 | N16: 2 | O16: 3 | P16: 2 | Q16: =AVERAGE(E16:P16) -> 2.5 | R16: =MAX(E16:P16) -> 5 | S16: =MIN(E16:P16) -> 1 | T16: ――
C17: 大腸菌数 | D17: CFU/100ｍL | T17: 20 以下
C18: n-ヘキサン抽出物質 | D18: ㎎/L | T18: 検出されないこと
C19: 全窒素 | D19: ㎎/L | E19: 0.16 | F19: 0.11 | G19: 0.17 | H19: 0.11 | I19: 0.26 | J19: 0.24 | K19: 0.16 | L19: 0.12 | M19: 0.16 | N19: 0.11 | O19: 0.14 | P19: 0.11 | Q19: =AVERAGE(E19:P19) -> 0.15416667 | R19: =MAX(E19:P19) -> 0.26 | S19: =MIN(E19:P19) -> 0.11 | T19: 0.3 以下
C20: 全燐 | D20: ㎎/L | E20: 0.018 | F20: 0.019 | G20: 0.028 | H20: 0.021 | I20: 0.079 | J20: 0.046 | K20: 0.034 | L20: 0.023 | M20: 0.028 | N20: 0.014 | O20: 0.025 | P20: 0.026 | Q20: =AVERAGE(E20:P20) -> 0.030083333 | R20: =MAX(E20:P20) -> 0.079 | S20: =MIN(E20:P20) -> 0.014 | T20: 0.03 以下
C21: 全亜鉛 | D21: ㎎/L | T21: 0.02 以下
C22: ノニルフェノール | D22: ㎎/L | T22: 0.001 以下
B23: 要測定指標 | C23: 底層溶存酸素量 | D23: ㎎/L | T23: ――
C24: 透明度 | D24: m | E24: 4 | F24: 4.7 | G24: 3 | H24: 3.8 | I24: 1 | J24: 2.1 | K24: 3.8 | L24: 2.9 | M24: 4 | N24: 4.1 | O24: 6 | P24: 8.6 | Q24: =AVERAGE(E24:P24) -> 4 | R24: =MAX(E24:P24) -> 8.6 | S24: =MIN(E24:P24) -> 1 | T24: ――
B26: 補足測定項目 | C26: T O C | D26: ㎎/L | T26: ――
B27: 健康項目 | C27: カドミウム | D27: ㎎/L | T27: 0.003 以下
C28: 全シアン | D28: ㎎/L | T28: 検出されないこと
C29: 鉛 | D29: ㎎/L | T29: 0.01 以下
C30: 六価クロム | D30: ㎎/L | T30: 0.02 以下
C31: 砒素 | D31: ㎎/L | T31: 0.01 以下
C32: 総水銀 | D32: ㎎/L | T32: 0.0005 以下
C33: アルキル水銀 | D33: ㎎/L
C34: P C B | D34: ㎎/L | T34: 検出されないこと
C35: ジクロロメタン | D35: ㎎/L | T35: 0.02 以下
C36: 四塩化炭素 | D36: ㎎/L | T36: 0.002 以下
C37: 1,2-ジクロロエタン | D37: ㎎/L | T37: 0.004 以下
C38: 1,1-ジクロロエチレン | D38: ㎎/L | T38: 0.1 以下
C39: ｼｽ-1,2-ｼﾞｸﾛﾛｴﾁﾚﾝ | D39: ㎎/L | T39: 0.04 以下
C40: 1,1,1-ﾄﾘｸﾛﾛｴﾀﾝ | D40: ㎎/L | T40: 1 以下
C41: 1,1,2-ﾄﾘｸﾛﾛｴﾀﾝ | D41: ㎎/L | T41: 0.006 以下
C42: トリクロロエチレン | D42: ㎎/L | T42: 0.01 以下
C43: テトラクロロエチレン | D43: ㎎/L | T43: 0.01 以下
C44: 1,3-ジクロロプロペン | D44: ㎎/L | T44: 0.002 以下
C45: チウラム | D45: ㎎/L | T45: 0.006 以下
... C53: 1,4-ジオキサン | D53: ㎎/L | T53: 0.05 以下
C54: フェノール類 | D54: ㎎/L
B55: 特殊項目 | C55: 銅 | D55: ㎎/L | T55: ――
C56: 亜鉛 | D56: ㎎/L | T56: ――
C57: 鉄_溶解性 | D57: ㎎/L | T57: ――
C58: マンガン_溶解性 | D58: ㎎/L | T58: ――
C59: クロム | D59: ㎎/L | T59: ――
B60: 要監視項目 | C60: クロロホルム | D60: ㎎/L | T60: 0.06 以下
C61: トランス-1,2-ジクロロエチレン | D61: ㎎/L | T61: 0.04 以下
C62: 1,2-ジクロロプロパン | D62: ㎎/L | T62: 0.06 以下
C63: p-ジクロロベンゼン | D63: ㎎/L | T63: 0.2 以下
C64: イソキサチオン | D64: ㎎/L | T64: 0.008 以下
C65: ダイアジノン | D65: ㎎/L | T65: 0.005 以下
C66: フェニトロチオン | D66: ㎎/L | T66: 0.003 以下
C67: イソプロチオラン | D67: ㎎/L | T67: 0.04 以下
C68: オキシン銅 | D68: ㎎/L | T68: 0.04 以下
C69: クロロタロニル | D69: ㎎/L | T69: 0.05 以下
C70: プロピザミド | D70: ㎎/L | T70: 0.008 以下
C71: EPN | D71: ㎎/L | T71: 0.006 以下
C72: ジクロルボス | D72: ㎎/L | T72: 0.008 以下
... C85: ウラン | D85: ㎎/L | T85: 0.002 以下
C86: フェノール | D86: ㎎/L
C87: ホルムアルデヒド | D87: ㎎/L
B88: その他の項目 | C88: 塩素イオン | D88: ㎎/L | T88: ――
C89: アンモニア態窒素 | D89: ㎎/L | T89: ――
C90: 亜硝酸性窒素 | D90: ㎎/L | T90: ――
C91: 硝酸性窒素 | D91: ㎎/L | T91: ――
C92: 有機態窒素 | D92: ㎎/L | T92: ――
C93: 燐酸態燐 | D93: ㎎/L | T93: ――
C94: クロロフィルa | D94: ㎎/ｍ３ | T94: ――
C95: トリハロメタン生成能 | D95: ㎎/L | T95: ――
C96: クロロホルム生成能 | D96: ㎎/L | T96: ――
C97: ブロモジクロロメタン生成能 | D97: ㎎/L | T97: ――
C98: ジブロモクロロメタン生成能 | D98: ㎎/L | T98: ――
C99: ブロモホルム生成能 | D99: ㎎/L | T99: ――
C100: ふん便性大腸菌群数 | D100: 個/100mL | T100: ――
... C103: 電気伝導度 | D103: μS/㎝ | T103: ――
B104: 生活環境項目 | C104: 直鎖アルキルベンゼンスルホン酸及びその塩 | D104: ㎎/L | T104: 0.01 以下
C105: 4-t-オクチルフェノール | D105: ㎎/L
C106: アニリン | D106: ㎎/L
C107: 2,4-ジクロロフェノール | D107: ㎎/L
C108: ビスフェノールＡ | D108: ㎎/L
B109: 特記事項

Sheet 備讃瀬戸3下層
G1: 2025年度 | I1: 公共用水水質結果一覧表（備讃瀬戸3下層）
B3: 測定地点番号 | E3: 3 | T3: 環境基準 または 指針値
B4: 水系 | E4: 備讃瀬戸
B5: 測定地点名 | E5: 備讃瀬戸3下層
B6: 環境基準類型 | E6: 海域AⅡ、生物Ａ
B7: 採取年月日 | E7: 45761 | F7: 45791 | G7: 45833 | H7: 45847 | I7: 45876 | J7: 45908 | K7: 45938 | L7: 45966 | M7: 45995 | N7: 46041 | O7: 46056 | P7: 46099 | Q7: 平均 | R7: 最大 | S7: 最小
B8: 気温 | D8: ℃ | E8: 12.5 | F8: 20.4 | G8: 27.0 | H8: 31.0 | I8: 29.0 | J8: 30.0 | K8: 26.8 | L8: 17.0 | M8: 8.0 | N8: 10.8 | O8: 6.3 | P8: 10.0
B9: 水温 | D9: ℃ | E9: 12.6 | F9: 17.2 | G9: 22.8 | H9: 25.6 | I9: 26.6 | J9: 29.2 | K9: 26.4 | L9: 20.0 | M9: 15.1 | N9: 12.2 | O9: 9.6 | P9: 11.1
B10: 透視度 | D10: ㎝ | E10: >30 | F10: >30 | G10: >30 | H10: >30 | I10: >30 | J10: >30 | K10: >30 | L10: >30 | M10: >30 | N10: >30 | O10: >30 | P10: >30
B11: 測定項目
B12: 生活環境項目 | C12: p H | E12: 8 | F12: 8 | G12: 8 | H12: 8 | I12: 7.8 | J12: 8 | K12: 8 | L12: 8.1 | M12: 8.1 | N12: 8.1 | O12: 8.1 | P12: 8.1 | Q12: =AVERAGE(E12:P12) -> 8.025 | R12: =MAX(E12:P12) -> 8.1 | S12: =MIN(E12:P12) -> 7.8 | T12: 7.8～8.3
C13: D O | D13: ㎎/L | T13: 7.5 以上
C14: B O D | D14: ㎎/L | T14: ――
C15: C O D | D15: ㎎/L | E15: 1.5 | F15: 1.7 | G15: 1.8 | H15: 2.2 | I15: 1.5 | J15: 1.7 | K15: 1.2 | L15: 1.6 | M15: 1.2 | N15: 1.4 | O15: 1.2 | P15: 1.5 | Q15: =AVERAGE(E15:P15) -> 1.5416667 | R15: =MAX(E15:P15) -> 2.2 | S15: =MIN(E15:P15) -> 1.2 | T15: 2 以下
C16: S S | D16: ㎎/L | E16: 1 | F16: 7 | G16: 2 | H16: 5 | I16: 2 | J16: 2 | K16: 1 | L16: 4 | M16: 4 | N16: 4 | O16: 2 | P16: 3 | Q16: =AVERAGE(E16:P16) -> 3.0833333 | R16: =MAX(E16:P16) -> 7 | S16: =MIN(E16:P16) -> 1 | T16: ――
C17: 大腸菌数 | D17: CFU/100ｍL | T17: 20 以下
C18: n-ヘキサン抽出物質 | D18: ㎎/L | T18: 検出されないこと
C19: 全窒素 | D19: ㎎/L | T19: 0.3 以下
C20: 全燐 | D20: ㎎/L | T20: 0.03 以下
C21: 全亜鉛 | D21: ㎎/L | T21: 0.02 以下
C22: ノニルフェノール | D22: ㎎/L | T22: 0.001 以下
B23: 要測定指標 | C23: 底層溶存酸素量 | D23: ㎎/L | T23: ――
C24: 透明度 | D24: m | E24: 4 | F24: 4.7 | G24: 3 | H24: 3.8 | I24: 1 | J24: 2.1 | K24: 3.8 | L24: 2.9 | M24: 4 | N24: 4.1 | O24: 6 | P24: 8.6 | Q24: =AVERAGE(E24:P24) -> 4 | R24: =MAX(E24:P24) -> 8.6 | S24: =MIN(E24:P24) -> 1 | T24: ――
B26: 補足測定項目 | C26: T O C | D26: ㎎/L | T26: ――
B27: 健康項目 | C27: カドミウム | D27: ㎎/L | T27: 0.003 以下
C28: 全シアン | D28: ㎎/L | T28: 検出されないこと
C29: 鉛 | D29: ㎎/L | T29: 0.01 以下
C30: 六価クロム | D30: ㎎/L | T30: 0.02 以下
C31: 砒素 | D31: ㎎/L | T31: 0.01 以下
C32: 総水銀 | D32: ㎎/L | T32: 0.0005 以下
C33: アルキル水銀 | D33: ㎎/L
C34: P C B | D34: ㎎/L | T34: 検出されないこと
C35: ジクロロメタン | D35: ㎎/L | T35: 0.02 以下
C36: 四塩化炭素 | D36: ㎎/L | T36: 0.002 以下
C37: 1,2-ジクロロエタン | D37: ㎎/L | T37: 0.004 以下
C38: 1,1-ジクロロエチレン | D38: ㎎/L | T38: 0.1 以下
C39: ｼｽ-1,2-ｼﾞｸﾛﾛｴﾁﾚﾝ | D39: ㎎/L | T39: 0.04 以下
C40: 1,1,1-ﾄﾘｸﾛﾛｴﾀﾝ | D40: ㎎/L | T40: 1 以下
C41: 1,1,2-ﾄﾘｸﾛﾛｴﾀﾝ | D41: ㎎/L | T41: 0.006 以下
C42: トリクロロエチレン | D42: ㎎/L | T42: 0.01 以下
C43: テトラクロロエチレン | D43: ㎎/L | T43: 0.01 以下
C44: 1,3-ジクロロプロペン | D44: ㎎/L | T44: 0.002 以下
C45: チウラム | D45: ㎎/L | T45: 0.006 以下
... C53: 1,4-ジオキサン | D53: ㎎/L | T53: 0.05 以下
C54: フェノール類 | D54: ㎎/L
B55: 特殊項目 | C55: 銅 | D55: ㎎/L | T55: ――
C56: 亜鉛 | D56: ㎎/L | T56: ――
C57: 鉄_溶解性 | D57: ㎎/L | T57: ――
C58: マンガン_溶解性 | D58: ㎎/L | T58: ――
C59: クロム | D59: ㎎/L | T59: ――
B60: 要監視項目 | C60: クロロホルム | D60: ㎎/L | T60: 0.06 以下
C61: トランス-1,2-ジクロロエチレン | D61: ㎎/L | T61: 0.04 以下
C62: 1,2-ジクロロプロパン | D62: ㎎/L | T62: 0.06 以下
C63: p-ジクロロベンゼン | D63: ㎎/L | T63: 0.2 以下
C64: イソキサチオン | D64: ㎎/L | T64: 0.008 以下
C65: ダイアジノン | D65: ㎎/L | T65: 0.005 以下
C66: フェニトロチオン | D66: ㎎/L | T66: 0.003 以下
C67: イソプロチオラン | D67: ㎎/L | T67: 0.04 以下
C68: オキシン銅 | D68: ㎎/L | T68: 0.04 以下
C69: クロロタロニル | D69: ㎎/L | T69: 0.05 以下
C70: プロピザミド | D70: ㎎/L | T70: 0.008 以下
C71: EPN | D71: ㎎/L | T71: 0.006 以下
C72: ジクロルボス | D72: ㎎/L | T72: 0.008 以下
... C85: ウラン | D85: ㎎/L | T85: 0.002 以下
C86: フェノール | D86: ㎎/L
C87: ホルムアルデヒド | D87: ㎎/L
B88: その他の項目 | C88: 塩素イオン | D88: ㎎/L | T88: ――
C89: アンモニア態窒素 | D89: ㎎/L | T89: ――
C90: 亜硝酸性窒素 | D90: ㎎/L | T90: ――
C91: 硝酸性窒素 | D91: ㎎/L | T91: ――
C92: 有機態窒素 | D92: ㎎/L | T92: ――
C93: 燐酸態燐 | D93: ㎎/L | T93: ――
C94: クロロフィルa | D94: ㎎/ｍ３ | T94: ――
C95: トリハロメタン生成能 | D95: ㎎/L | T95: ――
C96: クロロホルム生成能 | D96: ㎎/L | T96: ――
C97: ブロモジクロロメタン生成能 | D97: ㎎/L | T97: ――
C98: ジブロモクロロメタン生成能 | D98: ㎎/L | T98: ――
C99: ブロモホルム生成能 | D99: ㎎/L | T99: ――
C100: ふん便性大腸菌群数 | D100: 個/100mL | T100: ――
... C103: 電気伝導度 | D103: μS/㎝ | T103: ――
B104: 生活環境項目 | C104: 直鎖アルキルベンゼンスルホン酸及びその塩 | D104: ㎎/L | T104: 0.01 以下
C105: 4-t-オクチルフェノール | D105: ㎎/L
C106: アニリン | D106: ㎎/L
C107: 2,4-ジクロロフェノール | D107: ㎎/L
C108: ビスフェノールＡ | D108: ㎎/L
B109: 特記事項

Sheet 備讃瀬戸3底層
G1: 2025年度 | I1: 公共用水水質結果一覧表（備讃瀬戸3底層）
B3: 測定地点番号 | E3: 3 | T3: 環境基準 または 指針値
B4: 水系 | E4: 備讃瀬戸
B5: 測定地点名 | E5: 備讃瀬戸3底層
B6: 環境基準類型 | E6: 海域AⅡ、生物Ａ
B7: 採取年月日 | E7: 45761 | F7: 45791 | G7: 45833 | H7: 45847 | I7: 45876 | J7: 45908 | K7: 45938 | L7: 45966 | M7: 45995 | N7: 46041 | O7: 46056 | P7: 46099 | Q7: 平均 | R7: 最大 | S7: 最小
B8: 気温 | D8: ℃ | E8: 12.5 | F8: 20.4 | G8: 27.0 | H8: 31.0 | I8: 29.0 | J8: 30.0 | K8: 26.8 | L8: 17.0 | M8: 8.0 | N8: 10.8 | O8: 6.3 | P8: 10.0
B9: 水温 | D9: ℃ | E9: 12.4 | F9: 16.1 | G9: 20.3 | H9: 22.2 | I9: 26.3 | J9: 28.8 | K9: 26.4 | L9: 20.3 | M9: 15.0 | N9: 12.3 | O9: 9.6 | P9: 11.1
B10: 透視度 | D10: ㎝
B11: 測定項目
B12: 生活環境項目 | C12: p H | T12: 7.8～8.3
C13: D O | D13: ㎎/L | T13: 7.5 以上
C14: B O D | D14: ㎎/L | T14: ――
C15: C O D | D15: ㎎/L | T15: 2 以下
C16: S S | D16: ㎎/L | T16: ――
C17: 大腸菌数 | D17: CFU/100ｍL | T17: 20 以下
C18: n-ヘキサン抽出物質 | D18: ㎎/L | T18: 検出されないこと
C19: 全窒素 | D19: ㎎/L | T19: 0.3 以下
C20: 全燐 | D20: ㎎/L | T20: 0.03 以下
C21: 全亜鉛 | D21: ㎎/L | T21: 0.02 以下
C22: ノニルフェノール | D22: ㎎/L | T22: 0.001 以下
B23: 要測定指標 | C23: 底層溶存酸素量 | D23: ㎎/L | E23: 8.4 | F23: 7.8 | G23: 5.4 | H23: 5.1 | I23: 5.2 | J23: 3.4 | K23: 5.6 | L23: 7.6 | M23: 7.9 | N23: 9.2 | O23: 9.6 | P23: 9.5 | Q23: =AVERAGE(E23:P23) -> 7.0583333 | R23: =MAX(E23:P23) -> 9.6 | S23: =MIN(E23:P23) -> 3.4 | T23: ――
C24: 透明度 | D24: m | E24: 4 | F24: 4.7 | G24: 3 | H24: 3.8 | I24: 1 | J24: 2.1 | K24: 3.8 | L24: 2.9 | M24: 4 | N24: 4.1 | O24: 6 | P24: 8.6 | Q24: =AVERAGE(E24:P24) -> 4 | R24: =MAX(E24:P24) -> 8.6 | S24: =MIN(E24:P24) -> 1 | T24: ――
B26: 補足測定項目 | C26: T O C | D26: ㎎/L | T26: ――
B27: 健康項目 | C27: カドミウム | D27: ㎎/L | T27: 0.003 以下
C28: 全シアン | D28: ㎎/L | T28: 検出されないこと
C29: 鉛 | D29: ㎎/L | T29: 0.01 以下
C30: 六価クロム | D30: ㎎/L | T30: 0.02 以下
C31: 砒素 | D31: ㎎/L | T31: 0.01 以下
C32: 総水銀 | D32: ㎎/L | T32: 0.0005 以下
C33: アルキル水銀 | D33: ㎎/L
C34: P C B | D34: ㎎/L | T34: 検出されないこと
C35: ジクロロメタン | D35: ㎎/L | T35: 0.02 以下
C36: 四塩化炭素 | D36: ㎎/L | T36: 0.002 以下
C37: 1,2-ジクロロエタン | D37: ㎎/L | T37: 0.004 以下
C38: 1,1-ジクロロエチレン | D38: ㎎/L | T38: 0.1 以下
C39: ｼｽ-1,2-ｼﾞｸﾛﾛｴﾁﾚﾝ | D39: ㎎/L | T39: 0.04 以下
C40: 1,1,1-ﾄﾘｸﾛﾛｴﾀﾝ | D40: ㎎/L | T40: 1 以下
C41: 1,1,2-ﾄﾘｸﾛﾛｴﾀﾝ | D41: ㎎/L | T41: 0.006 以下
C42: トリクロロエチレン | D42: ㎎/L | T42: 0.01 以下
C43: テトラクロロエチレン | D43: ㎎/L | T43: 0.01 以下
C44: 1,3-ジクロロプロペン | D44: ㎎/L | T44: 0.002 以下
C45: チウラム | D45: ㎎/L | T45: 0.006 以下
... C53: 1,4-ジオキサン | D53: ㎎/L | T53: 0.05 以下
C54: フェノール類 | D54: ㎎/L
B55: 特殊項目 | C55: 銅 | D55: ㎎/L | T55: ――
C56: 亜鉛 | D56: ㎎/L | T56: ――
C57: 鉄_溶解性 | D57: ㎎/L | T57: ――
C58: マンガン_溶解性 | D58: ㎎/L | T58: ――
C59: クロム | D59: ㎎/L | T59: ――
B60: 要監視項目 | C60: クロロホルム | D60: ㎎/L | T60: 0.06 以下
C61: トランス-1,2-ジクロロエチレン | D61: ㎎/L | T61: 0.04 以下
C62: 1,2-ジクロロプロパン | D62: ㎎/L | T62: 0.06 以下
C63: p-ジクロロベンゼン | D63: ㎎/L | T63: 0.2 以下
C64: イソキサチオン | D64: ㎎/L | T64: 0.008 以下
C65: ダイアジノン | D65: ㎎/L | T65: 0.005 以下
C66: フェニトロチオン | D66: ㎎/L | T66: 0.003 以下
C67: イソプロチオラン | D67: ㎎/L | T67: 0.04 以下
C68: オキシン銅 | D68: ㎎/L | T68: 0.04 以下
C69: クロロタロニル | D69: ㎎/L | T69: 0.05 以下
C70: プロピザミド | D70: ㎎/L | T70: 0.008 以下
C71: EPN | D71: ㎎/L | T71: 0.006 以下
C72: ジクロルボス | D72: ㎎/L | T72: 0.008 以下
... C85: ウラン | D85: ㎎/L | T85: 0.002 以下
C86: フェノール | D86: ㎎/L
C87: ホルムアルデヒド | D87: ㎎/L
B88: その他の項目 | C88: 塩素イオン | D88: ㎎/L | T88: ――
C89: アンモニア態窒素 | D89: ㎎/L | T89: ――
C90: 亜硝酸性窒素 | D90: ㎎/L | T90: ――
C91: 硝酸性窒素 | D91: ㎎/L | T91: ――
C92: 有機態窒素 | D92: ㎎/L | T92: ――
C93: 燐酸態燐 | D93: ㎎/L | T93: ――
C94: クロロフィルa | D94: ㎎/ｍ３ | T94: ――
C95: トリハロメタン生成能 | D95: ㎎/L | T95: ――
C96: クロロホルム生成能 | D96: ㎎/L | T96: ――
C97: ブロモジクロロメタン生成能 | D97: ㎎/L | T97: ――
C98: ジブロモクロロメタン生成能 | D98: ㎎/L | T98: ――
C99: ブロモホルム生成能 | D99: ㎎/L | T99: ――
C100: ふん便性大腸菌群数 | D100: 個/100mL | T100: ――
... C103: 電気伝導度 | D103: μS/㎝ | T103: ――
B104: 生活環境項目 | C104: 直鎖アルキルベンゼンスルホン酸及びその塩 | D104: ㎎/L | T104: 0.01 以下
C105: 4-t-オクチルフェノール | D105: ㎎/L
C106: アニリン | D106: ㎎/L
C107: 2,4-ジクロロフェノール | D107: ㎎/L
C108: ビスフェノールＡ | D108: ㎎/L
B109: 特記事項

Sheet 備讃瀬戸3全層
G1: 2025年度 | I1: 公共用水水質結果一覧表（備讃瀬戸3全層）
B3: 測定地点番号 | E3: 3 | T3: 環境基準 または 指針値
B4: 水系 | E4: 備讃瀬戸
B5: 測定地点名 | E5: 備讃瀬戸3全層
B6: 環境基準類型 | E6: 海域AⅡ、生物Ａ
B7: 採取年月日 | E7: 45761 | F7: 45791 | G7: 45833 | H7: 45847 | I7: 45876 | J7: 45908 | K7: 45938 | L7: 45966 | M7: 45995 | N7: 46041 | O7: 46056 | P7: 46099 | Q7: 平均 | R7: 最大 | S7: 最小
B8: 気温 | D8: ℃ | E8: ―― | F8: ―― | G8: ―― | H8: ―― | I8: ―― | J8: ―― | K8: ―― | L8: ―― | M8: ―― | N8: ―― | O8: ―― | P8: ――
B9: 水温 | D9: ℃ | E9: ―― | F9: ―― | G9: ―― | H9: ―― | I9: ―― | J9: ―― | K9: ―― | L9: ―― | M9: ―― | N9: ―― | O9: ―― | P9: ――
B10: 透視度 | D10: ㎝ | E10: >30 | F10: >30 | G10: >30 | H10: >30 | I10: >30 | J10: >30 | K10: >30 | L10: >30 | M10: >30 | N10: >30 | O10: >30 | P10: >30
B11: 測定項目
B12: 生活環境項目 | C12: p H | E12: 8 | F12: 8 | G12: 8 | H12: 8.1 | I12: 7.9 | J12: 8.1 | K12: 8.1 | L12: 8.1 | M12: 8.1 | N12: 8.1 | O12: 8.1 | P12: 8.1 | Q12: =AVERAGE(E12:P12) -> 8.0583333 | R12: =MAX(備讃瀬戸3上層!E12:P12,備讃瀬戸3中層!E12:P12,備讃瀬戸3下層!E12:P12) -> 8.2 | S12: =MIN(備讃瀬戸3上層!E12:P12,備讃瀬戸3中層!E12:P12,備讃瀬戸3下層!E12:P12) -> 7.8 | T12: 7.8～8.3
C13: D O | D13: ㎎/L | E13: 9.2 | F13: 8.6 | G13: 8.6 | H13: 10 | I13: 6.5 | J13: 8.5 | K13: 7.3 | L13: 7.6 | M13: 8.2 | N13: 9.8 | O13: 9.8 | P13: 9.8 | Q13: =AVERAGE(E13:P13) -> 8.6583333 | R13: =MAX(備讃瀬戸3上層!E13:P13,備讃瀬戸3中層!E13:P13) -> 11 | S13: =MIN(備讃瀬戸3上層!E13:P13,備讃瀬戸3中層!E13:P13) -> 6.1 | T13: 7.5 以上
C14: B O D | D14: ㎎/L | T14: ――
C15: C O D | D15: ㎎/L | E15: 1.4 | F15: 1.6 | G15: 2 | H15: 2.6 | I15: 3.5 | J15: 2.9 | K15: 1.3 | L15: 1.5 | M15: 1.2 | N15: 1.4 | O15: 1.1 | P15: 1.5 | Q15: =AVERAGE(E15:P15) -> 1.8333333 | R15: =MAX(備讃瀬戸3上層!E15:P15,備讃瀬戸3中層!E15:P15,備讃瀬戸3下層!E15:P15) -> 6.1 | S15: =MIN(備讃瀬戸3上層!E15:P15,備讃瀬戸3中層!E15:P15,備讃瀬戸3下層!E15:P15) -> 0.9 | T15: 2 以下
C16: S S | D16: ㎎/L | E16: 1 | F16: 4 | G16: 2 | H16: 2 | I16: 4 | J16: 4 | K16: 2 | L16: 4 | M16: 5 | N16: 3 | O16: 2 | P16: 2 | Q16: =AVERAGE(E16:P16) -> 2.9166667 | R16: =MAX(備讃瀬戸3上層!E16:P16,備讃瀬戸3中層!E16:P16,備讃瀬戸3下層!E16:P16) -> 7 | S16: =MIN(備讃瀬戸3上層!E16:P16,備讃瀬戸3中層!E16:P16,備讃瀬戸3下層!E16:P16) -> 1 | T16: ――
C17: 大腸菌数 | D17: CFU/100ｍL | E17: <1 | F17: <1 | G17: <1 | H17: <1 | I17: 43 | J17: <1 | K17: <1 | L17: <1 | M17: <1 | N17: <1 | O17: <1 | P17: <1 | Q17: 5 | R17: =MAX(E17:P17) -> 43 | S17: <1 | T17: 20 以下
C18: n-ヘキサン抽出物質 | D18: ㎎/L | E18: <0.5 | F18: <0.5 | G18: <0.5 | H18: <0.5 | I18: <0.5 | J18: <0.5 | K18: <0.5 | L18: <0.5 | M18: <0.5 | N18: <0.5 | O18: <0.5 | P18: <0.5 | Q18: <0.5 | R18: <0.5 | S18: <0.5 | T18: 検出されないこと
C19: 全窒素 | D19: ㎎/L | E19: 0.17 | F19: 0.13 | G19: 0.17 | H19: 0.12 | I19: 0.32 | J19: 0.24 | K19: 0.16 | L19: 0.13 | M19: 0.16 | N19: 0.12 | O19: 0.16 | P19: 0.11 | Q19: =AVERAGE(E19:P19) -> 0.16583333 | R19: =MAX(備讃瀬戸3上層!E19:P19,備讃瀬戸3中層!E19:P19) -> 0.37 | S19: =MIN(備讃瀬戸3上層!E19:P19,備讃瀬戸3中層!E19:P19) -> 0.1 | T19: 0.3 以下
C20: 全燐 | D20: ㎎/L | E20: 0.02 | F20: 0.024 | G20: 0.03 | H20: 0.021 | I20: 0.12 | J20: 0.05 | K20: 0.033 | L20: 0.023 | M20: 0.029 | N20: 0.014 | O20: 0.026 | P20: 0.025 | Q20: =AVERAGE(E20:P20) -> 0.034583333 | R20: =MAX(備讃瀬戸3上層!E20:P20,備讃瀬戸3中層!E20:P20) -> 0.16 | S20: =MIN(備讃瀬戸3上層!E20:P20,備讃瀬戸3中層!E20:P20) -> 0.014 | T20: 0.03 以下
C21: 全亜鉛 | D21: ㎎/L | T21: 0.02 以下
C22: ノニルフェノール | D22: ㎎/L | T22: 0.001 以下
B23: 要測定指標 | C23: 底層溶存酸素量 | D23: ㎎/L | E23: 8.4 | F23: 7.8 | G23: 5.4 | H23: 5.1 | I23: 5.2 | J23: 3.4 | K23: 5.6 | L23: 7.6 | M23: 7.9 | N23: 9.2 | O23: 9.6 | P23: 9.5 | Q23: =AVERAGE(E23:P23) -> 7.0583333 | R23: =MAX(E23:P23) -> 9.6 | S23: =MIN(E23:P23) -> 3.4 | T23: ――
C24: 透明度 | D24: m | E24: 4 | F24: 4.7 | G24: 3 | H24: 3.8 | I24: 1 | J24: 2.1 | K24: 3.8 | L24: 2.9 | M24: 4 | N24: 4.1 | O24: 6 | P24: 8.6 | Q24: =AVERAGE(E24:P24) -> 4 | R24: =MAX(E24:P24) -> 8.6 | S24: =MIN(E24:P24) -> 1 | T24: ――
B26: 補足測定項目 | C26: T O C | D26: ㎎/L | E26: 1.5 | H26: 2.2 | K26: 1.5 | N26: 1.4 | Q26: =AVERAGE(E26:P26) -> 1.65 | R26: =MAX(E26:P26) -> 2.2 | S26: =MIN(E26:P26) -> 1.4 | T26: ――
B27: 健康項目 | C27: カドミウム | D27: ㎎/L | H27: <0.0003 | Q27: <0.0003 | R27: <0.0003 | S27: <0.0003 | T27: 0.003 以下
C28: 全シアン | D28: ㎎/L | H28: <0.1 | Q28: <0.1 | R28: <0.1 | S28: <0.1 | T28: 検出されないこと
C29: 鉛 | D29: ㎎/L | H29: <0.005 | Q29: <0.005 | R29: <0.005 | S29: <0.005 | T29: 0.01 以下
C30: 六価クロム | D30: ㎎/L | H30: <0.01 | Q30: <0.01 | R30: <0.01 | S30: <0.01 | T30: 0.02 以下
C31: 砒素 | D31: ㎎/L | H31: <0.005 | Q31: <0.005 | R31: <0.005 | S31: <0.005 | T31: 0.01 以下
C32: 総水銀 | D32: ㎎/L | H32: <0.0005 | Q32: <0.0005 | R32: <0.0005 | S32: <0.0005 | T32: 0.0005 以下
C33: アルキル水銀 | D33: ㎎/L
C34: P C B | D34: ㎎/L | T34: 検出されないこと
C35: ジクロロメタン | D35: ㎎/L | T35: 0.02 以下
C36: 四塩化炭素 | D36: ㎎/L | T36: 0.002 以下
C37: 1,2-ジクロロエタン | D37: ㎎/L | T37: 0.004 以下
C38: 1,1-ジクロロエチレン | D38: ㎎/L | T38: 0.1 以下
C39: ｼｽ-1,2-ｼﾞｸﾛﾛｴﾁﾚﾝ | D39: ㎎/L | T39: 0.04 以下
C40: 1,1,1-ﾄﾘｸﾛﾛｴﾀﾝ | D40: ㎎/L | T40: 1 以下
C41: 1,1,2-ﾄﾘｸﾛﾛｴﾀﾝ | D41: ㎎/L | T41: 0.006 以下
C42: トリクロロエチレン | D42: ㎎/L | T42: 0.01 以下
C43: テトラクロロエチレン | D43: ㎎/L | T43: 0.01 以下
C44: 1,3-ジクロロプロペン | D44: ㎎/L | T44: 0.002 以下
C45: チウラム | D45: ㎎/L | T45: 0.006 以下
... C49: セレン | D49: ㎎/L | T49: 0.01 以下
C50: 硝酸性窒素及び亜硝酸性窒素 | D50: ㎎/L | H50: <0.01 | Q50: <0.01 | R50: <0.01 | S50: <0.01 | T50: 10 以下
C51: ふっ素 | D51: ㎎/L | T51: ――
C52: ほう素 | D52: ㎎/L | T52: ――
C53: 1,4-ジオキサン | D53: ㎎/L | T53: 0.05 以下
C54: フェノール類 | D54: ㎎/L
B55: 特殊項目 | C55: 銅 | D55: ㎎/L | T55: ――
C56: 亜鉛 | D56: ㎎/L | T56: ――
C57: 鉄_溶解性 | D57: ㎎/L | T57: ――
C58: マンガン_溶解性 | D58: ㎎/L | T58: ――
C59: クロム | D59: ㎎/L | T59: ――
B60: 要監視項目 | C60: クロロホルム | D60: ㎎/L | T60: 0.06 以下
C61: トランス-1,2-ジクロロエチレン | D61: ㎎/L | T61: 0.04 以下
C62: 1,2-ジクロロプロパン | D62: ㎎/L | T62: 0.06 以下
C63: p-ジクロロベンゼン | D63: ㎎/L | T63: 0.2 以下
C64: イソキサチオン | D64: ㎎/L | T64: 0.008 以下
C65: ダイアジノン | D65: ㎎/L | T65: 0.005 以下
C66: フェニトロチオン | D66: ㎎/L | T66: 0.003 以下
C67: イソプロチオラン | D67: ㎎/L | T67: 0.04 以下
C68: オキシン銅 | D68: ㎎/L | T68: 0.04 以下
C69: クロロタロニル | D69: ㎎/L | T69: 0.05 以下
C70: プロピザミド | D70: ㎎/L | T70: 0.008 以下
C71: EPN | D71: ㎎/L | T71: 0.006 以下
C72: ジクロルボス | D72: ㎎/L | T72: 0.008 以下
... C85: ウラン | D85: ㎎/L | T85: 0.002 以下
C86: フェノール | D86: ㎎/L
C87: ホルムアルデヒド | D87: ㎎/L
B88: その他の項目 | C88: 塩素イオン | D88: ㎎/L | E88: 18500 | F88: 18100 | G88: 16100 | H88: 17200 | I88: 12300 | J88: 16900 | K88: 17100 | L88: 18300 | M88: 18300 | N88: 18100 | O88: 18500 | P88: 16800 | Q88: 17200 | R88: =MAX(E88:P88) -> 18500 | S88: =MIN(E88:P88) -> 12300 | T88: ――
C89: アンモニア態窒素 | D89: ㎎/L | T89: ――
C90: 亜硝酸性窒素 | D90: ㎎/L | T90: ――
C91: 硝酸性窒素 | D91: ㎎/L | T91: ――
C92: 有機態窒素 | D92: ㎎/L | T92: ――
C93: 燐酸態燐 | D93: ㎎/L | T93: ――
C94: クロロフィルa | D94: ㎎/ｍ３ | T94: ――
C95: トリハロメタン生成能 | D95: ㎎/L | T95: ――
C96: クロロホルム生成能 | D96: ㎎/L | T96: ――
C97: ブロモジクロロメタン生成能 | D97: ㎎/L | T97: ――
C98: ジブロモクロロメタン生成能 | D98: ㎎/L | T98: ――
C99: ブロモホルム生成能 | D99: ㎎/L | T99: ――
C100: ふん便性大腸菌群数 | D100: 個/100mL | T100: ――
... C103: 電気伝導度 | D103: μS/㎝ | T103: ――
B104: 生活環境項目 | C104: 直鎖アルキルベンゼンスルホン酸及びその塩 | D104: ㎎/L | T104: 0.01 以下
C105: 4-t-オクチルフェノール | D105: ㎎/L
C106: アニリン | D106: ㎎/L
C107: 2,4-ジクロロフェノール | D107: ㎎/L
C108: ビスフェノールＡ | D108: ㎎/L
B109: 特記事項

Sheet 備讃瀬戸4上層
G1: 2025年度 | I1: 公共用水水質結果一覧表（備讃瀬戸4上層）
B3: 測定地点番号 | E3: 4 | T3: 環境基準 または 指針値
B4: 水系 | E4: 備讃瀬戸
B5: 測定地点名 | E5: 備讃瀬戸4上層
B6: 環境基準類型 | E6: 海域AⅡ、生物特Ａ
B7: 採取年月日 | E7: 45761 | F7: 45791 | G7: 45833 | H7: 45847 | I7: 45876 | J7: 45908 | K7: 45938 | L7: 45966 | M7: 45995 | N7: 46041 | O7: 46056 | P7: 46099 | Q7: 平均 | R7: 最大 | S7: 最小
B8: 気温 | D8: ℃ | E8: 12.5 | F8: 17.9 | G8: 27.0 | H8: 28.0 | I8: 30.0 | J8: 30.5 | K8: 26.8 | L8: 14.0 | M8: 7.5 | N8: 10.8 | O8: 6.5 | P8: 10.0
B9: 水温 | D9: ℃ | E9: 13.7 | F9: 17.2 | G9: 24.0 | H9: 27.1 | I9: 30.6 | J9: 30.6 | K9: 27.0 | L9: 19.5 | M9: 13.3 | N9: 11.8 | O9: 9.7 | P9: 11.3
B10: 透視度 | D10: ㎝ | E10: >30 | F10: >30 | G10: >30 | H10: >30 | I10: >30 | J10: >30 | K10: >30 | L10: >30 | M10: >30 | N10: >30 | O10: >30 | P10: >30
B11: 測定項目
B12: 生活環境項目 | C12: p H | E12: 8.2 | F12: 8 | G12: 8.1 | H12: 8.1 | I12: 8.1 | J12: 8.2 | K12: 8 | L12: 8.1 | M12: 8.1 | N12: 8.2 | O12: 8.1 | P12: 8.2 | Q12: =AVERAGE(E12:P12) -> 8.1166667 | R12: =MAX(E12:P12) -> 8.2 | S12: =MIN(E12:P12) -> 8 | T12: 7.8～8.3
C13: D O | D13: ㎎/L | E13: 11 | F13: 9 | G13: 8.6 | H13: 9.2 | I13: 6.2 | J13: 8.3 | K13: 7.2 | L13: 7.8 | M13: 8 | N13: 9.3 | O13: 8.5 | P13: 10 | Q13: =AVERAGE(E13:P13) -> 8.5916667 | R13: =MAX(E13:P13) -> 11 | S13: =MIN(E13:P13) -> 6.2 | T13: 7.5 以上
C14: B O D | D14: ㎎/L | T14: ――
C15: C O D | D15: ㎎/L | E15: 2.9 | F15: 1.5 | G15: 1.9 | H15: 2.8 | I15: 6.2 | J15: 2.6 | K15: 3 | L15: 1.6 | M15: 1.4 | N15: 1.8 | O15: 1.3 | P15: 2.1 | Q15: =AVERAGE(E15:P15) -> 2.425 | R15: =MAX(E15:P15) -> 6.2 | S15: =MIN(E15:P15) -> 1.3 | T15: 2 以下
C16: S S | D16: ㎎/L | E16: 8 | F16: 2 | G16: 2 | H16: 3 | I16: 8 | J16: 3 | K16: 4 | L16: 6 | M16: 4 | N16: 5 | O16: 4 | P16: 5 | Q16: =AVERAGE(E16:P16) -> 4.5 | R16: =MAX(E16:P16) -> 8 | S16: =MIN(E16:P16) -> 2 | T16: ――
C17: 大腸菌数 | D17: CFU/100ｍL | E17: 3 | F17: <1 | G17: 130 | H17: <1 | I17: 64 | J17: 1 | K17: 7 | L17: <1 | M17: <1 | N17: <1 | O17: <1 | P17: <1 | Q17: 18 | R17: =MAX(E17:P17) -> 130 | S17: <1 | T17: 20 以下
C18: n-ヘキサン抽出物質 | D18: ㎎/L | E18: <0.5 | F18: <0.5 | G18: <0.5 | H18: <0.5 | I18: <0.5 | J18: <0.5 | K18: <0.5 | L18: <0.5 | M18: <0.5 | N18: <0.5 | O18: <0.5 | P18: <0.5 | Q18: <0.5 | R18: <0.5 | S18: <0.5 | T18: 検出されないこと
C19: 全窒素 | D19: ㎎/L | E19: 0.27 | F19: 0.16 | G19: 0.21 | H19: 0.12 | I19: 0.43 | J19: 0.2 | K19: 0.48 | L19: 0.21 | M19: 0.22 | N19: 0.15 | O19: 0.18 | P19: 0.19 | Q19: =AVERAGE(E19:P19) -> 0.235 | R19: =MAX(E19:P19) -> 0.48 | S19: =MIN(E19:P19) -> 0.12 | T19: 0.3 以下
C20: 全燐 | D20: ㎎/L | E20: 0.035 | F20: 0.018 | G20: 0.023 | H20: 0.023 | I20: 0.19 | J20: 0.036 | K20: 0.065 | L20: 0.031 | M20: 0.027 | N20: 0.015 | O20: 0.024 | P20: 0.03 | Q20: =AVERAGE(E20:P20) -> 0.043083333 | R20: =MAX(E20:P20) -> 0.19 | S20: =MIN(E20:P20) -> 0.015 | T20: 0.03 以下
C21: 全亜鉛 | D21: ㎎/L | T21: 0.01 以下
C22: ノニルフェノール | D22: ㎎/L | T22: 0.0007 以下
B23: 要測定指標 | C23: 底層溶存酸素量 | D23: ㎎/L | T23: ――
C24: 透明度 | D24: m | E24: 1.8 | F24: 2.8 | G24: 2.3 | H24: 2.8 | I24: 0.8 | J24: 2.1 | K24: 2.5 | L24: 2 | M24: 3.3 | N24: 2.8 | O24: >5.0 | P24: 2.8 | Q24: 2.6 | R24: >5.0 | S24: =MIN(E24:P24) -> 0.8 | T24: ――
B26: 補足測定項目 | C26: T O C | D26: ㎎/L | E26: 2.1 | H26: 2 | K26: 2.1 | N26: 1.5 | Q26: =AVERAGE(E26:P26) -> 1.925 | R26: =MAX(E26:P26) -> 2.1 | S26: =MIN(E26:P26) -> 1.5 | T26: ――
B27: 健康項目 | C27: カドミウム | D27: ㎎/L | H27: <0.0003 | Q27: <0.0003 | R27: <0.0003 | S27: <0.0003 | T27: 0.003 以下
C28: 全シアン | D28: ㎎/L | H28: <0.1 | Q28: <0.1 | R28: <0.1 | S28: <0.1 | T28: 検出されないこと
C29: 鉛 | D29: ㎎/L | H29: <0.005 | Q29: <0.005 | R29: <0.005 | S29: <0.005 | T29: 0.01 以下
C30: 六価クロム | D30: ㎎/L | H30: <0.01 | Q30: <0.01 | R30: <0.01 | S30: <0.01 | T30: 0.02 以下
C31: 砒素 | D31: ㎎/L | H31: <0.005 | Q31: <0.005 | R31: <0.005 | S31: <0.005 | T31: 0.01 以下
C32: 総水銀 | D32: ㎎/L | H32: <0.0005 | Q32: <0.0005 | R32: <0.0005 | S32: <0.0005 | T32: 0.0005 以下
C33: アルキル水銀 | D33: ㎎/L
C34: P C B | D34: ㎎/L | T34: 検出されないこと
C35: ジクロロメタン | D35: ㎎/L | T35: 0.02 以下
C36: 四塩化炭素 | D36: ㎎/L | T36: 0.002 以下
C37: 1,2-ジクロロエタン | D37: ㎎/L | T37: 0.004 以下
C38: 1,1-ジクロロエチレン | D38: ㎎/L | T38: 0.1 以下
C39: ｼｽ-1,2-ｼﾞｸﾛﾛｴﾁﾚﾝ | D39: ㎎/L | T39: 0.04 以下
C40: 1,1,1-ﾄﾘｸﾛﾛｴﾀﾝ | D40: ㎎/L | T40: 1 以下
C41: 1,1,2-ﾄﾘｸﾛﾛｴﾀﾝ | D41: ㎎/L | T41: 0.006 以下
C42: トリクロロエチレン | D42: ㎎/L | T42: 0.01 以下
C43: テトラクロロエチレン | D43: ㎎/L | T43: 0.01 以下
C44: 1,3-ジクロロプロペン | D44: ㎎/L | T44: 0.002 以下
C45: チウラム | D45: ㎎/L | T45: 0.006 以下
... C49: セレン | D49: ㎎/L | T49: 0.01 以下
C50: 硝酸性窒素及び亜硝酸性窒素 | D50: ㎎/L | H50: <0.01 | Q50: <0.01 | R50: <0.01 | S50: <0.01 | T50: 10 以下
C51: ふっ素 | D51: ㎎/L | T51: ――
C52: ほう素 | D52: ㎎/L | T52: ――
C53: 1,4-ジオキサン | D53: ㎎/L | T53: 0.05 以下
C54: フェノール類 | D54: ㎎/L
B55: 特殊項目 | C55: 銅 | D55: ㎎/L | T55: ――
C56: 亜鉛 | D56: ㎎/L | T56: ――
C57: 鉄_溶解性 | D57: ㎎/L | T57: ――
C58: マンガン_溶解性 | D58: ㎎/L | T58: ――
C59: クロム | D59: ㎎/L | T59: ――
B60: 要監視項目 | C60: クロロホルム | D60: ㎎/L | T60: 0.06 以下
C61: トランス-1,2-ジクロロエチレン | D61: ㎎/L | T61: 0.04 以下
C62: 1,2-ジクロロプロパン | D62: ㎎/L | T62: 0.06 以下
C63: p-ジクロロベンゼン | D63: ㎎/L | T63: 0.2 以下
C64: イソキサチオン | D64: ㎎/L | T64: 0.008 以下
C65: ダイアジノン | D65: ㎎/L | T65: 0.005 以下
C66: フェニトロチオン | D66: ㎎/L | T66: 0.003 以下
C67: イソプロチオラン | D67: ㎎/L | T67: 0.04 以下
C68: オキシン銅 | D68: ㎎/L | T68: 0.04 以下
C69: クロロタロニル | D69: ㎎/L | T69: 0.05 以下
C70: プロピザミド | D70: ㎎/L | T70: 0.008 以下
C71: EPN | D71: ㎎/L | T71: 0.006 以下
C72: ジクロルボス | D72: ㎎/L | T72: 0.008 以下
... C85: ウラン | D85: ㎎/L | T85: 0.002 以下
C86: フェノール | D86: ㎎/L
C87: ホルムアルデヒド | D87: ㎎/L
B88: その他の項目 | C88: 塩素イオン | D88: ㎎/L | E88: 14600 | F88: 17900 | G88: 16300 | H88: 17300 | I88: 11700 | J88: 17400 | K88: 11900 | L88: 17600 | M88: 18300 | N88: 17800 | O88: 18200 | P88: 16700 | Q88: 16300 | R88: =MAX(E88:P88) -> 18300 | S88: =MIN(E88:P88) -> 11700 | T88: ――
C89: アンモニア態窒素 | D89: ㎎/L | T89: ――
C90: 亜硝酸性窒素 | D90: ㎎/L | T90: ――
C91: 硝酸性窒素 | D91: ㎎/L | T91: ――
C92: 有機態窒素 | D92: ㎎/L | T92: ――
C93: 燐酸態燐 | D93: ㎎/L | T93: ――
C94: クロロフィルa | D94: ㎎/ｍ３ | T94: ――
C95: トリハロメタン生成能 | D95: ㎎/L | T95: ――
C96: クロロホルム生成能 | D96: ㎎/L | T96: ――
C97: ブロモジクロロメタン生成能 | D97: ㎎/L | T97: ――
C98: ジブロモクロロメタン生成能 | D98: ㎎/L | T98: ――
C99: ブロモホルム生成能 | D99: ㎎/L | T99: ――
C100: ふん便性大腸菌群数 | D100: 個/100mL | T100: ――
... C103: 電気伝導度 | D103: μS/㎝ | T103: ――
B104: 生活環境項目 | C104: 直鎖アルキルベンゼンスルホン酸及びその塩 | D104: ㎎/L | T104: 0.006 以下
C105: 4-t-オクチルフェノール | D105: ㎎/L
C106: アニリン | D106: ㎎/L
C107: 2,4-ジクロロフェノール | D107: ㎎/L
C108: ビスフェノールＡ | D108: ㎎/L
B109: 特記事項

Sheet 備讃瀬戸4中層
G1: 2025年度 | I1: 公共用水水質結果一覧表（備讃瀬戸4中層）
B3: 測定地点番号 | E3: 4 | T3: 環境基準 または 指針値
B4: 水系 | E4: 備讃瀬戸
B5: 測定地点名 | E5: 備讃瀬戸4中層
B6: 環境基準類型 | E6: 海域AⅡ、生物特Ａ
B7: 採取年月日 | E7: 45761 | F7: 45791 | G7: 45833 | H7: 45847 | I7: 45876 | J7: 45908 | K7: 45938 | L7: 45966 | M7: 45995 | N7: 46041 | O7: 46056 | P7: 46099 | Q7: 平均 | R7: 最大 | S7: 最小
B8: 気温 | D8: ℃ | E8: 12.5 | F8: 17.9 | G8: 27.0 | H8: 28.0 | I8: 30.0 | J8: 30.5 | K8: 26.8 | L8: 14.0 | M8: 7.5 | N8: 10.8 | O8: 6.5 | P8: 10.0
B9: 水温 | D9: ℃ | E9: 12.7 | F9: 17.1 | G9: 23.2 | H9: 26.7 | I9: 28.7 | J9: 29.8 | K9: 26.7 | L9: 19.4 | M9: 13.7 | N9: 11.6 | O9: 9.6 | P9: 11.2
B10: 透視度 | D10: ㎝ | E10: >30 | F10: >30 | G10: >30 | H10: >30 | I10: >30 | J10: >30 | K10: >30 | L10: >30 | M10: >30 | N10: >30 | O10: >30 | P10: >30
B11: 測定項目
B12: 生活環境項目 | C12: p H | E12: 8 | F12: 8 | G12: 8.1 | H12: 8.1 | I12: 7.9 | J12: 8.1 | K12: 8 | L12: 8.1 | M12: 8.1 | N12: 8.2 | O12: 8.1 | P12: 8.1 | Q12: =AVERAGE(E12:P12) -> 8.0666667 | R12: =MAX(E12:P12) -> 8.2 | S12: =MIN(E12:P12) -> 7.9 | T12: 7.8～8.3
C13: D O | D13: ㎎/L | E13: 9.3 | F13: 8.6 | G13: 8.4 | H13: 8.9 | I13: 5.3 | J13: 7.2 | K13: 7.2 | L13: 7.2 | M13: 8.4 | N13: 10 | O13: 9.9 | P13: 10 | Q13: =AVERAGE(E13:P13) -> 8.3666667 | R13: =MAX(E13:P13) -> 10 | S13: =MIN(E13:P13) -> 5.3 | T13: 7.5 以上
C14: B O D | D14: ㎎/L | T14: ――
C15: C O D | D15: ㎎/L | E15: 2 | F15: 1.9 | G15: 2.8 | H15: 2.9 | I15: 3.3 | J15: 1.7 | K15: 1.7 | L15: 1.9 | M15: 1.3 | N15: 1.9 | O15: 1.2 | P15: 1.7 | Q15: =AVERAGE(E15:P15) -> 2.025 | R15: =MAX(E15:P15) -> 3.3 | S15: =MIN(E15:P15) -> 1.2 | T15: 2 以下
C16: S S | D16: ㎎/L | E16: 6 | F16: 2 | G16: 4 | H16: 3 | I16: 5 | J16: 3 | K16: 3 | L16: 6 | M16: 4 | N16: 4 | O16: 2 | P16: 3 | Q16: =AVERAGE(E16:P16) -> 3.75 | R16: =MAX(E16:P16) -> 6 | S16: =MIN(E16:P16) -> 2 | T16: ――
C17: 大腸菌数 | D17: CFU/100ｍL | T17: 20 以下
C18: n-ヘキサン抽出物質 | D18: ㎎/L | T18: 検出されないこと
C19: 全窒素 | D19: ㎎/L | E19: 0.19 | F19: 0.16 | G19: 0.27 | H19: 0.13 | I19: 0.32 | J19: 0.21 | K19: 0.21 | L19: 0.22 | M19: 0.2 | N19: 0.14 | O19: 0.14 | P19: 0.15 | Q19: =AVERAGE(E19:P19) -> 0.195 | R19: =MAX(E19:P19) -> 0.32 | S19: =MIN(E19:P19) -> 0.13 | T19: 0.3 以下
C20: 全燐 | D20: ㎎/L | E20: 0.022 | F20: 0.023 | G20: 0.036 | H20: 0.023 | I20: 0.1 | J20: 0.041 | K20: 0.039 | L20: 0.032 | M20: 0.028 | N20: 0.016 | O20: 0.025 | P20: 0.025 | Q20: =AVERAGE(E20:P20) -> 0.034166667 | R20: =MAX(E20:P20) -> 0.1 | S20: =MIN(E20:P20) -> 0.016 | T20: 0.03 以下
C21: 全亜鉛 | D21: ㎎/L | T21: 0.01 以下
C22: ノニルフェノール | D22: ㎎/L | T22: 0.0007 以下
B23: 要測定指標 | C23: 底層溶存酸素量 | D23: ㎎/L | T23: ――
C24: 透明度 | D24: m | E24: 1.8 | F24: 2.8 | G24: 2.3 | H24: 2.8 | I24: 0.8 | J24: 2.1 | K24: 2.5 | L24: 2 | M24: 3.3 | N24: 2.8 | O24: >5.0 | P24: 2.8 | Q24: 2.6 | R24: >5.0 | S24: =MIN(E24:P24) -> 0.8 | T24: ――
B26: 補足測定項目 | C26: T O C | D26: ㎎/L | T26: ――
B27: 健康項目 | C27: カドミウム | D27: ㎎/L | T27: 0.003 以下
C28: 全シアン | D28: ㎎/L | T28: 検出されないこと
C29: 鉛 | D29: ㎎/L | T29: 0.01 以下
C30: 六価クロム | D30: ㎎/L | T30: 0.02 以下
C31: 砒素 | D31: ㎎/L | T31: 0.01 以下
C32: 総水銀 | D32: ㎎/L | T32: 0.0005 以下
C33: アルキル水銀 | D33: ㎎/L
C34: P C B | D34: ㎎/L | T34: 検出されないこと
C35: ジクロロメタン | D35: ㎎/L | T35: 0.02 以下
C36: 四塩化炭素 | D36: ㎎/L | T36: 0.002 以下
C37: 1,2-ジクロロエタン | D37: ㎎/L | T37: 0.004 以下
C38: 1,1-ジクロロエチレン | D38: ㎎/L | T38: 0.1 以下
C39: ｼｽ-1,2-ｼﾞｸﾛﾛｴﾁﾚﾝ | D39: ㎎/L | T39: 0.04 以下
C40: 1,1,1-ﾄﾘｸﾛﾛｴﾀﾝ | D40: ㎎/L | T40: 1 以下
C41: 1,1,2-ﾄﾘｸﾛﾛｴﾀﾝ | D41: ㎎/L | T41: 0.006 以下
C42: トリクロロエチレン | D42: ㎎/L | T42: 0.01 以下
C43: テトラクロロエチレン | D43: ㎎/L | T43: 0.01 以下
C44: 1,3-ジクロロプロペン | D44: ㎎/L | T44: 0.002 以下
C45: チウラム | D45: ㎎/L | T45: 0.006 以下
... C53: 1,4-ジオキサン | D53: ㎎/L | T53: 0.05 以下
C54: フェノール類 | D54: ㎎/L
B55: 特殊項目 | C55: 銅 | D55: ㎎/L | T55: ――
C56: 亜鉛 | D56: ㎎/L | T56: ――
C57: 鉄_溶解性 | D57: ㎎/L | T57: ――
C58: マンガン_溶解性 | D58: ㎎/L | T58: ――
C59: クロム | D59: ㎎/L | T59: ――
B60: 要監視項目 | C60: クロロホルム | D60: ㎎/L | T60: 0.06 以下
C61: トランス-1,2-ジクロロエチレン | D61: ㎎/L | T61: 0.04 以下
C62: 1,2-ジクロロプロパン | D62: ㎎/L | T62: 0.06 以下
C63: p-ジクロロベンゼン | D63: ㎎/L | T63: 0.2 以下
C64: イソキサチオン | D64: ㎎/L | T64: 0.008 以下
C65: ダイアジノン | D65: ㎎/L | T65: 0.005 以下
C66: フェニトロチオン | D66: ㎎/L | T66: 0.003 以下
C67: イソプロチオラン | D67: ㎎/L | T67: 0.04 以下
C68: オキシン銅 | D68: ㎎/L | T68: 0.04 以下
C69: クロロタロニル | D69: ㎎/L | T69: 0.05 以下
C70: プロピザミド | D70: ㎎/L | T70: 0.008 以下
C71: EPN | D71: ㎎/L | T71: 0.006 以下
C72: ジクロルボス | D72: ㎎/L | T72: 0.008 以下
... C85: ウラン | D85: ㎎/L | T85: 0.002 以下
C86: フェノール | D86: ㎎/L
C87: ホルムアルデヒド | D87: ㎎/L
B88: その他の項目 | C88: 塩素イオン | D88: ㎎/L | T88: ――
C89: アンモニア態窒素 | D89: ㎎/L | T89: ――
C90: 亜硝酸性窒素 | D90: ㎎/L | T90: ――
C91: 硝酸性窒素 | D91: ㎎/L | T91: ――
C92: 有機態窒素 | D92: ㎎/L | T92: ――
C93: 燐酸態燐 | D93: ㎎/L | T93: ――
C94: クロロフィルa | D94: ㎎/ｍ３ | T94: ――
C95: トリハロメタン生成能 | D95: ㎎/L | T95: ――
C96: クロロホルム生成能 | D96: ㎎/L | T96: ――
C97: ブロモジクロロメタン生成能 | D97: ㎎/L | T97: ――
C98: ジブロモクロロメタン生成能 | D98: ㎎/L | T98: ――
C99: ブロモホルム生成能 | D99: ㎎/L | T99: ――
C100: ふん便性大腸菌群数 | D100: 個/100mL | T100: ――
... C103: 電気伝導度 | D103: μS/㎝ | T103: ――
B104: 生活環境項目 | C104: 直鎖アルキルベンゼンスルホン酸及びその塩 | D104: ㎎/L | T104: 0.006 以下
C105: 4-t-オクチルフェノール | D105: ㎎/L
C106: アニリン | D106: ㎎/L
C107: 2,4-ジクロロフェノール | D107: ㎎/L
C108: ビスフェノールＡ | D108: ㎎/L
B109: 特記事項

Sheet 備讃瀬戸4下層
G1: 2025年度 | I1: 公共用水水質結果一覧表（備讃瀬戸4下層）
B3: 測定地点番号 | E3: 4 | T3: 環境基準 または 指針値
B4: 水系 | E4: 備讃瀬戸
B5: 測定地点名 | E5: 備讃瀬戸4下層
B6: 環境基準類型 | E6: 海域AⅡ、生物特Ａ
B7: 採取年月日 | E7: 45761 | F7: 45791 | G7: 45833 | H7: 45847 | I7: 45876 | J7: 45908 | K7: 45938 | L7: 45966 | M7: 45995 | N7: 46041 | O7: 46056 | P7: 46099 | Q7: 平均 | R7: 最大 | S7: 最小
B8: 気温 | D8: ℃ | E8: 12.5 | F8: 17.9 | G8: 27.0 | H8: 28.0 | I8: 30.0 | J8: 30.5 | K8: 26.8 | L8: 14.0 | M8: 7.5 | N8: 10.8 | O8: 6.5 | P8: 10.0
B9: 水温 | D9: ℃ | E9: 12.7 | F9: 17.2 | G9: 22.7 | H9: 26.1 | I9: 21.6 | J9: 29.5 | K9: 26.6 | L9: 19.5 | M9: 13.6 | N9: 11.9 | O9: 9.8 | P9: 11.1
B10: 透視度 | D10: ㎝ | E10: >30 | F10: >30 | G10: >30 | H10: >30 | I10: >30 | J10: >30 | K10: >30 | L10: >30 | M10: >30 | N10: >30 | O10: >30 | P10: >30
B11: 測定項目
B12: 生活環境項目 | C12: p H | E12: 8 | F12: 8 | G12: 8 | H12: 8.1 | I12: 7.9 | J12: 8.1 | K12: 8 | L12: 8.1 | M12: 8.1 | N12: 8.2 | O12: 8.1 | P12: 8.1 | Q12: =AVERAGE(E12:P12) -> 8.0583333 | R12: =MAX(E12:P12) -> 8.2 | S12: =MIN(E12:P12) -> 7.9 | T12: 7.8～8.3
C13: D O | D13: ㎎/L | T13: 7.5 以上
C14: B O D | D14: ㎎/L | T14: ――
C15: C O D | D15: ㎎/L | E15: 1.9 | F15: 1.9 | G15: 2.5 | H15: 2.7 | I15: 1.7 | J15: 2.2 | K15: 1.5 | L15: 1.7 | M15: 1.4 | N15: 1.6 | O15: 1.3 | P15: 2 | Q15: =AVERAGE(E15:P15) -> 1.8666667 | R15: =MAX(E15:P15) -> 2.7 | S15: =MIN(E15:P15) -> 1.3 | T15: 2 以下
C16: S S | D16: ㎎/L | E16: 5 | F16: 6 | G16: 5 | H16: 3 | I16: 4 | J16: 3 | K16: 5 | L16: 4 | M16: 5 | N16: 5 | O16: 4 | P16: 6 | Q16: =AVERAGE(E16:P16) -> 4.5833333 | R16: =MAX(E16:P16) -> 6 | S16: =MIN(E16:P16) -> 3 | T16: ――
C17: 大腸菌数 | D17: CFU/100ｍL | T17: 20 以下
C18: n-ヘキサン抽出物質 | D18: ㎎/L | T18: 検出されないこと
C19: 全窒素 | D19: ㎎/L | T19: 0.3 以下
C20: 全燐 | D20: ㎎/L | T20: 0.03 以下
C21: 全亜鉛 | D21: ㎎/L | T21: 0.01 以下
C22: ノニルフェノール | D22: ㎎/L | T22: 0.0007 以下
B23: 要測定指標 | C23: 底層溶存酸素量 | D23: ㎎/L | E23: 8.7 | F23: 8.5 | G23: 7.8 | H23: 8.7 | I23: 4.5 | J23: 6.4 | K23: 6.2 | L23: 7.3 | M23: 8.1 | N23: 10 | O23: 9.9 | P23: 9.7 | Q23: =AVERAGE(E23:P23) -> 7.9833333 | R23: =MAX(E23:P23) -> 10 | S23: =MIN(E23:P23) -> 4.5 | T23: ――
C24: 透明度 | D24: m | E24: 1.8 | F24: 2.8 | G24: 2.3 | H24: 2.8 | I24: 0.8 | J24: 2.1 | K24: 2.5 | L24: 2 | M24: 3.3 | N24: 2.8 | O24: >5.0 | P24: 2.8 | Q24: 2.6 | R24: >5.0 | S24: =MIN(E24:P24) -> 0.8 | T24: ――
B26: 補足測定項目 | C26: T O C | D26: ㎎/L | T26: ――
B27: 健康項目 | C27: カドミウム | D27: ㎎/L | T27: 0.003 以下
C28: 全シアン | D28: ㎎/L | T28: 検出されないこと
C29: 鉛 | D29: ㎎/L | T29: 0.01 以下
C30: 六価クロム | D30: ㎎/L | T30: 0.02 以下
C31: 砒素 | D31: ㎎/L | T31: 0.01 以下
C32: 総水銀 | D32: ㎎/L | T32: 0.0005 以下
C33: アルキル水銀 | D33: ㎎/L
C34: P C B | D34: ㎎/L | T34: 検出されないこと
C35: ジクロロメタン | D35: ㎎/L | T35: 0.02 以下
C36: 四塩化炭素 | D36: ㎎/L | T36: 0.002 以下
C37: 1,2-ジクロロエタン | D37: ㎎/L | T37: 0.004 以下
C38: 1,1-ジクロロエチレン | D38: ㎎/L | T38: 0.1 以下
C39: ｼｽ-1,2-ｼﾞｸﾛﾛｴﾁﾚﾝ | D39: ㎎/L | T39: 0.04 以下
C40: 1,1,1-ﾄﾘｸﾛﾛｴﾀﾝ | D40: ㎎/L | T40: 1 以下
C41: 1,1,2-ﾄﾘｸﾛﾛｴﾀﾝ | D41: ㎎/L | T41: 0.006 以下
C42: トリクロロエチレン | D42: ㎎/L | T42: 0.01 以下
C43: テトラクロロエチレン | D43: ㎎/L | T43: 0.01 以下
C44: 1,3-ジクロロプロペン | D44: ㎎/L | T44: 0.002 以下
C45: チウラム | D45: ㎎/L | T45: 0.006 以下
... C53: 1,4-ジオキサン | D53: ㎎/L | T53: 0.05 以下
C54: フェノール類 | D54: ㎎/L
B55: 特殊項目 | C55: 銅 | D55: ㎎/L | T55: ――
C56: 亜鉛 | D56: ㎎/L | T56: ――
C57: 鉄_溶解性 | D57: ㎎/L | T57: ――
C58: マンガン_溶解性 | D58: ㎎/L | T58: ――
C59: クロム | D59: ㎎/L | T59: ――
B60: 要監視項目 | C60: クロロホルム | D60: ㎎/L | T60: 0.06 以下
C61: トランス-1,2-ジクロロエチレン | D61: ㎎/L | T61: 0.04 以下
C62: 1,2-ジクロロプロパン | D62: ㎎/L | T62: 0.06 以下
C63: p-ジクロロベンゼン | D63: ㎎/L | T63: 0.2 以下
C64: イソキサチオン | D64: ㎎/L | T64: 0.008 以下
C65: ダイアジノン | D65: ㎎/L | T65: 0.005 以下
C66: フェニトロチオン | D66: ㎎/L | T66: 0.003 以下
C67: イソプロチオラン | D67: ㎎/L | T67: 0.04 以下
C68: オキシン銅 | D68: ㎎/L | T68: 0.04 以下
C69: クロロタロニル | D69: ㎎/L | T69: 0.05 以下
C70: プロピザミド | D70: ㎎/L | T70: 0.008 以下
C71: EPN | D71: ㎎/L | T71: 0.006 以下
C72: ジクロルボス | D72: ㎎/L | T72: 0.008 以下
... C85: ウラン | D85: ㎎/L | T85: 0.002 以下
C86: フェノール | D86: ㎎/L
C87: ホルムアルデヒド | D87: ㎎/L
B88: その他の項目 | C88: 塩素イオン | D88: ㎎/L | T88: ――
C89: アンモニア態窒素 | D89: ㎎/L | T89: ――
C90: 亜硝酸性窒素 | D90: ㎎/L | T90: ――
C91: 硝酸性窒素 | D91: ㎎/L | T91: ――
C92: 有機態窒素 | D92: ㎎/L | T92: ――
C93: 燐酸態燐 | D93: ㎎/L | T93: ――
C94: クロロフィルa | D94: ㎎/ｍ３ | T94: ――
C95: トリハロメタン生成能 | D95: ㎎/L | T95: ――
C96: クロロホルム生成能 | D96: ㎎/L | T96: ――
C97: ブロモジクロロメタン生成能 | D97: ㎎/L | T97: ――
C98: ジブロモクロロメタン生成能 | D98: ㎎/L | T98: ――
C99: ブロモホルム生成能 | D99: ㎎/L | T99: ――
C100: ふん便性大腸菌群数 | D100: 個/100mL | T100: ――
... C103: 電気伝導度 | D103: μS/㎝ | T103: ――
B104: 生活環境項目 | C104: 直鎖アルキルベンゼンスルホン酸及びその塩 | D104: ㎎/L | T104: 0.006 以下
C105: 4-t-オクチルフェノール | D105: ㎎/L
C106: アニリン | D106: ㎎/L
C107: 2,4-ジクロロフェノール | D107: ㎎/L
C108: ビスフェノールＡ | D108: ㎎/L
B109: 特記事項

Sheet 備讃瀬戸4全層
G1: 2025年度 | I1: 公共用水水質結果一覧表（備讃瀬戸4全層）
B3: 測定地点番号 | E3: 4 | T3: 環境基準 または 指針値
B4: 水系 | E4: 備讃瀬戸
B5: 測定地点名 | E5: 備讃瀬戸4全層
B6: 環境基準類型 | E6: 海域AⅡ、生物特Ａ
B7: 採取年月日 | E7: 45761 | F7: 45791 | G7: 45833 | H7: 45847 | I7: 45876 | J7: 45908 | K7: 45938 | L7: 45966 | M7: 45995 | N7: 46041 | O7: 46056 | P7: 46099 | Q7: 平均 | R7: 最大 | S7: 最小
B8: 気温 | D8: ℃ | E8: ―― | F8: ―― | G8: ―― | H8: ―― | I8: ―― | J8: ―― | K8: ―― | L8: ―― | M8: ―― | N8: ―― | O8: ―― | P8: ――
B9: 水温 | D9: ℃ | E9: ―― | F9: ―― | G9: ―― | H9: ―― | I9: ―― | J9: ―― | K9: ―― | L9: ―― | M9: ―― | N9: ―― | O9: ―― | P9: ――
B10: 透視度 | D10: ㎝ | E10: >30 | F10: >30 | G10: >30 | H10: >30 | I10: >30 | J10: >30 | K10: >30 | L10: >30 | M10: >30 | N10: >30 | O10: >30 | P10: >30
B11: 測定項目
B12: 生活環境項目 | C12: p H | E12: 8.1 | F12: 8 | G12: 8.1 | H12: 8.1 | I12: 8 | J12: 8.1 | K12: 8 | L12: 8.1 | M12: 8.1 | N12: 8.2 | O12: 8.1 | P12: 8.1 | Q12: =AVERAGE(E12:P12) -> 8.0833333 | R12: =MAX(備讃瀬戸4上層!E12:P12,備讃瀬戸4中層!E12:P12,備讃瀬戸4下層!E12:P12) -> 8.2 | S12: =MIN(備讃瀬戸4上層!E12:P12,備讃瀬戸4中層!E12:P12,備讃瀬戸4下層!E12:P12) -> 7.9 | T12: 7.8～8.3
C13: D O | D13: ㎎/L | E13: 10 | F13: 8.8 | G13: 8.5 | H13: 9.1 | I13: 5.8 | J13: 7.8 | K13: 7.2 | L13: 7.5 | M13: 8.2 | N13: 9.7 | O13: 9.2 | P13: 10 | Q13: =AVERAGE(E13:P13) -> 8.4833333 | R13: =MAX(備讃瀬戸4上層!E13:P13,備讃瀬戸4中層!E13:P13) -> 11 | S13: =MIN(備讃瀬戸4上層!E13:P13,備讃瀬戸4中層!E13:P13) -> 5.3 | T13: 7.5 以上
C14: B O D | D14: ㎎/L | T14: ――
C15: C O D | D15: ㎎/L | E15: 2.3 | F15: 1.8 | G15: 2.4 | H15: 2.8 | I15: 3.7 | J15: 2.2 | K15: 2.1 | L15: 1.7 | M15: 1.4 | N15: 1.8 | O15: 1.3 | P15: 1.9 | Q15: =AVERAGE(E15:P15) -> 2.1166667 | R15: =MAX(備讃瀬戸4上層!E15:P15,備讃瀬戸4中層!E15:P15,備讃瀬戸4下層!E15:P15) -> 6.2 | S15: =MIN(備讃瀬戸4上層!E15:P15,備讃瀬戸4中層!E15:P15,備讃瀬戸4下層!E15:P15) -> 1.2 | T15: 2 以下
C16: S S | D16: ㎎/L | E16: 6 | F16: 3 | G16: 4 | H16: 3 | I16: 6 | J16: 3 | K16: 4 | L16: 5 | M16: 4 | N16: 5 | O16: 3 | P16: 5 | Q16: =AVERAGE(E16:P16) -> 4.25 | R16: =MAX(備讃瀬戸4上層!E16:P16,備讃瀬戸4中層!E16:P16,備讃瀬戸4下層!E16:P16) -> 8 | S16: =MIN(備讃瀬戸4上層!E16:P16,備讃瀬戸4中層!E16:P16,備讃瀬戸4下層!E16:P16) -> 2 | T16: ――
C17: 大腸菌数 | D17: CFU/100ｍL | E17: 3 | F17: <1 | G17: 130 | H17: <1 | I17: 64 | J17: 1 | K17: 7 | L17: <1 | M17: <1 | N17: <1 | O17: <1 | P17: <1 | Q17: 18 | R17: =MAX(E17:P17) -> 130 | S17: <1 | T17: 20 以下
C18: n-ヘキサン抽出物質 | D18: ㎎/L | E18: <0.5 | F18: <0.5 | G18: <0.5 | H18: <0.5 | I18: <0.5 | J18: <0.5 | K18: <0.5 | L18: <0.5 | M18: <0.5 | N18: <0.5 | O18: <0.5 | P18: <0.5 | Q18: <0.5 | R18: <0.5 | S18: <0.5 | T18: 検出されないこと
C19: 全窒素 | D19: ㎎/L | E19: 0.23 | F19: 0.16 | G19: 0.24 | H19: 0.13 | I19: 0.38 | J19: 0.21 | K19: 0.35 | L19: 0.22 | M19: 0.21 | N19: 0.15 | O19: 0.16 | P19: 0.17 | Q19: =AVERAGE(E19:P19) -> 0.2175 | R19: =MAX(備讃瀬戸4上層!E19:P19,備讃瀬戸4中層!E19:P19) -> 0.48 | S19: =MIN(備讃瀬戸4上層!E19:P19,備讃瀬戸4中層!E19:P19) -> 0.12 | T19: 0.3 以下
C20: 全燐 | D20: ㎎/L | E20: 0.029 | F20: 0.021 | G20: 0.03 | H20: 0.023 | I20: 0.15 | J20: 0.039 | K20: 0.052 | L20: 0.032 | M20: 0.028 | N20: 0.016 | O20: 0.025 | P20: 0.028 | Q20: =AVERAGE(E20:P20) -> 0.039416667 | R20: =MAX(備讃瀬戸4上層!E20:P20,備讃瀬戸4中層!E20:P20) -> 0.19 | S20: =MIN(備讃瀬戸4上層!E20:P20,備讃瀬戸4中層!E20:P20) -> 0.015 | T20: 0.03 以下
C21: 全亜鉛 | D21: ㎎/L | T21: 0.01 以下
C22: ノニルフェノール | D22: ㎎/L | T22: 0.0007 以下
B23: 要測定指標 | C23: 底層溶存酸素量 | D23: ㎎/L | E23: 8.7 | F23: 8.5 | G23: 7.8 | H23: 8.7 | I23: 4.5 | J23: 6.4 | K23: 6.2 | L23: 7.3 | M23: 8.1 | N23: 10 | O23: 9.9 | P23: 9.7 | Q23: =AVERAGE(E23:P23) -> 7.9833333 | R23: =MAX(E23:P23) -> 10 | S23: =MIN(E23:P23) -> 4.5 | T23: ――
C24: 透明度 | D24: m | E24: 1.8 | F24: 2.8 | G24: 2.3 | H24: 2.8 | I24: 0.8 | J24: 2.1 | K24: 2.5 | L24: 2 | M24: 3.3 | N24: 2.8 | O24: >5.0 | P24: 2.8 | Q24: 2.6 | R24: >5.0 | S24: =MIN(E24:P24) -> 0.8 | T24: ――
B26: 補足測定項目 | C26: T O C | D26: ㎎/L | E26: 2.1 | H26: 2 | K26: 2.1 | N26: 1.5 | Q26: =AVERAGE(E26:P26) -> 1.925 | R26: =MAX(E26:P26) -> 2.1 | S26: =MIN(E26:P26) -> 1.5 | T26: ――
B27: 健康項目 | C27: カドミウム | D27: ㎎/L | H27: <0.0003 | Q27: <0.0003 | R27: <0.0003 | S27: <0.0003 | T27: 0.003 以下
C28: 全シアン | D28: ㎎/L | H28: <0.1 | Q28: <0.1 | R28: <0.1 | S28: <0.1 | T28: 検出されないこと
C29: 鉛 | D29: ㎎/L | H29: <0.005 | Q29: <0.005 | R29: <0.005 | S29: <0.005 | T29: 0.01 以下
C30: 六価クロム | D30: ㎎/L | H30: <0.01 | Q30: <0.01 | R30: <0.01 | S30: <0.01 | T30: 0.02 以下
C31: 砒素 | D31: ㎎/L | H31: <0.005 | Q31: <0.005 | R31: <0.005 | S31: <0.005 | T31: 0.01 以下
C32: 総水銀 | D32: ㎎/L | H32: <0.0005 | Q32: <0.0005 | R32: <0.0005 | S32: <0.0005 | T32: 0.0005 以下
C33: アルキル水銀 | D33: ㎎/L
C34: P C B | D34: ㎎/L | T34: 検出されないこと
C35: ジクロロメタン | D35: ㎎/L | T35: 0.02 以下
C36: 四塩化炭素 | D36: ㎎/L | T36: 0.002 以下
C37: 1,2-ジクロロエタン | D37: ㎎/L | T37: 0.004 以下
C38: 1,1-ジクロロエチレン | D38: ㎎/L | T38: 0.1 以下
C39: ｼｽ-1,2-ｼﾞｸﾛﾛｴﾁﾚﾝ | D39: ㎎/L | T39: 0.04 以下
C40: 1,1,1-ﾄﾘｸﾛﾛｴﾀﾝ | D40: ㎎/L | T40: 1 以下
C41: 1,1,2-ﾄﾘｸﾛﾛｴﾀﾝ | D41: ㎎/L | T41: 0.006 以下
C42: トリクロロエチレン | D42: ㎎/L | T42: 0.01 以下
C43: テトラクロロエチレン | D43: ㎎/L | T43: 0.01 以下
C44: 1,3-ジクロロプロペン | D44: ㎎/L | T44: 0.002 以下
C45: チウラム | D45: ㎎/L | T45: 0.006 以下
... C49: セレン | D49: ㎎/L | T49: 0.01 以下
C50: 硝酸性窒素及び亜硝酸性窒素 | D50: ㎎/L | H50: <0.01 | Q50: <0.01 | R50: <0.01 | S50: <0.01 | T50: 10 以下
C51: ふっ素 | D51: ㎎/L | T51: ――
C52: ほう素 | D52: ㎎/L | T52: ――
C53: 1,4-ジオキサン | D53: ㎎/L | T53: 0.05 以下
C54: フェノール類 | D54: ㎎/L
B55: 特殊項目 | C55: 銅 | D55: ㎎/L | T55: ――
C56: 亜鉛 | D56: ㎎/L | T56: ――
C57: 鉄_溶解性 | D57: ㎎/L | T57: ――
C58: マンガン_溶解性 | D58: ㎎/L | T58: ――
C59: クロム | D59: ㎎/L | T59: ――
B60: 要監視項目 | C60: クロロホルム | D60: ㎎/L | T60: 0.06 以下
C61: トランス-1,2-ジクロロエチレン | D61: ㎎/L | T61: 0.04 以下
C62: 1,2-ジクロロプロパン | D62: ㎎/L | T62: 0.06 以下
C63: p-ジクロロベンゼン | D63: ㎎/L | T63: 0.2 以下
C64: イソキサチオン | D64: ㎎/L | T64: 0.008 以下
C65: ダイアジノン | D65: ㎎/L | T65: 0.005 以下
C66: フェニトロチオン | D66: ㎎/L | T66: 0.003 以下
C67: イソプロチオラン | D67: ㎎/L | T67: 0.04 以下
C68: オキシン銅 | D68: ㎎/L | T68: 0.04 以下
C69: クロロタロニル | D69: ㎎/L | T69: 0.05 以下
C70: プロピザミド | D70: ㎎/L | T70: 0.008 以下
C71: EPN | D71: ㎎/L | T71: 0.006 以下
C72: ジクロルボス | D72: ㎎/L | T72: 0.008 以下
... C85: ウラン | D85: ㎎/L | T85: 0.002 以下
C86: フェノール | D86: ㎎/L
C87: ホルムアルデヒド | D87: ㎎/L
B88: その他の項目 | C88: 塩素イオン | D88: ㎎/L | E88: 14600 | F88: 17900 | G88: 16300 | H88: 17300 | I88: 11700 | J88: 17400 | K88: 11900 | L88: 17600 | M88: 18300 | N88: 17800 | O88: 18200 | P88: 16700 | Q88: 16300 | R88: =MAX(E88:P88) -> 18300 | S88: =MIN(E88:P88) -> 11700 | T88: ――
C89: アンモニア態窒素 | D89: ㎎/L | T89: ――
C90: 亜硝酸性窒素 | D90: ㎎/L | T90: ――
C91: 硝酸性窒素 | D91: ㎎/L | T91: ――
C92: 有機態窒素 | D92: ㎎/L | T92: ――
C93: 燐酸態燐 | D93: ㎎/L | T93: ――
C94: クロロフィルa | D94: ㎎/ｍ３ | T94: ――
C95: トリハロメタン生成能 | D95: ㎎/L | T95: ――
C96: クロロホルム生成能 | D96: ㎎/L | T96: ――
C97: ブロモジクロロメタン生成能 | D97: ㎎/L | T97: ――
C98: ジブロモクロロメタン生成能 | D98: ㎎/L | T98: ――
C99: ブロモホルム生成能 | D99: ㎎/L | T99: ――
C100: ふん便性大腸菌群数 | D100: 個/100mL | T100: ――
... C103: 電気伝導度 | D103: μS/㎝ | T103: ――
B104: 生活環境項目 | C104: 直鎖アルキルベンゼンスルホン酸及びその塩 | D104: ㎎/L | T104: 0.006 以下
C105: 4-t-オクチルフェノール | D105: ㎎/L
C106: アニリン | D106: ㎎/L
C107: 2,4-ジクロロフェノール | D107: ㎎/L
C108: ビスフェノールＡ | D108: ㎎/L
B109: 特記事項

Sheet 備讃瀬戸12上層
G1: 2025年度 | I1: 公共用水水質結果一覧表（備讃瀬戸12上層）
B3: 測定地点番号 | E3: 12 | T3: 環境基準 または 指針値
B4: 水系 | E4: 備讃瀬戸
B5: 測定地点名 | E5: 備讃瀬戸12上層
B6: 環境基準類型 | E6: 海域ＡⅡ、生物Ａ
B7: 採取年月日 | E7: 45761 | F7: 45791 | G7: 45833 | H7: 45847 | I7: 45876 | J7: 45908 | K7: 45938 | L7: 45966 | M7: 45995 | N7: 46041 | O7: 46056 | P7: 46099 | Q7: 平均 | R7: 最大 | S7: 最小
B8: 気温 | D8: ℃ | E8: 12.5 | F8: 20.0 | G8: 27.0 | H8: 31.0 | I8: 27.8 | J8: 29.5 | K8: 26.8 | L8: 17.0 | M8: 8.0 | N8: 10.8 | O8: 6.3 | P8: 9.8
B9: 水温 | D9: ℃ | E9: 12.5 | F9: 18.9 | G9: 26.1 | H9: 27.8 | I9: 27.0 | J9: 30.7 | K9: 26.6 | L9: 19.8 | M9: 16.1 | N9: 13.1 | O9: 10.3 | P9: 11.0
B10: 透視度 | D10: ㎝ | E10: >30 | F10: >30 | G10: >30 | H10: >30 | I10: >30 | J10: >30 | K10: >30 | L10: >30 | M10: >30 | N10: >30 | O10: >30 | P10: >30
B11: 測定項目
B12: 生活環境項目 | C12: p H | E12: 8 | F12: 8.1 | G12: 8.2 | H12: 8.1 | I12: 8 | J12: 8.2 | K12: 8.1 | L12: 8.1 | M12: 8.1 | N12: 8.1 | O12: 8.1 | P12: 8.1 | Q12: =AVERAGE(E12:P12) -> 8.1 | R12: =MAX(E12:P12) -> 8.2 | S12: =MIN(E12:P12) -> 8 | T12: 7.8～8.3
C13: D O | D13: ㎎/L | E13: 9.3 | F13: 9.2 | G13: 10 | H13: 8 | I13: 7 | J13: 7.5 | K13: 7.2 | L13: 7.8 | M13: 8.1 | N13: 9.1 | O13: 9.3 | P13: 9.2 | Q13: =AVERAGE(E13:P13) -> 8.475 | R13: =MAX(E13:P13) -> 10 | S13: =MIN(E13:P13) -> 7 | T13: 7.5 以上
C14: B O D | D14: ㎎/L | T14: ――
C15: C O D | D15: ㎎/L | E15: 1.5 | F15: 1.8 | G15: 2.2 | H15: 1.7 | I15: 1.5 | J15: 2.9 | K15: 1.2 | L15: 1.6 | M15: 1.1 | N15: 1 | O15: 0.8 | P15: 1.2 | Q15: =AVERAGE(E15:P15) -> 1.5416667 | R15: =MAX(E15:P15) -> 2.9 | S15: =MIN(E15:P15) -> 0.8 | T15: 2 以下
C16: S S | D16: ㎎/L | E16: 2 | F16: 1 | G16: 2 | H16: <1 | I16: 1 | J16: 2 | K16: 1 | L16: 4 | M16: 2 | N16: 3 | O16: 2 | P16: 2 | Q16: 2 | R16: =MAX(E16:P16) -> 4 | S16: <1 | T16: ――
C17: 大腸菌数 | D17: CFU/100ｍL | E17: <1 | F17: <1 | G17: 1 | H17: <1 | I17: <1 | J17: <1 | K17: <1 | L17: <1 | M17: <1 | N17: <1 | O17: <1 | P17: <1 | Q17: 1 | R17: 1 | S17: <1 | T17: 20 以下
C18: n-ヘキサン抽出物質 | D18: ㎎/L | E18: <0.5 | F18: <0.5 | G18: <0.5 | H18: <0.5 | I18: <0.5 | J18: <0.5 | K18: <0.5 | L18: <0.5 | M18: <0.5 | N18: <0.5 | O18: <0.5 | P18: <0.5 | Q18: <0.5 | R18: <0.5 | S18: <0.5 | T18: 検出されないこと
C19: 全窒素 | D19: ㎎/L | E19: 0.18 | F19: 0.14 | G19: 0.4 | H19: 0.07 | I19: 0.12 | J19: 0.16 | K19: 0.11 | L19: 0.16 | M19: 0.12 | N19: 0.06 | O19: 0.06 | P19: 0.09 | Q19: =AVERAGE(E19:P19) -> 0.13916667 | R19: =MAX(E19:P19) -> 0.4 | S19: =MIN(E19:P19) -> 0.06 | T19: 0.3 以下
C20: 全燐 | D20: ㎎/L | E20: 0.018 | F20: 0.02 | G20: 0.033 | H20: 0.014 | I20: 0.026 | J20: 0.035 | K20: 0.026 | L20: 0.022 | M20: 0.028 | N20: 0.013 | O20: 0.022 | P20: 0.021 | Q20: =AVERAGE(E20:P20) -> 0.023166667 | R20: =MAX(E20:P20) -> 0.035 | S20: =MIN(E20:P20) -> 0.013 | T20: 0.03 以下
C21: 全亜鉛 | D21: ㎎/L | E21: 0.001 | H21: 0.001 | K21: <0.001 | N21: <0.001 | Q21: =AVERAGE(E21:P21) -> 0.001 | R21: =MAX(E21:P21) -> 0.001 | S21: <0.001 | T21: 0.02 以下
C22: ノニルフェノール | D22: ㎎/L | E22: <0.00006 | H22: <0.00006 | K22: <0.00006 | N22: <0.00006 | Q22: <0.00006 | R22: <0.00006 | S22: <0.00006 | T22: 0.001 以下
B23: 要測定指標 | C23: 底層溶存酸素量 | D23: ㎎/L | T23: ――
C24: 透明度 | D24: m | E24: 4.7 | F24: 4 | G24: 2.2 | H24: 6.2 | I24: 5 | J24: 3 | K24: 7.6 | L24: 4 | M24: 6 | N24: 8 | O24: 9.5 | P24: 9.5 | Q24: =AVERAGE(E24:P24) -> 5.8083333 | R24: =MAX(E24:P24) -> 9.5 | S24: =MIN(E24:P24) -> 2.2 | T24: ――
B26: 補足測定項目 | C26: T O C | D26: ㎎/L | E26: 1.5 | H26: 1.6 | K26: 1.4 | N26: 1.2 | Q26: =AVERAGE(E26:P26) -> 1.425 | R26: =MAX(E26:P26) -> 1.6 | S26: =MIN(E26:P26) -> 1.2 | T26: ――
B27: 健康項目 | C27: カドミウム | D27: ㎎/L | H27: <0.0003 | N27: <0.0003 | Q27: <0.0003 | R27: <0.0003 | S27: <0.0003 | T27: 0.003 以下
C28: 全シアン | D28: ㎎/L | H28: <0.1 | N28: <0.1 | Q28: <0.1 | R28: <0.1 | S28: <0.1 | T28: 検出されないこと
C29: 鉛 | D29: ㎎/L | H29: <0.005 | N29: <0.005 | Q29: <0.005 | R29: <0.005 | S29: <0.005 | T29: 0.01 以下
C30: 六価クロム | D30: ㎎/L | H30: <0.01 | N30: <0.01 | Q30: <0.01 | R30: <0.01 | S30: <0.01 | T30: 0.02 以下
C31: 砒素 | D31: ㎎/L | H31: <0.005 | N31: <0.005 | Q31: <0.005 | R31: <0.005 | S31: <0.005 | T31: 0.01 以下
C32: 総水銀 | D32: ㎎/L | H32: <0.0005 | N32: <0.0005 | Q32: <0.0005 | R32: <0.0005 | S32: <0.0005 | T32: 0.0005 以下
C33: アルキル水銀 | D33: ㎎/L
C34: P C B | D34: ㎎/L | H34: <0.0005 | Q34: <0.0005 | R34: <0.0005 | S34: <0.0005 | T34: 検出されないこと
C35: ジクロロメタン | D35: ㎎/L | T35: 0.02 以下
C36: 四塩化炭素 | D36: ㎎/L | T36: 0.002 以下
C37: 1,2-ジクロロエタン | D37: ㎎/L | T37: 0.004 以下
C38: 1,1-ジクロロエチレン | D38: ㎎/L | T38: 0.1 以下
C39: ｼｽ-1,2-ｼﾞｸﾛﾛｴﾁﾚﾝ | D39: ㎎/L | T39: 0.04 以下
C40: 1,1,1-ﾄﾘｸﾛﾛｴﾀﾝ | D40: ㎎/L | T40: 1 以下
C41: 1,1,2-ﾄﾘｸﾛﾛｴﾀﾝ | D41: ㎎/L | T41: 0.006 以下
C42: トリクロロエチレン | D42: ㎎/L | T42: 0.01 以下
C43: テトラクロロエチレン | D43: ㎎/L | T43: 0.01 以下
C44: 1,3-ジクロロプロペン | D44: ㎎/L | T44: 0.002 以下
C45: チウラム | D45: ㎎/L | T45: 0.006 以下
C46: シマジン | D46: ㎎/L | T46: 0.003 以下
... C49: セレン | D49: ㎎/L | T49: 0.01 以下
C50: 硝酸性窒素及び亜硝酸性窒素 | D50: ㎎/L | H50: <0.01 | Q50: <0.01 | R50: <0.01 | S50: <0.01 | T50: 10 以下
C51: ふっ素 | D51: ㎎/L | T51: ――
C52: ほう素 | D52: ㎎/L | T52: ――
C53: 1,4-ジオキサン | D53: ㎎/L | T53: 0.05 以下
C54: フェノール類 | D54: ㎎/L
B55: 特殊項目 | C55: 銅 | D55: ㎎/L | T55: ――
C56: 亜鉛 | D56: ㎎/L | T56: ――
C57: 鉄_溶解性 | D57: ㎎/L | T57: ――
C58: マンガン_溶解性 | D58: ㎎/L | T58: ――
C59: クロム | D59: ㎎/L | T59: ――
B60: 要監視項目 | C60: クロロホルム | D60: ㎎/L | T60: 0.06 以下
C61: トランス-1,2-ジクロロエチレン | D61: ㎎/L | T61: 0.04 以下
C62: 1,2-ジクロロプロパン | D62: ㎎/L | T62: 0.06 以下
C63: p-ジクロロベンゼン | D63: ㎎/L | T63: 0.2 以下
C64: イソキサチオン | D64: ㎎/L | T64: 0.008 以下
C65: ダイアジノン | D65: ㎎/L | T65: 0.005 以下
C66: フェニトロチオン | D66: ㎎/L | T66: 0.003 以下
C67: イソプロチオラン | D67: ㎎/L | T67: 0.04 以下
C68: オキシン銅 | D68: ㎎/L | T68: 0.04 以下
C69: クロロタロニル | D69: ㎎/L | T69: 0.05 以下
C70: プロピザミド | D70: ㎎/L | T70: 0.008 以下
C71: EPN | D71: ㎎/L | T71: 0.006 以下
C72: ジクロルボス | D72: ㎎/L | T72: 0.008 以下
... C85: ウラン | D85: ㎎/L | T85: 0.002 以下
C86: フェノール | D86: ㎎/L
C87: ホルムアルデヒド | D87: ㎎/L
B88: その他の項目 | C88: 塩素イオン | D88: ㎎/L | E88: 17600 | F88: 18800 | G88: 16200 | H88: 17200 | I88: 16800 | J88: 16900 | K88: 17100 | L88: 17500 | M88: 18400 | N88: 18100 | O88: 18500 | P88: 17100 | Q88: 17500 | R88: =MAX(E88:P88) -> 18800 | S88: =MIN(E88:P88) -> 16200 | T88: ――
C89: アンモニア態窒素 | D89: ㎎/L | T89: ――
C90: 亜硝酸性窒素 | D90: ㎎/L | T90: ――
C91: 硝酸性窒素 | D91: ㎎/L | T91: ――
C92: 有機態窒素 | D92: ㎎/L | T92: ――
C93: 燐酸態燐 | D93: ㎎/L | T93: ――
C94: クロロフィルa | D94: ㎎/ｍ３ | E94: <0.5 | G94: 10 | I94: 2.2 | K94: 1.5 | M94: 1.6 | O94: 0.6 | Q94: 2.7 | R94: =MAX(E94:P94) -> 10 | S94: <0.5 | T94: ――
C95: トリハロメタン生成能 | D95: ㎎/L | T95: ――
C96: 直鎖アルキルベンゼンスルホン酸及びその塩 | D96: ㎎/L | T96: ――
C97: ブロモジクロロメタン生成能 | D97: ㎎/L | T97: ――
C98: ジブロモクロロメタン生成能 | D98: ㎎/L | T98: ――
C99: ブロモホルム生成能 | D99: ㎎/L | T99: ――
C100: ふん便性大腸菌群数 | D100: 個/100mL | T100: ――
C101: 濁度 | D101: 度 | T101: ――
C102: メチレンブルー活性物質 | D102: ㎎/ｌ | T102: ――
C103: 電気伝導度 | D103: μS/㎝ | T103: ――
B104: 生活環境項目 | C104: 直鎖アルキルベンゼンスルホン酸及びその塩 | D104: ㎎/L | E104: <0.0006 | H104: <0.0006 | K104: <0.0006 | N104: <0.0006 | Q104: <0.0006 | R104: <0.0006 | S104: <0.0006 | T104: 0.01 以下
C105: 4-t-オクチルフェノール | D105: ㎎/L
C106: アニリン | D106: ㎎/L
C107: 2,4-ジクロロフェノール | D107: ㎎/L
C108: ビスフェノールＡ | D108: ㎎/L
B109: 特記事項

Sheet 備讃瀬戸12中層
G1: 2025年度 | I1: 公共用水水質結果一覧表（備讃瀬戸12中層）
B3: 測定地点番号 | E3: 12 | T3: 環境基準 または 指針値
B4: 水系 | E4: 備讃瀬戸
B5: 測定地点名 | E5: 備讃瀬戸12中層
B6: 環境基準類型 | E6: 海域ＡⅡ、生物Ａ
B7: 採取年月日 | E7: 45761 | F7: 45791 | G7: 45833 | H7: 45847 | I7: 45876 | J7: 45908 | K7: 45938 | L7: 45966 | M7: 45995 | N7: 46041 | O7: 46056 | P7: 46099 | Q7: 平均 | R7: 最大 | S7: 最小
B8: 気温 | D8: ℃ | E8: 12.5 | F8: 20.0 | G8: 27.0 | H8: 31.0 | I8: 27.8 | J8: 29.5 | K8: 26.8 | L8: 17.0 | M8: 8.0 | N8: 10.8 | O8: 6.3 | P8: 9.8
B9: 水温 | D9: ℃ | E9: 12.5 | F9: 18.6 | G9: 25.0 | H9: 27.8 | I9: 27.1 | J9: 30.0 | K9: 26.8 | L9: 19.4 | M9: 16.2 | N9: 12.5 | O9: 10.3 | P9: 11.1
B10: 透視度 | D10: ㎝ | E10: >30 | F10: >30 | G10: >30 | H10: >30 | I10: >30 | J10: >30 | K10: >30 | L10: >30 | M10: >30 | N10: >30 | O10: >30 | P10: >30
B11: 測定項目
B12: 生活環境項目 | C12: p H | E12: 8 | F12: 8.1 | G12: 8.2 | H12: 8.1 | I12: 8 | J12: 8.2 | K12: 8.1 | L12: 8.1 | M12: 8.1 | N12: 8.1 | O12: 8.1 | P12: 8.1 | Q12: =AVERAGE(E12:P12) -> 8.1 | R12: =MAX(E12:P12) -> 8.2 | S12: =MIN(E12:P12) -> 8 | T12: 7.8～8.3
C13: D O | D13: ㎎/L | E13: 8.9 | F13: 9.4 | G13: 10 | H13: 8.1 | I13: 7 | J13: 7.3 | K13: 6.7 | L13: 7.8 | M13: 8.2 | N13: 9 | O13: 9.4 | P13: 9.4 | Q13: =AVERAGE(E13:P13) -> 8.4333333 | R13: =MAX(E13:P13) -> 10 | S13: =MIN(E13:P13) -> 6.7 | T13: 7.5 以上
C14: B O D | D14: ㎎/L | T14: ――
C15: C O D | D15: ㎎/L | E15: 1.5 | F15: 1.9 | G15: 2.7 | H15: 1.8 | I15: 1.5 | J15: 3.4 | K15: 1.2 | L15: 1.5 | M15: 1.1 | N15: 1.1 | O15: 0.7 | P15: 1.3 | Q15: =AVERAGE(E15:P15) -> 1.6416667 | R15: =MAX(E15:P15) -> 3.4 | S15: =MIN(E15:P15) -> 0.7 | T15: 2 以下
C16: S S | D16: ㎎/L | E16: 2 | F16: 2 | G16: 2 | H16: <1 | I16: 1 | J16: 4 | K16: <1 | L16: 1 | M16: 3 | N16: 3 | O16: 1 | P16: 2 | Q16: 2 | R16: =MAX(E16:P16) -> 4 | S16: <1 | T16: ――
C17: 大腸菌数 | D17: CFU/100ｍL | T17: 20 以下
C18: n-ヘキサン抽出物質 | D18: ㎎/L | T18: 検出されないこと
C19: 全窒素 | D19: ㎎/L | E19: 0.17 | F19: 0.13 | G19: 0.43 | H19: 0.09 | I19: 0.1 | J19: 0.2 | K19: 0.1 | L19: 0.16 | M19: 0.11 | N19: 0.05 | O19: 0.06 | P19: 0.1 | Q19: =AVERAGE(E19:P19) -> 0.14166667 | R19: =MAX(E19:P19) -> 0.43 | S19: =MIN(E19:P19) -> 0.05 | T19: 0.3 以下
C20: 全燐 | D20: ㎎/L | E20: 0.018 | F20: 0.016 | G20: 0.045 | H20: 0.017 | I20: 0.024 | J20: 0.045 | K20: 0.027 | L20: 0.021 | M20: 0.028 | N20: 0.015 | O20: 0.022 | P20: 0.023 | Q20: =AVERAGE(E20:P20) -> 0.025083333 | R20: =MAX(E20:P20) -> 0.045 | S20: =MIN(E20:P20) -> 0.015 | T20: 0.03 以下
C21: 全亜鉛 | D21: ㎎/L | T21: 0.02 以下
C22: ノニルフェノール | D22: ㎎/L | T22: 0.001 以下
B23: 要測定指標 | C23: 底層溶存酸素量 | D23: ㎎/L | T23: ――
C24: 透明度 | D24: m | E24: 4.7 | F24: 4 | G24: 2.2 | H24: 6.2 | I24: 5 | J24: 3 | K24: 7.6 | L24: 4 | M24: 6 | N24: 8 | O24: 9.5 | P24: 9.5 | Q24: =AVERAGE(E24:P24) -> 5.8083333 | R24: =MAX(E24:P24) -> 9.5 | S24: =MIN(E24:P24) -> 2.2 | T24: ――
B26: 補足測定項目 | C26: T O C | D26: ㎎/L | T26: ――
B27: 健康項目 | C27: カドミウム | D27: ㎎/L | T27: 0.003 以下
C28: 全シアン | D28: ㎎/L | T28: 検出されないこと
C29: 鉛 | D29: ㎎/L | T29: 0.01 以下
C30: 六価クロム | D30: ㎎/L | T30: 0.02 以下
C31: 砒素 | D31: ㎎/L | T31: 0.01 以下
C32: 総水銀 | D32: ㎎/L | T32: 0.0005 以下
C33: アルキル水銀 | D33: ㎎/L
C34: P C B | D34: ㎎/L | T34: 検出されないこと
C35: ジクロロメタン | D35: ㎎/L | T35: 0.02 以下
C36: 四塩化炭素 | D36: ㎎/L | T36: 0.002 以下
C37: 1,2-ジクロロエタン | D37: ㎎/L | T37: 0.004 以下
C38: 1,1-ジクロロエチレン | D38: ㎎/L | T38: 0.1 以下
C39: ｼｽ-1,2-ｼﾞｸﾛﾛｴﾁﾚﾝ | D39: ㎎/L | T39: 0.04 以下
C40: 1,1,1-ﾄﾘｸﾛﾛｴﾀﾝ | D40: ㎎/L | T40: 1 以下
C41: 1,1,2-ﾄﾘｸﾛﾛｴﾀﾝ | D41: ㎎/L | T41: 0.006 以下
C42: トリクロロエチレン | D42: ㎎/L | T42: 0.01 以下
C43: テトラクロロエチレン | D43: ㎎/L | T43: 0.01 以下
C44: 1,3-ジクロロプロペン | D44: ㎎/L | T44: 0.002 以下
C45: チウラム | D45: ㎎/L | T45: 0.006 以下
... C53: 1,4-ジオキサン | D53: ㎎/L | T53: 0.05 以下
C54: フェノール類 | D54: ㎎/L
B55: 特殊項目 | C55: 銅 | D55: ㎎/L | T55: ――
C56: 亜鉛 | D56: ㎎/L | T56: ――
C57: 鉄_溶解性 | D57: ㎎/L | T57: ――
C58: マンガン_溶解性 | D58: ㎎/L | T58: ――
C59: クロム | D59: ㎎/L | T59: ――
B60: 要監視項目 | C60: クロロホルム | D60: ㎎/L | T60: 0.06 以下
C61: トランス-1,2-ジクロロエチレン | D61: ㎎/L | T61: 0.04 以下
C62: 1,2-ジクロロプロパン | D62: ㎎/L | T62: 0.06 以下
C63: p-ジクロロベンゼン | D63: ㎎/L | T63: 0.2 以下
C64: イソキサチオン | D64: ㎎/L | T64: 0.008 以下
C65: ダイアジノン | D65: ㎎/L | T65: 0.005 以下
C66: フェニトロチオン | D66: ㎎/L | T66: 0.003 以下
C67: イソプロチオラン | D67: ㎎/L | T67: 0.04 以下
C68: オキシン銅 | D68: ㎎/L | T68: 0.04 以下
C69: クロロタロニル | D69: ㎎/L | T69: 0.05 以下
C70: プロピザミド | D70: ㎎/L | T70: 0.008 以下
C71: EPN | D71: ㎎/L | T71: 0.006 以下
C72: ジクロルボス | D72: ㎎/L | T72: 0.008 以下
... C85: ウラン | D85: ㎎/L | T85: 0.002 以下
C86: フェノール | D86: ㎎/L
C87: ホルムアルデヒド | D87: ㎎/L
B88: その他の項目 | C88: 塩素イオン | D88: ㎎/L | T88: ――
C89: アンモニア態窒素 | D89: ㎎/L | T89: ――
C90: 亜硝酸性窒素 | D90: ㎎/L | T90: ――
C91: 硝酸性窒素 | D91: ㎎/L | T91: ――
C92: 有機態窒素 | D92: ㎎/L | T92: ――
C93: 燐酸態燐 | D93: ㎎/L | T93: ――
C94: クロロフィルa | D94: ㎎/ｍ３ | T94: ――
C95: トリハロメタン生成能 | D95: ㎎/L | T95: ――
C96: クロロホルム生成能 | D96: ㎎/L | T96: ――
C97: ブロモジクロロメタン生成能 | D97: ㎎/L | T97: ――
C98: ジブロモクロロメタン生成能 | D98: ㎎/L | T98: ――
C99: ブロモホルム生成能 | D99: ㎎/L | T99: ――
C100: ふん便性大腸菌群数 | D100: 個/100mL | T100: ――
... C103: 電気伝導度 | D103: μS/㎝ | T103: ――
B104: 生活環境項目 | C104: 直鎖アルキルベンゼンスルホン酸及びその塩 | D104: ㎎/L | T104: 0.01 以下
C105: 4-t-オクチルフェノール | D105: ㎎/L
C106: アニリン | D106: ㎎/L
C107: 2,4-ジクロロフェノール | D107: ㎎/L
C108: ビスフェノールＡ | D108: ㎎/L
B109: 特記事項

Sheet 備讃瀬戸12下層
G1: 2025年度 | I1: 公共用水水質結果一覧表（備讃瀬戸12下層）
B3: 測定地点番号 | E3: 12 | T3: 環境基準 または 指針値
B4: 水系 | E4: 備讃瀬戸
B5: 測定地点名 | E5: 備讃瀬戸12下層
B6: 環境基準類型 | E6: 海域ＡⅡ、生物Ａ
B7: 採取年月日 | E7: 45761 | F7: 45791 | G7: 45833 | H7: 45847 | I7: 45876 | J7: 45908 | K7: 45938 | L7: 45966 | M7: 45995 | N7: 46041 | O7: 46056 | P7: 46099 | Q7: 平均 | R7: 最大 | S7: 最小
B8: 気温 | D8: ℃ | E8: 12.5 | F8: 20.0 | G8: 27.0 | H8: 31.0 | I8: 27.8 | J8: 29.5 | K8: 26.8 | L8: 17.0 | M8: 8.0 | N8: 10.8 | O8: 6.3 | P8: 9.8
B9: 水温 | D9: ℃ | E9: 12.2 | F9: 16.7 | G9: 21.6 | H9: 24.7 | I9: 27.2 | J9: 29.2 | K9: 26.6 | L9: 19.8 | M9: 16.3 | N9: 12.4 | O9: 10.3 | P9: 11.3
B10: 透視度 | D10: ㎝ | E10: >30 | F10: >30 | G10: >30 | H10: >30 | I10: >30 | J10: >30 | K10: >30 | L10: >30 | M10: >30 | N10: >30 | O10: >30 | P10: >30
B11: 測定項目
B12: 生活環境項目 | C12: p H | E12: 8 | F12: 8 | G12: 8 | H12: 8 | I12: 8 | J12: 8.1 | K12: 8 | L12: 8.1 | M12: 8.1 | N12: 8.1 | O12: 8.1 | P12: 8.1 | Q12: =AVERAGE(E12:P12) -> 8.05 | R12: =MAX(E12:P12) -> 8.1 | S12: =MIN(E12:P12) -> 8 | T12: 7.8～8.3
C13: D O | D13: ㎎/L | T13: 7.5 以上
C14: B O D | D14: ㎎/L | T14: ――
C15: C O D | D15: ㎎/L | E15: 1.1 | F15: 1.7 | G15: 1.5 | H15: 2 | I15: 1.4 | J15: 1.8 | K15: 1.2 | L15: 1.6 | M15: 1.1 | N15: 1.1 | O15: 0.8 | P15: 1.3 | Q15: =AVERAGE(E15:P15) -> 1.3833333 | R15: =MAX(E15:P15) -> 2 | S15: =MIN(E15:P15) -> 0.8 | T15: 2 以下
C16: S S | D16: ㎎/L | E16: 1 | F16: 2 | G16: 1 | H16: 2 | I16: 1 | J16: 1 | K16: 4 | L16: 4 | M16: 1 | N16: 4 | O16: 3 | P16: 4 | Q16: =AVERAGE(E16:P16) -> 2.3333333 | R16: =MAX(E16:P16) -> 4 | S16: =MIN(E16:P16) -> 1 | T16: ――
C17: 大腸菌数 | D17: CFU/100ｍL | T17: 20 以下
C18: n-ヘキサン抽出物質 | D18: ㎎/L | T18: 検出されないこと
C19: 全窒素 | D19: ㎎/L | T19: 0.3 以下
C20: 全燐 | D20: ㎎/L | T20: 0.03 以下
C21: 全亜鉛 | D21: ㎎/L | T21: 0.02 以下
C22: ノニルフェノール | D22: ㎎/L | T22: 0.001 以下
B23: 要測定指標 | C23: 底層溶存酸素量 | D23: ㎎/L | T23: 7.5 以上
C24: 透明度 | D24: m | E24: 4.7 | F24: 4 | G24: 2.2 | H24: 6.2 | I24: 5 | J24: 3 | K24: 7.6 | L24: 4 | M24: 6 | N24: 8 | O24: 9.5 | P24: 9.5 | Q24: =AVERAGE(E24:P24) -> 5.8083333 | R24: =MAX(E24:P24) -> 9.5 | S24: =MIN(E24:P24) -> 2.2 | T24: ――
B26: 補足測定項目 | C26: T O C | D26: ㎎/L | T26: ――
B27: 健康項目 | C27: カドミウム | D27: ㎎/L | T27: 0.003 以下
C28: 全シアン | D28: ㎎/L | T28: 検出されないこと
C29: 鉛 | D29: ㎎/L | T29: 0.01 以下
C30: 六価クロム | D30: ㎎/L | T30: 0.02 以下
C31: 砒素 | D31: ㎎/L | T31: 0.01 以下
C32: 総水銀 | D32: ㎎/L | T32: 0.0005 以下
C33: アルキル水銀 | D33: ㎎/L
C34: P C B | D34: ㎎/L | T34: 検出されないこと
C35: ジクロロメタン | D35: ㎎/L | T35: 0.02 以下
C36: 四塩化炭素 | D36: ㎎/L | T36: 0.002 以下
C37: 1,2-ジクロロエタン | D37: ㎎/L | T37: 0.004 以下
C38: 1,1-ジクロロエチレン | D38: ㎎/L | T38: 0.1 以下
C39: ｼｽ-1,2-ｼﾞｸﾛﾛｴﾁﾚﾝ | D39: ㎎/L | T39: 0.04 以下
C40: 1,1,1-ﾄﾘｸﾛﾛｴﾀﾝ | D40: ㎎/L | T40: 1 以下
C41: 1,1,2-ﾄﾘｸﾛﾛｴﾀﾝ | D41: ㎎/L | T41: 0.006 以下
C42: トリクロロエチレン | D42: ㎎/L | T42: 0.01 以下
C43: テトラクロロエチレン | D43: ㎎/L | T43: 0.01 以下
C44: 1,3-ジクロロプロペン | D44: ㎎/L | T44: 0.002 以下
C45: チウラム | D45: ㎎/L | T45: 0.006 以下
... C53: 1,4-ジオキサン | D53: ㎎/L | T53: 0.05 以下
C54: フェノール類 | D54: ㎎/L
B55: 特殊項目 | C55: 銅 | D55: ㎎/L | T55: ――
C56: 亜鉛 | D56: ㎎/L | T56: ――
C57: 鉄_溶解性 | D57: ㎎/L | T57: ――
C58: マンガン_溶解性 | D58: ㎎/L | T58: ――
C59: クロム | D59: ㎎/L | T59: ――
B60: 要監視項目 | C60: クロロホルム | D60: ㎎/L | T60: 0.06 以下
C61: トランス-1,2-ジクロロエチレン | D61: ㎎/L | T61: 0.04 以下
C62: 1,2-ジクロロプロパン | D62: ㎎/L | T62: 0.06 以下
C63: p-ジクロロベンゼン | D63: ㎎/L | T63: 0.2 以下
C64: イソキサチオン | D64: ㎎/L | T64: 0.008 以下
C65: ダイアジノン | D65: ㎎/L | T65: 0.005 以下
C66: フェニトロチオン | D66: ㎎/L | T66: 0.003 以下
C67: イソプロチオラン | D67: ㎎/L | T67: 0.04 以下
C68: オキシン銅 | D68: ㎎/L | T68: 0.04 以下
C69: クロロタロニル | D69: ㎎/L | T69: 0.05 以下
C70: プロピザミド | D70: ㎎/L | T70: 0.008 以下
C71: EPN | D71: ㎎/L | T71: 0.006 以下
C72: ジクロルボス | D72: ㎎/L | T72: 0.008 以下
... C85: ウラン | D85: ㎎/L | T85: 0.002 以下
C86: フェノール | D86: ㎎/L
C87: ホルムアルデヒド | D87: ㎎/L
B88: その他の項目 | C88: 塩素イオン | D88: ㎎/L | T88: ――
C89: アンモニア態窒素 | D89: ㎎/L | T89: ――
C90: 亜硝酸性窒素 | D90: ㎎/L | T90: ――
C91: 硝酸性窒素 | D91: ㎎/L | T91: ――
C92: 有機態窒素 | D92: ㎎/L | T92: ――
C93: 燐酸態燐 | D93: ㎎/L | T93: ――
C94: クロロフィルa | D94: ㎎/ｍ３ | T94: ――
C95: トリハロメタン生成能 | D95: ㎎/L | T95: ――
C96: クロロホルム生成能 | D96: ㎎/L | T96: ――
C97: ブロモジクロロメタン生成能 | D97: ㎎/L | T97: ――
C98: ジブロモクロロメタン生成能 | D98: ㎎/L | T98: ――
C99: ブロモホルム生成能 | D99: ㎎/L | T99: ――
C100: ふん便性大腸菌群数 | D100: 個/100mL | T100: ――
... C103: 電気伝導度 | D103: μS/㎝ | T103: ――
B104: 生活環境項目 | C104: 直鎖アルキルベンゼンスルホン酸及びその塩 | D104: ㎎/L | T104: 0.01 以下
C105: 4-t-オクチルフェノール | D105: ㎎/L
C106: アニリン | D106: ㎎/L
C107: 2,4-ジクロロフェノール | D107: ㎎/L
C108: ビスフェノールＡ | D108: ㎎/L
B109: 特記事項

Sheet 備讃瀬戸12底層
G1: 2025年度 | I1: 公共用水水質結果一覧表（備讃瀬戸12底層）
B3: 測定地点番号 | E3: 12 | T3: 環境基準 または 指針値
B4: 水系 | E4: 備讃瀬戸
B5: 測定地点名 | E5: 備讃瀬戸12底層
B6: 環境基準類型 | E6: 海域ＡⅡ、生物Ａ
B7: 採取年月日 | E7: 45761 | F7: 45791 | G7: 45833 | H7: 45847 | I7: 45876 | J7: 45908 | K7: 45938 | L7: 45966 | M7: 45995 | N7: 46041 | O7: 46056 | P7: 46099 | Q7: 平均 | R7: 最大 | S7: 最小
B8: 気温 | D8: ℃ | E8: 12.5 | F8: 20.0 | G8: 27.0 | H8: 31.0 | I8: 27.8 | J8: 29.5 | K8: 26.8 | L8: 17.0 | M8: 8.0 | N8: 10.8 | O8: 6.3 | P8: 9.8
B9: 水温 | D9: ℃ | E9: 12.1 | F9: 15.9 | G9: 19.7 | H9: 22.6 | I9: 25.7 | J9: 28.1 | K9: 26.5 | L9: 20.1 | M9: 16.0 | N9: 12.3 | O9: 10.3 | P9: 11.1
B10: 透視度 | D10: ㎝
B11: 測定項目
B12: 生活環境項目 | C12: p H | T12: 7.8～8.3
C13: D O | D13: ㎎/L | T13: 7.5 以上
C14: B O D | D14: ㎎/L | T14: ――
C15: C O D | D15: ㎎/L | T15: 2 以下
C16: S S | D16: ㎎/L | T16: ――
C17: 大腸菌数 | D17: CFU/100ｍL | T17: 20 以下
C18: n-ヘキサン抽出物質 | D18: ㎎/L | T18: 検出されないこと
C19: 全窒素 | D19: ㎎/L | T19: 0.3 以下
C20: 全燐 | D20: ㎎/L | T20: 0.03 以下
C21: 全亜鉛 | D21: ㎎/L | T21: 0.02 以下
C22: ノニルフェノール | D22: ㎎/L | T22: 0.001 以下
B23: 要測定指標 | C23: 底層溶存酸素量 | D23: ㎎/L | E23: 8.6 | F23: 8.1 | G23: 6.3 | H23: 6.4 | I23: 4.7 | J23: 4.2 | K23: 6.5 | L23: 7.6 | M23: 8.1 | N23: 8.9 | O23: 8.6 | P23: 9.1 | Q23: =AVERAGE(E23:P23) -> 7.2583333 | R23: =MAX(E23:P23) -> 9.1 | S23: =MIN(E23:P23) -> 4.2 | T23: ――
C24: 透明度 | D24: m | E24: 4.7 | F24: 4 | G24: 2.2 | H24: 6.2 | I24: 5 | J24: 3 | K24: 7.6 | L24: 4 | M24: 6 | N24: 8 | O24: 9.5 | P24: 9.5 | Q24: =AVERAGE(E24:P24) -> 5.8083333 | R24: =MAX(E24:P24) -> 9.5 | S24: =MIN(E24:P24) -> 2.2 | T24: ――
B26: 補足測定項目 | C26: T O C | D26: ㎎/L | T26: ――
B27: 健康項目 | C27: カドミウム | D27: ㎎/L | T27: 0.003 以下
C28: 全シアン | D28: ㎎/L | T28: 検出されないこと
C29: 鉛 | D29: ㎎/L | T29: 0.01 以下
C30: 六価クロム | D30: ㎎/L | T30: 0.02 以下
C31: 砒素 | D31: ㎎/L | T31: 0.01 以下
C32: 総水銀 | D32: ㎎/L | T32: 0.0005 以下
C33: アルキル水銀 | D33: ㎎/L
C34: P C B | D34: ㎎/L | T34: 検出されないこと
C35: ジクロロメタン | D35: ㎎/L | T35: 0.02 以下
C36: 四塩化炭素 | D36: ㎎/L | T36: 0.002 以下
C37: 1,2-ジクロロエタン | D37: ㎎/L | T37: 0.004 以下
C38: 1,1-ジクロロエチレン | D38: ㎎/L | T38: 0.1 以下
C39: ｼｽ-1,2-ｼﾞｸﾛﾛｴﾁﾚﾝ | D39: ㎎/L | T39: 0.04 以下
C40: 1,1,1-ﾄﾘｸﾛﾛｴﾀﾝ | D40: ㎎/L | T40: 1 以下
C41: 1,1,2-ﾄﾘｸﾛﾛｴﾀﾝ | D41: ㎎/L | T41: 0.006 以下
C42: トリクロロエチレン | D42: ㎎/L | T42: 0.01 以下
C43: テトラクロロエチレン | D43: ㎎/L | T43: 0.01 以下
C44: 1,3-ジクロロプロペン | D44: ㎎/L | T44: 0.002 以下
C45: チウラム | D45: ㎎/L | T45: 0.006 以下
... C53: 1,4-ジオキサン | D53: ㎎/L | T53: 0.05 以下
C54: フェノール類 | D54: ㎎/L
B55: 特殊項目 | C55: 銅 | D55: ㎎/L | T55: ――
C56: 亜鉛 | D56: ㎎/L | T56: ――
C57: 鉄_溶解性 | D57: ㎎/L | T57: ――
C58: マンガン_溶解性 | D58: ㎎/L | T58: ――
C59: クロム | D59: ㎎/L | T59: ――
B60: 要監視項目 | C60: クロロホルム | D60: ㎎/L | T60: 0.06 以下
C61: トランス-1,2-ジクロロエチレン | D61: ㎎/L | T61: 0.04 以下
C62: 1,2-ジクロロプロパン | D62: ㎎/L | T62: 0.06 以下
C63: p-ジクロロベンゼン | D63: ㎎/L | T63: 0.2 以下
C64: イソキサチオン | D64: ㎎/L | T64: 0.008 以下
C65: ダイアジノン | D65: ㎎/L | T65: 0.005 以下
C66: フェニトロチオン | D66: ㎎/L | T66: 0.003 以下
C67: イソプロチオラン | D67: ㎎/L | T67: 0.04 以下
C68: オキシン銅 | D68: ㎎/L | T68: 0.04 以下
C69: クロロタロニル | D69: ㎎/L | T69: 0.05 以下
C70: プロピザミド | D70: ㎎/L | T70: 0.008 以下
C71: EPN | D71: ㎎/L | T71: 0.006 以下
C72: ジクロルボス | D72: ㎎/L | T72: 0.008 以下
... C85: ウラン | D85: ㎎/L | T85: 0.002 以下
C86: フェノール | D86: ㎎/L
C87: ホルムアルデヒド | D87: ㎎/L
B88: その他の項目 | C88: 塩素イオン | D88: ㎎/L | T88: ――
C89: アンモニア態窒素 | D89: ㎎/L | T89: ――
C90: 亜硝酸性窒素 | D90: ㎎/L | T90: ――
C91: 硝酸性窒素 | D91: ㎎/L | T91: ――
C92: 有機態窒素 | D92: ㎎/L | T92: ――
C93: 燐酸態燐 | D93: ㎎/L | T93: ――
C94: クロロフィルa | D94: ㎎/ｍ３ | T94: ――
C95: トリハロメタン生成能 | D95: ㎎/L | T95: ――
C96: クロロホルム生成能 | D96: ㎎/L | T96: ――
C97: ブロモジクロロメタン生成能 | D97: ㎎/L | T97: ――
C98: ジブロモクロロメタン生成能 | D98: ㎎/L | T98: ――
C99: ブロモホルム生成能 | D99: ㎎/L | T99: ――
C100: ふん便性大腸菌群数 | D100: 個/100mL | T100: ――
... C103: 電気伝導度 | D103: μS/㎝ | T103: ――
B104: 生活環境項目 | C104: 直鎖アルキルベンゼンスルホン酸及びその塩 | D104: ㎎/L | T104: 0.01 以下
C105: 4-t-オクチルフェノール | D105: ㎎/L
C106: アニリン | D106: ㎎/L
C107: 2,4-ジクロロフェノール | D107: ㎎/L
C108: ビスフェノールＡ | D108: ㎎/L
B109: 特記事項

Sheet 備讃瀬戸12全層
G1: 2025年度 | I1: 公共用水水質結果一覧表（備讃瀬戸12全層）
B3: 測定地点番号 | E3: 12 | T3: 環境基準 または 指針値
B4: 水系 | E4: 備讃瀬戸
B5: 測定地点名 | E5: 備讃瀬戸12全層
B6: 環境基準類型 | E6: 海域ＡⅡ、生物Ａ
B7: 採取年月日 | E7: 45761 | F7: 45791 | G7: 45833 | H7: 45847 | I7: 45876 | J7: 45908 | K7: 45938 | L7: 45966 | M7: 45995 | N7: 46041 | O7: 46056 | P7: 46099 | Q7: 平均 | R7: 最大 | S7: 最小
B8: 気温 | D8: ℃ | E8: ―― | F8: ―― | G8: ―― | H8: ―― | I8: ―― | J8: ―― | K8: ―― | L8: ―― | M8: ―― | N8: ―― | O8: ―― | P8: ――
B9: 水温 | D9: ℃ | E9: ―― | F9: ―― | G9: ―― | H9: ―― | I9: ―― | J9: ―― | K9: ―― | L9: ―― | M9: ―― | N9: ―― | O9: ―― | P9: ――
B10: 透視度 | D10: ㎝ | E10: >30 | F10: >30 | G10: >30 | H10: >30 | I10: >30 | J10: >30 | K10: >30 | L10: >30 | M10: >30 | N10: >30 | O10: >30 | P10: >30
B11: 測定項目
B12: 生活環境項目 | C12: p H | E12: 8 | F12: 8.1 | G12: 8.1 | H12: 8.1 | I12: 8 | J12: 8.2 | K12: 8.1 | L12: 8.1 | M12: 8.1 | N12: 8.1 | O12: 8.1 | P12: 8.1 | Q12: =AVERAGE(E12:P12) -> 8.0916667 | R12: =MAX(備讃瀬戸12上層!E12:P12,備讃瀬戸12中層!E12:P12,備讃瀬戸12下層!E12:P12) -> 8.2 | S12: =MIN(備讃瀬戸12上層!E12:P12,備讃瀬戸12中層!E12:P12,備讃瀬戸12下層!E12:P12) -> 8 | T12: 7.8～8.3
C13: D O | D13: ㎎/L | E13: 9.1 | F13: 9.3 | G13: 10 | H13: 8 | I13: 7 | J13: 7.4 | K13: 7 | L13: 7.8 | M13: 8.2 | N13: 9.1 | O13: 9.4 | P13: 9.3 | Q13: =AVERAGE(E13:P13) -> 8.4666667 | R13: =MAX(備讃瀬戸12上層!E13:P13,備讃瀬戸12中層!E13:P13) -> 10 | S13: =MIN(備讃瀬戸12上層!E13:P13,備讃瀬戸12中層!E13:P13) -> 6.7 | T13: 7.5 以上
C14: B O D | D14: ㎎/L | T14: ――
C15: C O D | D15: ㎎/L | E15: 1.4 | F15: 1.8 | G15: 2.1 | H15: 1.8 | I15: 1.5 | J15: 2.7 | K15: 1.2 | L15: 1.6 | M15: 1.1 | N15: 1.1 | O15: 0.8 | P15: 1.3 | Q15: =AVERAGE(E15:P15) -> 1.5333333 | R15: =MAX(備讃瀬戸12上層!E15:P15,備讃瀬戸12中層!E15:P15,備讃瀬戸12下層!E15:P15) -> 3.4 | S15: =MIN(備讃瀬戸12上層!E15:P15,備讃瀬戸12中層!E15:P15,備讃瀬戸12下層!E15:P15) -> 0.7 | T15: 2 以下
C16: S S | D16: ㎎/L | E16: 2 | F16: 2 | G16: 2 | H16: 1 | I16: 1 | J16: 2 | K16: 2 | L16: 3 | M16: 2 | N16: 3 | O16: 2 | P16: 3 | Q16: =AVERAGE(E16:P16) -> 2.0833333 | R16: =MAX(備讃瀬戸12上層!E16:P16,備讃瀬戸12中層!E16:P16,備讃瀬戸12下層!E16:P16) -> 4 | S16: <1 | T16: ――
C17: 大腸菌数 | D17: CFU/100ｍL | E17: <1 | F17: <1 | G17: 1 | H17: <1 | I17: <1 | J17: <1 | K17: <1 | L17: <1 | M17: <1 | N17: <1 | O17: <1 | P17: <1 | Q17: 1 | R17: 1 | S17: <1 | T17: 20 以下
C18: n-ヘキサン抽出物質 | D18: ㎎/L | E18: <0.5 | F18: <0.5 | G18: <0.5 | H18: <0.5 | I18: <0.5 | J18: <0.5 | K18: <0.5 | L18: <0.5 | M18: <0.5 | N18: <0.5 | O18: <0.5 | P18: <0.5 | Q18: <0.5 | R18: <0.5 | S18: <0.5 | T18: 検出されないこと
C19: 全窒素 | D19: ㎎/L | E19: 0.18 | F19: 0.14 | G19: 0.42 | H19: 0.08 | I19: 0.11 | J19: 0.18 | K19: 0.11 | L19: 0.16 | M19: 0.12 | N19: 0.06 | O19: 0.06 | P19: 0.1 | Q19: =AVERAGE(E19:P19) -> 0.14333333 | R19: =MAX(備讃瀬戸12上層!E19:P19,備讃瀬戸12中層!E19:P19) -> 0.43 | S19: =MIN(備讃瀬戸12上層!E19:P19,備讃瀬戸12中層!E19:P19) -> 0.05 | T19: 0.3 以下
C20: 全燐 | D20: ㎎/L | E20: 0.018 | F20: 0.018 | G20: 0.039 | H20: 0.016 | I20: 0.025 | J20: 0.04 | K20: 0.027 | L20: 0.022 | M20: 0.028 | N20: 0.014 | O20: 0.022 | P20: 0.022 | Q20: =AVERAGE(E20:P20) -> 0.02425 | R20: =MAX(備讃瀬戸12上層!E20:P20,備讃瀬戸12中層!E20:P20) -> 0.045 | S20: =MIN(備讃瀬戸12上層!E20:P20,備讃瀬戸12中層!E20:P20) -> 0.013 | T20: 0.03 以下
C21: 全亜鉛 | D21: ㎎/L | E21: 0.001 | H21: 0.001 | K21: <0.001 | N21: <0.001 | Q21: =AVERAGE(E21:P21) -> 0.001 | R21: =MAX(E21:P21) -> 0.001 | S21: <0.001 | T21: 0.02 以下
C22: ノニルフェノール | D22: ㎎/L | E22: <0.00006 | H22: <0.00006 | K22: <0.00006 | N22: <0.00006 | Q22: <0.00006 | R22: <0.00006 | S22: <0.00006 | T22: 0.001 以下
B23: 要測定指標 | C23: 底層溶存酸素量 | D23: ㎎/L | E23: 8.6 | F23: 8.1 | G23: 6.3 | H23: 6.4 | I23: 4.7 | J23: 4.2 | K23: 6.5 | L23: 7.6 | M23: 8.1 | N23: 8.9 | O23: 8.6 | P23: 9.1 | Q23: =AVERAGE(E23:P23) -> 7.2583333 | R23: =MAX(E23:P23) -> 9.1 | S23: =MIN(E23:P23) -> 4.2 | T23: ――
C24: 透明度 | D24: m | E24: 4.7 | F24: 4 | G24: 2.2 | H24: 6.2 | I24: 5 | J24: 3 | K24: 7.6 | L24: 4 | M24: 6 | N24: 8 | O24: 9.5 | P24: 9.5 | Q24: =AVERAGE(E24:P24) -> 5.8083333 | R24: =MAX(E24:P24) -> 9.5 | S24: =MIN(E24:P24) -> 2.2 | T24: ――
B26: 補足測定項目 | C26: T O C | D26: ㎎/L | E26: 1.5 | H26: 1.6 | K26: 1.4 | N26: 1.2 | Q26: =AVERAGE(E26:P26) -> 1.425 | R26: =MAX(E26:P26) -> 1.6 | S26: =MIN(E26:P26) -> 1.2 | T26: ――
B27: 健康項目 | C27: カドミウム | D27: ㎎/L | H27: <0.0003 | Q27: <0.0003 | R27: <0.0003 | S27: <0.0003 | T27: 0.003 以下
C28: 全シアン | D28: ㎎/L | H28: <0.1 | Q28: <0.1 | R28: <0.1 | S28: <0.1 | T28: 検出されないこと
C29: 鉛 | D29: ㎎/L | H29: <0.005 | Q29: <0.005 | R29: <0.005 | S29: <0.005 | T29: 0.01 以下
C30: 六価クロム | D30: ㎎/L | H30: <0.01 | Q30: <0.01 | R30: <0.01 | S30: <0.01 | T30: 0.02 以下
C31: 砒素 | D31: ㎎/L | H31: <0.005 | Q31: <0.005 | R31: <0.005 | S31: <0.005 | T31: 0.01 以下
C32: 総水銀 | D32: ㎎/L | H32: <0.0005 | Q32: <0.0005 | R32: <0.0005 | S32: <0.0005 | T32: 0.0005 以下
C33: アルキル水銀 | D33: ㎎/L
C34: P C B | D34: ㎎/L | H34: <0.0005 | Q34: <0.0005 | R34: <0.0005 | S34: <0.0005 | T34: 検出されないこと
C35: ジクロロメタン | D35: ㎎/L | T35: 0.02 以下
C36: 四塩化炭素 | D36: ㎎/L | T36: 0.002 以下
C37: 1,2-ジクロロエタン | D37: ㎎/L | T37: 0.004 以下
C38: 1,1-ジクロロエチレン | D38: ㎎/L | T38: 0.1 以下
C39: ｼｽ-1,2-ｼﾞｸﾛﾛｴﾁﾚﾝ | D39: ㎎/L | T39: 0.04 以下
C40: 1,1,1-ﾄﾘｸﾛﾛｴﾀﾝ | D40: ㎎/L | T40: 1 以下
C41: 1,1,2-ﾄﾘｸﾛﾛｴﾀﾝ | D41: ㎎/L | T41: 0.006 以下
C42: トリクロロエチレン | D42: ㎎/L | T42: 0.01 以下
C43: テトラクロロエチレン | D43: ㎎/L | T43: 0.01 以下
C44: 1,3-ジクロロプロペン | D44: ㎎/L | T44: 0.002 以下
C45: チウラム | D45: ㎎/L | T45: 0.006 以下
C46: シマジン | D46: ㎎/L | T46: 0.003 以下
... C49: セレン | D49: ㎎/L | T49: 0.01 以下
C50: 硝酸性窒素及び亜硝酸性窒素 | D50: ㎎/L | H50: <0.01 | Q50: <0.01 | R50: <0.01 | S50: <0.01 | T50: 10 以下
C51: ふっ素 | D51: ㎎/L | T51: ――
C52: ほう素 | D52: ㎎/L | T52: ――
C53: 1,4-ジオキサン | D53: ㎎/L | T53: 0.05 以下
C54: フェノール類 | D54: ㎎/L
B55: 特殊項目 | C55: 銅 | D55: ㎎/L | T55: ――
C56: 亜鉛 | D56: ㎎/L | T56: ――
C57: 鉄_溶解性 | D57: ㎎/L | T57: ――
C58: マンガン_溶解性 | D58: ㎎/L | T58: ――
C59: クロム | D59: ㎎/L | T59: ――
B60: 要監視項目 | C60: クロロホルム | D60: ㎎/L | T60: 0.06 以下
C61: トランス-1,2-ジクロロエチレン | D61: ㎎/L | T61: 0.04 以下
C62: 1,2-ジクロロプロパン | D62: ㎎/L | T62: 0.06 以下
C63: p-ジクロロベンゼン | D63: ㎎/L | T63: 0.2 以下
C64: イソキサチオン | D64: ㎎/L | T64: 0.008 以下
C65: ダイアジノン | D65: ㎎/L | T65: 0.005 以下
C66: フェニトロチオン | D66: ㎎/L | T66: 0.003 以下
C67: イソプロチオラン | D67: ㎎/L | T67: 0.04 以下
C68: オキシン銅 | D68: ㎎/L | T68: 0.04 以下
C69: クロロタロニル | D69: ㎎/L | T69: 0.05 以下
C70: プロピザミド | D70: ㎎/L | T70: 0.008 以下
C71: EPN | D71: ㎎/L | T71: 0.006 以下
C72: ジクロルボス | D72: ㎎/L | T72: 0.008 以下
... C85: ウラン | D85: ㎎/L | T85: 0.002 以下
C86: フェノール | D86: ㎎/L
C87: ホルムアルデヒド | D87: ㎎/L
B88: その他の項目 | C88: 塩素イオン | D88: ㎎/L | E88: 17600 | F88: 18800 | G88: 16200 | H88: 17200 | I88: 16800 | J88: 16900 | K88: 17100 | L88: 17500 | M88: 18400 | N88: 18100 | O88: 18500 | P88: 17100 | Q88: 17500 | R88: =MAX(E88:P88) -> 18800 | S88: =MIN(E88:P88) -> 16200 | T88: ――
C89: アンモニア態窒素 | D89: ㎎/L | T89: ――
C90: 亜硝酸性窒素 | D90: ㎎/L | T90: ――
C91: 硝酸性窒素 | D91: ㎎/L | T91: ――
C92: 有機態窒素 | D92: ㎎/L | T92: ――
C93: 燐酸態燐 | D93: ㎎/L | T93: ――
C94: クロロフィルa | D94: ㎎/ｍ３ | E94: <0.5 | G94: 10 | I94: 2.2 | K94: 1.5 | M94: 1.6 | O94: 0.6 | Q94: 2.7 | R94: =MAX(E94:P94) -> 10 | S94: <0.5 | T94: ――
C95: トリハロメタン生成能 | D95: ㎎/L | T95: ――
C96: 直鎖アルキルベンゼンスルホン酸及びその塩 | D96: ㎎/L | T96: ――
C97: ブロモジクロロメタン生成能 | D97: ㎎/L | T97: ――
C98: ジブロモクロロメタン生成能 | D98: ㎎/L | T98: ――
C99: ブロモホルム生成能 | D99: ㎎/L | T99: ――
C100: ふん便性大腸菌群数 | D100: 個/100mL | T100: ――
C101: 濁度 | D101: 度 | T101: ――
C102: メチレンブルー活性物質 | D102: ㎎/ｌ | T102: ――
C103: 電気伝導度 | D103: μS/㎝ | T103: ――
B104: 生活環境項目 | C104: 直鎖アルキルベンゼンスルホン酸及びその塩 | D104: ㎎/L | E104: <0.0006 | H104: <0.0006 | K104: <0.0006 | N104: <0.0006 | Q104: <0.0006 | R104: <0.0006 | S104: <0.0006 | T104: 0.01 以下
C105: 4-t-オクチルフェノール | D105: ㎎/L
C106: アニリン | D106: ㎎/L
C107: 2,4-ジクロロフェノール | D107: ㎎/L
C108: ビスフェノールＡ | D108: ㎎/L
B109: 特記事項

Sheet 燧灘北西部60上層
G1: 2025年度 | I1: 公共用水水質結果一覧表（燧灘北西部60上層）
B3: 測定地点番号 | E3: 60 | T3: 環境基準 または 指針値
B4: 水系 | E4: 燧灘北西部
B5: 測定地点名 | E5: 燧灘北西部60上層
B6: 環境基準類型 | E6: 海域ＡⅡ
B7: 採取年月日 | E7: 45761 | F7: 45791 | G7: 45833 | H7: 45847 | I7: 45876 | J7: 45908 | K7: 45938 | L7: 45966 | M7: 45995 | N7: 46041 | O7: 46056 | P7: 46099 | Q7: 平均 | R7: 最大 | S7: 最小
B8: 気温 | D8: ℃ | E8: 13.0 | F8: 18.0 | G8: 26.0 | H8: 28.0 | I8: 26.6 | J8: 29.0 | K8: 25.7 | L8: 16.0 | M8: 6.0 | N8: 9.0 | O8: 5.2 | P8: 9.3
B9: 水温 | D9: ℃ | E9: 12.3 | F9: 17.1 | G9: 24.6 | H9: 26.6 | I9: 26.8 | J9: 28.8 | K9: 26.0 | L9: 20.3 | M9: 15.7 | N9: 13.0 | O9: 10.6 | P9: 11.7
B10: 透視度 | D10: ㎝ | E10: >30 | F10: >30 | G10: >30 | H10: >30 | I10: >30 | J10: >30 | K10: >30 | L10: >30 | M10: >30 | N10: >30 | O10: >30 | P10: >30
B11: 測定項目
B12: 生活環境項目 | C12: p H | E12: 8 | F12: 8 | G12: 8.2 | H12: 8.1 | I12: 8 | J12: 8 | K12: 8.1 | L12: 8.1 | M12: 8.1 | N12: 8.1 | O12: 8.1 | P12: 8.1 | Q12: =AVERAGE(E12:P12) -> 8.075 | R12: =MAX(E12:P12) -> 8.2 | S12: =MIN(E12:P12) -> 8 | T12: 7.8～8.3
C13: D O | D13: ㎎/L | E13: 9 | F13: 8.4 | G13: 9.5 | H13: 8 | I13: 6.2 | J13: 6.6 | K13: 7.3 | L13: 7.7 | M13: 8.2 | N13: 8.9 | O13: 8.7 | P13: 9.6 | Q13: =AVERAGE(E13:P13) -> 8.175 | R13: =MAX(E13:P13) -> 9.6 | S13: =MIN(E13:P13) -> 6.2 | T13: 7.5 以上
C14: B O D | D14: ㎎/L | T14: ――
C15: C O D | D15: ㎎/L | E15: 1 | F15: 1.3 | G15: 1.9 | H15: 1.6 | I15: 1.4 | J15: 1.6 | K15: 1.7 | L15: 1.4 | M15: 1.1 | N15: 1.2 | O15: 0.8 | P15: 1.1 | Q15: =AVERAGE(E15:P15) -> 1.3416667 | R15: =MAX(E15:P15) -> 1.9 | S15: =MIN(E15:P15) -> 0.8 | T15: 2 以下
C16: S S | D16: ㎎/L | E16: 4 | F16: <1 | G16: 1 | H16: <1 | I16: <1 | J16: 1 | K16: 5 | L16: 5 | M16: 2 | N16: 1 | O16: 3 | P16: 1 | Q16: 2 | R16: =MAX(E16:Q16) -> 5 | S16: <1 | T16: ――
C17: 大腸菌数 | D17: CFU/100ｍL | E17: 2 | F17: <1 | G17: 1 | H17: <1 | I17: <1 | J17: <1 | K17: <1 | L17: <1 | M17: 1 | N17: <1 | O17: <1 | P17: <1 | Q17: 1 | R17: =MAX(E17:P17) -> 2 | S17: <1 | T17: 20 以下
C18: n-ヘキサン抽出物質 | D18: ㎎/L | E18: <0.5 | F18: <0.5 | G18: <0.5 | H18: <0.5 | I18: <0.5 | J18: <0.5 | K18: <0.5 | L18: <0.5 | M18: <0.5 | N18: <0.5 | O18: <0.5 | P18: <0.5 | Q18: <0.5 | R18: <0.5 | S18: <0.5 | T18: 検出されないこと
C19: 全窒素 | D19: ㎎/L | E19: 0.12 | F19: 0.1 | G19: 0.13 | H19: 0.07 | I19: 0.11 | J19: 0.15 | K19: 0.15 | L19: 0.1 | M19: 0.15 | N19: 0.06 | O19: 0.05 | P19: 0.1 | Q19: =AVERAGE(E19:P19) -> 0.1075 | R19: =MAX(E19:P19) -> 0.15 | S19: =MIN(E19:P19) -> 0.05 | T19: 0.3 以下
C20: 全燐 | D20: ㎎/L | E20: 0.02 | F20: 0.015 | G20: 0.015 | H20: 0.019 | I20: 0.03 | J20: 0.074 | K20: 0.03 | L20: 0.021 | M20: 0.03 | N20: 0.016 | O20: 0.021 | P20: 0.021 | Q20: =AVERAGE(E20:P20) -> 0.026 | R20: =MAX(E20:P20) -> 0.074 | S20: =MIN(E20:P20) -> 0.015 | T20: 0.03 以下
C21: 全亜鉛 | D21: ㎎/L | T21: ――
C22: ノニルフェノール | D22: ㎎/L | T22: ――
B23: 要測定指標 | C23: 底層溶存酸素量 | D23: ㎎/L | T23: ――
C24: 透明度 | D24: m | E24: 5.5 | F24: 9 | G24: 4.8 | H24: 6 | I24: 4.8 | J24: 5.1 | K24: 2.9 | L24: 5 | M24: 5.5 | N24: 6 | O24: 6.4 | P24: 7.2 | Q24: =AVERAGE(E24:P24) -> 5.6833333 | R24: =MAX(E24:P24) -> 9 | S24: =MIN(E24:P24) -> 2.9 | T24: ――
B26: 補足測定項目 | C26: T O C | D26: ㎎/L | E26: 1.4 | H26: 1.7 | K26: 1.5 | N26: 1.2 | Q26: =AVERAGE(E26:P26) -> 1.45 | R26: =MAX(E26:P26) -> 1.7 | S26: =MIN(E26:P26) -> 1.2 | T26: ――
B27: 健康項目 | C27: カドミウム | D27: ㎎/L | T27: 0.003 以下
C28: 全シアン | D28: ㎎/L | T28: 検出されないこと
C29: 鉛 | D29: ㎎/L | T29: 0.01 以下
C30: 六価クロム | D30: ㎎/L | T30: 0.02 以下
C31: 砒素 | D31: ㎎/L | T31: 0.01 以下
C32: 総水銀 | D32: ㎎/L | T32: 0.0005 以下
C33: アルキル水銀 | D33: ㎎/L
C34: P C B | D34: ㎎/L | T34: 検出されないこと
C35: ジクロロメタン | D35: ㎎/L | T35: 0.02 以下
C36: 四塩化炭素 | D36: ㎎/L | T36: 0.002 以下
C37: 1,2-ジクロロエタン | D37: ㎎/L | T37: 0.004 以下
C38: 1,1-ジクロロエチレン | D38: ㎎/L | T38: 0.1 以下
C39: ｼｽ-1,2-ｼﾞｸﾛﾛｴﾁﾚﾝ | D39: ㎎/L | T39: 0.04 以下
C40: 1,1,1-ﾄﾘｸﾛﾛｴﾀﾝ | D40: ㎎/L | T40: 1 以下
C41: 1,1,2-ﾄﾘｸﾛﾛｴﾀﾝ | D41: ㎎/L | T41: 0.006 以下
C42: トリクロロエチレン | D42: ㎎/L | T42: 0.01 以下
C43: テトラクロロエチレン | D43: ㎎/L | T43: 0.01 以下
C44: 1,3-ジクロロプロペン | D44: ㎎/L | T44: 0.002 以下
C45: チウラム | D45: ㎎/L | T45: 0.006 以下
... C53: 1,4-ジオキサン | D53: ㎎/L | T53: 0.05 以下
C54: フェノール類 | D54: ㎎/L
B55: 特殊項目 | C55: 銅 | D55: ㎎/L | T55: ――
C56: 亜鉛 | D56: ㎎/L | T56: ――
C57: 鉄_溶解性 | D57: ㎎/L | T57: ――
C58: マンガン_溶解性 | D58: ㎎/L | T58: ――
C59: クロム | D59: ㎎/L | T59: ――
B60: 要監視項目 | C60: クロロホルム | D60: ㎎/L | T60: 0.06 以下
C61: トランス-1,2-ジクロロエチレン | D61: ㎎/L | T61: 0.04 以下
C62: 1,2-ジクロロプロパン | D62: ㎎/L | T62: 0.06 以下
C63: p-ジクロロベンゼン | D63: ㎎/L | T63: 0.2 以下
C64: イソキサチオン | D64: ㎎/L | T64: 0.008 以下
C65: ダイアジノン | D65: ㎎/L | T65: 0.005 以下
C66: フェニトロチオン | D66: ㎎/L | T66: 0.003 以下
C67: イソプロチオラン | D67: ㎎/L | T67: 0.04 以下
C68: オキシン銅 | D68: ㎎/L | T68: 0.04 以下
C69: クロロタロニル | D69: ㎎/L | T69: 0.05 以下
C70: プロピザミド | D70: ㎎/L | T70: 0.008 以下
C71: EPN | D71: ㎎/L | T71: 0.006 以下
C72: ジクロルボス | D72: ㎎/L | T72: 0.008 以下
... C85: ウラン | D85: ㎎/L | T85: 0.002 以下
C86: フェノール | D86: ㎎/L
C87: ホルムアルデヒド | D87: ㎎/L
B88: その他の項目 | C88: 塩素イオン | D88: ㎎/L | E88: 17500 | F88: 18000 | G88: 16800 | H88: 17400 | I88: 17100 | J88: 17300 | K88: 17700 | L88: 18600 | M88: 18000 | N88: 18000 | O88: 18200 | P88: 17100 | Q88: 17600 | R88: =MAX(E88:P88) -> 18600 | S88: =MIN(E88:P88) -> 16800 | T88: ――
C89: アンモニア態窒素 | D89: ㎎/L | T89: ――
C90: 亜硝酸性窒素 | D90: ㎎/L | T90: ――
C91: 硝酸性窒素 | D91: ㎎/L | T91: ――
C92: 有機態窒素 | D92: ㎎/L | T92: ――
C93: 燐酸態燐 | D93: ㎎/L | T93: ――
C94: クロロフィルa | D94: ㎎/ｍ３ | E94: <0.5 | G94: 2.5 | I94: 1.6 | K94: 3.4 | M94: 1.4 | O94: 1.2 | Q94: 1.8 | R94: =MAX(E94:P94) -> 3.4 | S94: <0.5 | T94: ――
C95: トリハロメタン生成能 | D95: ㎎/L | T95: ――
C96: クロロホルム生成能 | D96: ㎎/L | T96: ――
C97: ブロモジクロロメタン生成能 | D97: ㎎/L | T97: ――
C98: ジブロモクロロメタン生成能 | D98: ㎎/L | T98: ――
C99: ブロモホルム生成能 | D99: ㎎/L | T99: ――
C100: ふん便性大腸菌群数 | D100: 個/100mL | T100: ――
C101: 濁度 | D101: 度 | T101: ――
C102: メチレンブルー活性物質 | D102: ㎎/ｌ | T102: ――
C103: 電気伝導度 | D103: μS/㎝ | T103: ――
B104: 生活環境項目 | C104: 直鎖アルキルベンゼンスルホン酸及びその塩 | D104: ㎎/L | T104: ――
C105: 4-t-オクチルフェノール | D105: ㎎/L
C106: アニリン | D106: ㎎/L
C107: 2,4-ジクロロフェノール | D107: ㎎/L
C108: ビスフェノールＡ | D108: ㎎/L
B109: 特記事項

Sheet 燧灘北西部60中層
G1: 2025年度 | I1: 公共用水水質結果一覧表（燧灘北西部60中層）
B3: 測定地点番号 | E3: 60 | T3: 環境基準 または 指針値
B4: 水系 | E4: 燧灘北西部
B5: 測定地点名 | E5: 燧灘北西部60中層
B6: 環境基準類型 | E6: 海域ＡⅡ
B7: 採取年月日 | E7: 45761 | F7: 45791 | G7: 45833 | H7: 45847 | I7: 45876 | J7: 45908 | K7: 45938 | L7: 45966 | M7: 45995 | N7: 46041 | O7: 46056 | P7: 46099 | Q7: 平均 | R7: 最大 | S7: 最小
B8: 気温 | D8: ℃ | E8: 13.0 | F8: 18.0 | G8: 26.0 | H8: 28.0 | I8: 26.6 | J8: 29.0 | K8: 25.7 | L8: 16.0 | M8: 6.0 | N8: 9.0 | O8: 5.2 | P8: 9.3
B9: 水温 | D9: ℃ | E9: 12.6 | F9: 17.2 | G9: 24.7 | H9: 26.3 | I9: 26.8 | J9: 28.8 | K9: 25.9 | L9: 20.4 | M9: 15.7 | N9: 12.4 | O9: 10.5 | P9: 11.6
B10: 透視度 | D10: ㎝ | E10: >30 | F10: >30 | G10: >30 | H10: >30 | I10: >30 | J10: >30 | K10: >30 | L10: >30 | M10: >30 | N10: >30 | O10: >30 | P10: >30
B11: 測定項目
B12: 生活環境項目 | C12: p H | E12: 8 | F12: 8 | G12: 8.2 | H12: 8.1 | I12: 8 | J12: 8 | K12: 8.1 | L12: 8.1 | M12: 8.1 | N12: 8.1 | O12: 8.1 | P12: 8.1 | Q12: =AVERAGE(E12:P12) -> 8.075 | R12: =MAX(E12:P12) -> 8.2 | S12: =MIN(E12:P12) -> 8 | T12: 7.8～8.3
C13: D O | D13: ㎎/L | E13: 9.1 | F13: 8.2 | G13: 8.3 | H13: 8 | I13: 6 | J13: 6.8 | K13: 7.3 | L13: 7.9 | M13: 8 | N13: 9.4 | O13: 9.4 | P13: 9.4 | Q13: =AVERAGE(E13:P13) -> 8.15 | R13: =MAX(E13:P13) -> 9.4 | S13: =MIN(E13:P13) -> 6 | T13: 7.5 以上
C14: B O D | D14: ㎎/L | T14: ――
C15: C O D | D15: ㎎/L | E15: 1.2 | F15: 1.4 | G15: 1.7 | H15: 1.8 | I15: 1.9 | J15: 2.1 | K15: 1.6 | L15: 1.3 | M15: 1.2 | N15: 1.2 | O15: 0.8 | P15: 1.1 | Q15: =AVERAGE(E15:P15) -> 1.4416667 | R15: =MAX(E15:P15) -> 2.1 | S15: =MIN(E15:P15) -> 0.8 | T15: 2 以下
C16: S S | D16: ㎎/L | E16: 2 | F16: <1 | G16: <1 | H16: 2 | I16: 2 | J16: 2 | K16: 3 | L16: 3 | M16: 2 | N16: 4 | O16: 1 | P16: 1 | Q16: 2 | R16: =MAX(E16:P16) -> 4 | S16: <1 | T16: ――
C17: 大腸菌数 | D17: CFU/100ｍL | T17: 20 以下
C18: n-ヘキサン抽出物質 | D18: ㎎/L | T18: 検出されないこと
C19: 全窒素 | D19: ㎎/L | T19: 0.3 以下
C20: 全燐 | D20: ㎎/L | T20: 0.03 以下
C21: 全亜鉛 | D21: ㎎/L | T21: ――
C22: ノニルフェノール | D22: ㎎/L | T22: ――
B23: 要測定指標 | C23: 底層溶存酸素量 | D23: ㎎/L | T23: ――
C24: 透明度 | D24: m | E24: 5.5 | F24: 9 | G24: 4.8 | H24: 6 | I24: 4.8 | J24: 5.1 | K24: 2.9 | L24: 5 | M24: 5.5 | N24: 6 | O24: 6.4 | P24: 7.2 | Q24: =AVERAGE(E24:P24) -> 5.6833333 | R24: =MAX(E24:P24) -> 9 | S24: =MIN(E24:P24) -> 2.9 | T24: ――
B26: 補足測定項目 | C26: T O C | D26: ㎎/L | T26: ――
B27: 健康項目 | C27: カドミウム | D27: ㎎/L | T27: 0.003 以下
C28: 全シアン | D28: ㎎/L | T28: 検出されないこと
C29: 鉛 | D29: ㎎/L | T29: 0.01 以下
C30: 六価クロム | D30: ㎎/L | T30: 0.02 以下
C31: 砒素 | D31: ㎎/L | T31: 0.01 以下
C32: 総水銀 | D32: ㎎/L | T32: 0.0005 以下
C33: アルキル水銀 | D33: ㎎/L
C34: P C B | D34: ㎎/L | T34: 検出されないこと
C35: ジクロロメタン | D35: ㎎/L | T35: 0.02 以下
C36: 四塩化炭素 | D36: ㎎/L | T36: 0.002 以下
C37: 1,2-ジクロロエタン | D37: ㎎/L | T37: 0.004 以下
C38: 1,1-ジクロロエチレン | D38: ㎎/L | T38: 0.1 以下
C39: ｼｽ-1,2-ｼﾞｸﾛﾛｴﾁﾚﾝ | D39: ㎎/L | T39: 0.04 以下
C40: 1,1,1-ﾄﾘｸﾛﾛｴﾀﾝ | D40: ㎎/L | T40: 1 以下
C41: 1,1,2-ﾄﾘｸﾛﾛｴﾀﾝ | D41: ㎎/L | T41: 0.006 以下
C42: トリクロロエチレン | D42: ㎎/L | T42: 0.01 以下
C43: テトラクロロエチレン | D43: ㎎/L | T43: 0.01 以下
C44: 1,3-ジクロロプロペン | D44: ㎎/L | T44: 0.002 以下
C45: チウラム | D45: ㎎/L | T45: 0.006 以下
... C53: 1,4-ジオキサン | D53: ㎎/L | T53: 0.05 以下
C54: フェノール類 | D54: ㎎/L
B55: 特殊項目 | C55: 銅 | D55: ㎎/L | T55: ――
C56: 亜鉛 | D56: ㎎/L | T56: ――
C57: 鉄_溶解性 | D57: ㎎/L | T57: ――
C58: マンガン_溶解性 | D58: ㎎/L | T58: ――
C59: クロム | D59: ㎎/L | T59: ――
B60: 要監視項目 | C60: クロロホルム | D60: ㎎/L | T60: 0.06 以下
C61: トランス-1,2-ジクロロエチレン | D61: ㎎/L | T61: 0.04 以下
C62: 1,2-ジクロロプロパン | D62: ㎎/L | T62: 0.06 以下
C63: p-ジクロロベンゼン | D63: ㎎/L | T63: 0.2 以下
C64: イソキサチオン | D64: ㎎/L | T64: 0.008 以下
C65: ダイアジノン | D65: ㎎/L | T65: 0.005 以下
C66: フェニトロチオン | D66: ㎎/L | T66: 0.003 以下
C67: イソプロチオラン | D67: ㎎/L | T67: 0.04 以下
C68: オキシン銅 | D68: ㎎/L | T68: 0.04 以下
C69: クロロタロニル | D69: ㎎/L | T69: 0.05 以下
C70: プロピザミド | D70: ㎎/L | T70: 0.008 以下
C71: EPN | D71: ㎎/L | T71: 0.006 以下
C72: ジクロルボス | D72: ㎎/L | T72: 0.008 以下
... C85: ウラン | D85: ㎎/L | T85: 0.002 以下
C86: フェノール | D86: ㎎/L
C87: ホルムアルデヒド | D87: ㎎/L
B88: その他の項目 | C88: 塩素イオン | D88: ㎎/L | T88: ――
C89: アンモニア態窒素 | D89: ㎎/L | T89: ――
C90: 亜硝酸性窒素 | D90: ㎎/L | T90: ――
C91: 硝酸性窒素 | D91: ㎎/L | T91: ――
C92: 有機態窒素 | D92: ㎎/L | T92: ――
C93: 燐酸態燐 | D93: ㎎/L | T93: ――
C94: クロロフィルa | D94: ㎎/ｍ３ | T94: ――
C95: トリハロメタン生成能 | D95: ㎎/L | T95: ――
C96: クロロホルム生成能 | D96: ㎎/L | T96: ――
C97: ブロモジクロロメタン生成能 | D97: ㎎/L | T97: ――
C98: ジブロモクロロメタン生成能 | D98: ㎎/L | T98: ――
C99: ブロモホルム生成能 | D99: ㎎/L | T99: ――
C100: ふん便性大腸菌群数 | D100: 個/100mL | T100: ――
... C103: 電気伝導度 | D103: μS/㎝ | T103: ――
B104: 生活環境項目 | C104: 直鎖アルキルベンゼンスルホン酸及びその塩 | D104: ㎎/L | T104: ――
C105: 4-t-オクチルフェノール | D105: ㎎/L
C106: アニリン | D106: ㎎/L
C107: 2,4-ジクロロフェノール | D107: ㎎/L
C108: ビスフェノールＡ | D108: ㎎/L
B109: 特記事項

Sheet 燧灘北西部60下層
G1: 2025年度 | I1: 公共用水水質結果一覧表（燧灘北西部60下層）
B3: 測定地点番号 | E3: 60 | T3: 環境基準 または 指針値
B4: 水系 | E4: 燧灘北西部
B5: 測定地点名 | E5: 燧灘北西部60下層
B6: 環境基準類型 | E6: 海域ＡⅡ
B7: 採取年月日 | E7: 45761 | F7: 45791 | G7: 45833 | H7: 45847 | I7: 45876 | J7: 45908 | K7: 45938 | L7: 45966 | M7: 45995 | N7: 46041 | O7: 46056 | P7: 46099 | Q7: 平均 | R7: 最大 | S7: 最小
B8: 気温 | D8: ℃ | E8: 13.0 | F8: 18.0 | G8: 26.0 | H8: 28.0 | I8: 26.6 | J8: 29.0 | K8: 25.7 | L8: 16.0 | M8: 6.0 | N8: 9.0 | O8: 5.2 | P8: 9.3
B9: 水温 | D9: ℃ | E9: 12.6 | F9: 16.6 | G9: 21.6 | H9: 24.5 | I9: 25.8 | J9: 28.8 | K9: 26.0 | L9: 20.4 | M9: 15.3 | N9: 12.3 | O9: 10.3 | P9: 11.6
B10: 透視度 | D10: ㎝ | E10: >30 | F10: >30 | G10: >30 | H10: >30 | I10: >30 | J10: >30 | K10: >30 | L10: >30 | M10: >30 | N10: >30 | O10: >30 | P10: >30
B11: 測定項目
B12: 生活環境項目 | C12: p H | E12: 8 | F12: 8 | G12: 8 | H12: 8 | I12: 7.9 | J12: 8 | K12: 8.1 | L12: 8.1 | M12: 8.1 | N12: 8.1 | O12: 8.1 | P12: 8.1 | Q12: =AVERAGE(E12:P12) -> 8.0416667 | R12: =MAX(E12:P12) -> 8.1 | S12: =MIN(E12:P12) -> 7.9 | T12: 7.8～8.3
C13: D O | D13: ㎎/L | T13: 7.5 以上
C14: B O D | D14: ㎎/L | T14: ――
C15: C O D | D15: ㎎/L | E15: 1.1 | F15: 1.6 | G15: 1.1 | H15: 1.3 | I15: 1.4 | J15: 1.6 | K15: 1.5 | L15: 1.5 | M15: 1.4 | N15: 1.2 | O15: 0.9 | P15: 1 | Q15: =AVERAGE(E15:P15) -> 1.3 | R15: =MAX(E15:P15) -> 1.6 | S15: =MIN(E15:P15) -> 0.9 | T15: 2 以下
C16: S S | D16: ㎎/L | E16: 3 | F16: 3 | G16: 2 | H16: 1 | I16: 3 | J16: 4 | K16: 2 | L16: 5 | M16: 3 | N16: 5 | O16: 5 | P16: 2 | Q16: =AVERAGE(E16:P16) -> 3.1666667 | R16: =MAX(E16:P16) -> 5 | S16: =MIN(E16:P16) -> 1 | T16: ――
C17: 大腸菌数 | D17: CFU/100ｍL | T17: 20 以下
C18: n-ヘキサン抽出物質 | D18: ㎎/L | T18: 検出されないこと
C19: 全窒素 | D19: ㎎/L | T19: 0.3 以下
C20: 全燐 | D20: ㎎/L | T20: 0.03 以下
C21: 全亜鉛 | D21: ㎎/L | T21: ――
C22: ノニルフェノール | D22: ㎎/L | T22: ――
B23: 要測定指標 | C23: 底層溶存酸素量 | D23: ㎎/L | T23: ――
C24: 透明度 | D24: m | E24: 5.5 | F24: 9 | G24: 4.8 | H24: 6 | I24: 4.8 | J24: 5.1 | K24: 2.9 | L24: 5 | M24: 5.5 | N24: 6 | O24: 6.4 | P24: 7.2 | Q24: =AVERAGE(E24:P24) -> 5.6833333 | R24: =MAX(E24:P24) -> 9 | S24: =MIN(E24:P24) -> 2.9 | T24: ――
B26: 補足測定項目 | C26: T O C | D26: ㎎/L | T26: ――
B27: 健康項目 | C27: カドミウム | D27: ㎎/L | T27: 0.003 以下
C28: 全シアン | D28: ㎎/L | T28: 検出されないこと
C29: 鉛 | D29: ㎎/L | T29: 0.01 以下
C30: 六価クロム | D30: ㎎/L | T30: 0.02 以下
C31: 砒素 | D31: ㎎/L | T31: 0.01 以下
C32: 総水銀 | D32: ㎎/L | T32: 0.0005 以下
C33: アルキル水銀 | D33: ㎎/L
C34: P C B | D34: ㎎/L | T34: 検出されないこと
C35: ジクロロメタン | D35: ㎎/L | T35: 0.02 以下
C36: 四塩化炭素 | D36: ㎎/L | T36: 0.002 以下
C37: 1,2-ジクロロエタン | D37: ㎎/L | T37: 0.004 以下
C38: 1,1-ジクロロエチレン | D38: ㎎/L | T38: 0.1 以下
C39: ｼｽ-1,2-ｼﾞｸﾛﾛｴﾁﾚﾝ | D39: ㎎/L | T39: 0.04 以下
C40: 1,1,1-ﾄﾘｸﾛﾛｴﾀﾝ | D40: ㎎/L | T40: 1 以下
C41: 1,1,2-ﾄﾘｸﾛﾛｴﾀﾝ | D41: ㎎/L | T41: 0.006 以下
C42: トリクロロエチレン | D42: ㎎/L | T42: 0.01 以下
C43: テトラクロロエチレン | D43: ㎎/L | T43: 0.01 以下
C44: 1,3-ジクロロプロペン | D44: ㎎/L | T44: 0.002 以下
C45: チウラム | D45: ㎎/L | T45: 0.006 以下
... C53: 1,4-ジオキサン | D53: ㎎/L | T53: 0.05 以下
C54: フェノール類 | D54: ㎎/L
B55: 特殊項目 | C55: 銅 | D55: ㎎/L | T55: ――
C56: 亜鉛 | D56: ㎎/L | T56: ――
C57: 鉄_溶解性 | D57: ㎎/L | T57: ――
C58: マンガン_溶解性 | D58: ㎎/L | T58: ――
C59: クロム | D59: ㎎/L | T59: ――
B60: 要監視項目 | C60: クロロホルム | D60: ㎎/L | T60: 0.06 以下
C61: トランス-1,2-ジクロロエチレン | D61: ㎎/L | T61: 0.04 以下
C62: 1,2-ジクロロプロパン | D62: ㎎/L | T62: 0.06 以下
C63: p-ジクロロベンゼン | D63: ㎎/L | T63: 0.2 以下
C64: イソキサチオン | D64: ㎎/L | T64: 0.008 以下
C65: ダイアジノン | D65: ㎎/L | T65: 0.005 以下
C66: フェニトロチオン | D66: ㎎/L | T66: 0.003 以下
C67: イソプロチオラン | D67: ㎎/L | T67: 0.04 以下
C68: オキシン銅 | D68: ㎎/L | T68: 0.04 以下
C69: クロロタロニル | D69: ㎎/L | T69: 0.05 以下
C70: プロピザミド | D70: ㎎/L | T70: 0.008 以下
C71: EPN | D71: ㎎/L | T71: 0.006 以下
C72: ジクロルボス | D72: ㎎/L | T72: 0.008 以下
... C85: ウラン | D85: ㎎/L | T85: 0.002 以下
C86: フェノール | D86: ㎎/L
C87: ホルムアルデヒド | D87: ㎎/L
B88: その他の項目 | C88: 塩素イオン | D88: ㎎/L | T88: ――
C89: アンモニア態窒素 | D89: ㎎/L | T89: ――
C90: 亜硝酸性窒素 | D90: ㎎/L | T90: ――
C91: 硝酸性窒素 | D91: ㎎/L | T91: ――
C92: 有機態窒素 | D92: ㎎/L | T92: ――
C93: 燐酸態燐 | D93: ㎎/L | T93: ――
C94: クロロフィルa | D94: ㎎/ｍ３ | T94: ――
C95: トリハロメタン生成能 | D95: ㎎/L | T95: ――
C96: クロロホルム生成能 | D96: ㎎/L | T96: ――
C97: ブロモジクロロメタン生成能 | D97: ㎎/L | T97: ――
C98: ジブロモクロロメタン生成能 | D98: ㎎/L | T98: ――
C99: ブロモホルム生成能 | D99: ㎎/L | T99: ――
C100: ふん便性大腸菌群数 | D100: 個/100mL | T100: ――
... C103: 電気伝導度 | D103: μS/㎝ | T103: ――
B104: 生活環境項目 | C104: 直鎖アルキルベンゼンスルホン酸及びその塩 | D104: ㎎/L | T104: ――
C105: 4-t-オクチルフェノール | D105: ㎎/L
C106: アニリン | D106: ㎎/L
C107: 2,4-ジクロロフェノール | D107: ㎎/L
C108: ビスフェノールＡ | D108: ㎎/L
B109: 特記事項

Sheet 燧灘北西部60底層
G1: 2025年度 | I1: 公共用水水質結果一覧表（燧灘北西部60底層）
B3: 測定地点番号 | E3: 60 | T3: 環境基準 または 指針値
B4: 水系 | E4: 燧灘北西部
B5: 測定地点名 | E5: 燧灘北西部60底層
B6: 環境基準類型 | E6: 海域ＡⅡ
B7: 採取年月日 | E7: 45761 | F7: 45791 | G7: 45833 | H7: 45847 | I7: 45876 | J7: 45908 | K7: 45938 | L7: 45966 | M7: 45995 | N7: 46041 | O7: 46056 | P7: 46099 | Q7: 平均 | R7: 最大 | S7: 最小
B8: 気温 | D8: ℃ | E8: 13.0 | F8: 18.0 | G8: 26.0 | H8: 28.0 | I8: 26.6 | J8: 29.0 | K8: 25.7 | L8: 16.0 | M8: 6.0 | N8: 9.0 | O8: 5.2 | P8: 9.3
B9: 水温 | D9: ℃ | E9: 12.3 | F9: 16.2 | G9: 20.8 | H9: 22.3 | I9: 25.7 | J9: 28.8 | K9: 26.1 | L9: 20.4 | M9: 15.3 | N9: 13.1 | O9: 10.3 | P9: 11.8
B10: 透視度 | D10: ㎝
B11: 測定項目
B12: 生活環境項目 | C12: p H | T12: 7.8～8.3
C13: D O | D13: ㎎/L | T13: 7.5 以上
C14: B O D | D14: ㎎/L | T14: ――
C15: C O D | D15: ㎎/L | T15: 2 以下
C16: S S | D16: ㎎/L | T16: ――
C17: 大腸菌数 | D17: CFU/100ｍL | T17: 20 以下
C18: n-ヘキサン抽出物質 | D18: ㎎/L | T18: 検出されないこと
C19: 全窒素 | D19: ㎎/L | T19: 0.3 以下
C20: 全燐 | D20: ㎎/L | T20: 0.03 以下
C21: 全亜鉛 | D21: ㎎/L | T21: ――
C22: ノニルフェノール | D22: ㎎/L | T22: ――
B23: 要測定指標 | C23: 底層溶存酸素量 | D23: ㎎/L | E23: 8.6 | F23: 8.3 | G23: 6.9 | H23: 6.1 | I23: 4.9 | J23: 6.3 | K23: 6.8 | L23: 7.6 | M23: 7.2 | N23: 9.3 | O23: 9.4 | P23: 9.4 | Q23: =AVERAGE(E23:P23) -> 7.5666667 | R23: =MAX(E23:P23) -> 9.4 | S23: =MIN(E23:P23) -> 4.9 | T23: ――
C24: 透明度 | D24: m | E24: 5.5 | F24: 9 | G24: 4.8 | H24: 6 | I24: 4.8 | J24: 5.1 | K24: 2.9 | L24: 5 | M24: 5.5 | N24: 6 | O24: 6.4 | P24: 7.2 | Q24: =AVERAGE(E24:P24) -> 5.6833333 | R24: =MAX(E24:P24) -> 9 | S24: =MIN(E24:P24) -> 2.9 | T24: ――
B26: 補足測定項目 | C26: T O C | D26: ㎎/L | T26: ――
B27: 健康項目 | C27: カドミウム | D27: ㎎/L | T27: 0.003 以下
C28: 全シアン | D28: ㎎/L | T28: 検出されないこと
C29: 鉛 | D29: ㎎/L | T29: 0.01 以下
C30: 六価クロム | D30: ㎎/L | T30: 0.02 以下
C31: 砒素 | D31: ㎎/L | T31: 0.01 以下
C32: 総水銀 | D32: ㎎/L | T32: 0.0005 以下
C33: アルキル水銀 | D33: ㎎/L
C34: P C B | D34: ㎎/L | T34: 検出されないこと
C35: ジクロロメタン | D35: ㎎/L | T35: 0.02 以下
C36: 四塩化炭素 | D36: ㎎/L | T36: 0.002 以下
C37: 1,2-ジクロロエタン | D37: ㎎/L | T37: 0.004 以下
C38: 1,1-ジクロロエチレン | D38: ㎎/L | T38: 0.1 以下
C39: ｼｽ-1,2-ｼﾞｸﾛﾛｴﾁﾚﾝ | D39: ㎎/L | T39: 0.04 以下
C40: 1,1,1-ﾄﾘｸﾛﾛｴﾀﾝ | D40: ㎎/L | T40: 1 以下
C41: 1,1,2-ﾄﾘｸﾛﾛｴﾀﾝ | D41: ㎎/L | T41: 0.006 以下
C42: トリクロロエチレン | D42: ㎎/L | T42: 0.01 以下
C43: テトラクロロエチレン | D43: ㎎/L | T43: 0.01 以下
C44: 1,3-ジクロロプロペン | D44: ㎎/L | T44: 0.002 以下
C45: チウラム | D45: ㎎/L | T45: 0.006 以下
... C53: 1,4-ジオキサン | D53: ㎎/L | T53: 0.05 以下
C54: フェノール類 | D54: ㎎/L
B55: 特殊項目 | C55: 銅 | D55: ㎎/L | T55: ――
C56: 亜鉛 | D56: ㎎/L | T56: ――
C57: 鉄_溶解性 | D57: ㎎/L | T57: ――
C58: マンガン_溶解性 | D58: ㎎/L | T58: ――
C59: クロム | D59: ㎎/L | T59: ――
B60: 要監視項目 | C60: クロロホルム | D60: ㎎/L | T60: 0.06 以下
C61: トランス-1,2-ジクロロエチレン | D61: ㎎/L | T61: 0.04 以下
C62: 1,2-ジクロロプロパン | D62: ㎎/L | T62: 0.06 以下
C63: p-ジクロロベンゼン | D63: ㎎/L | T63: 0.2 以下
C64: イソキサチオン | D64: ㎎/L | T64: 0.008 以下
C65: ダイアジノン | D65: ㎎/L | T65: 0.005 以下
C66: フェニトロチオン | D66: ㎎/L | T66: 0.003 以下
C67: イソプロチオラン | D67: ㎎/L | T67: 0.04 以下
C68: オキシン銅 | D68: ㎎/L | T68: 0.04 以下
C69: クロロタロニル | D69: ㎎/L | T69: 0.05 以下
C70: プロピザミド | D70: ㎎/L | T70: 0.008 以下
C71: EPN | D71: ㎎/L | T71: 0.006 以下
C72: ジクロルボス | D72: ㎎/L | T72: 0.008 以下
... C85: ウラン | D85: ㎎/L | T85: 0.002 以下
C86: フェノール | D86: ㎎/L
C87: ホルムアルデヒド | D87: ㎎/L
B88: その他の項目 | C88: 塩素イオン | D88: ㎎/L | T88: ――
C89: アンモニア態窒素 | D89: ㎎/L | T89: ――
C90: 亜硝酸性窒素 | D90: ㎎/L | T90: ――
C91: 硝酸性窒素 | D91: ㎎/L | T91: ――
C92: 有機態窒素 | D92: ㎎/L | T92: ――
C93: 燐酸態燐 | D93: ㎎/L | T93: ――
C94: クロロフィルa | D94: ㎎/ｍ３ | T94: ――
C95: トリハロメタン生成能 | D95: ㎎/L | T95: ――
C96: クロロホルム生成能 | D96: ㎎/L | T96: ――
C97: ブロモジクロロメタン生成能 | D97: ㎎/L | T97: ――
C98: ジブロモクロロメタン生成能 | D98: ㎎/L | T98: ――
C99: ブロモホルム生成能 | D99: ㎎/L | T99: ――
C100: ふん便性大腸菌群数 | D100: 個/100mL | T100: ――
... C103: 電気伝導度 | D103: μS/㎝ | T103: ――
B104: 生活環境項目 | C104: 直鎖アルキルベンゼンスルホン酸及びその塩 | D104: ㎎/L | T104: ――
C105: 4-t-オクチルフェノール | D105: ㎎/L
C106: アニリン | D106: ㎎/L
C107: 2,4-ジクロロフェノール | D107: ㎎/L
C108: ビスフェノールＡ | D108: ㎎/L
B109: 特記事項

Sheet 燧灘北西部60全層
G1: 2025年度 | I1: 公共用水水質結果一覧表（燧灘北西部60全層）
B3: 測定地点番号 | E3: 60 | T3: 環境基準 または 指針値
B4: 水系 | E4: 燧灘北西部
B5: 測定地点名 | E5: 燧灘北西部60全層
B6: 環境基準類型 | E6: 海域ＡⅡ
B7: 採取年月日 | E7: 45761 | F7: 45791 | G7: 45833 | H7: 45847 | I7: 45876 | J7: 45908 | K7: 45938 | L7: 45966 | M7: 45995 | N7: 46041 | O7: 46056 | P7: 46099 | Q7: 平均 | R7: 最大 | S7: 最小
B8: 気温 | D8: ℃ | E8: ―― | F8: ―― | G8: ―― | H8: ―― | I8: ―― | J8: ―― | K8: ―― | L8: ―― | M8: ―― | N8: ―― | O8: ―― | P8: ――
B9: 水温 | D9: ℃ | E9: ―― | F9: ―― | G9: ―― | H9: ―― | I9: ―― | J9: ―― | K9: ―― | L9: ―― | M9: ―― | N9: ―― | O9: ―― | P9: ――
B10: 透視度 | D10: ㎝ | E10: >30 | F10: >30 | G10: >30 | H10: >30 | I10: >30 | J10: >30 | K10: >30 | L10: >30 | M10: >30 | N10: >30 | O10: >30 | P10: >30
B11: 測定項目
B12: 生活環境項目 | C12: p H | E12: 8 | F12: 8 | G12: 8.1 | H12: 8.1 | I12: 8 | J12: 8 | K12: 8.1 | L12: 8.1 | M12: 8.1 | N12: 8.1 | O12: 8.1 | P12: 8.1 | Q12: =AVERAGE(E12:P12) -> 8.0666667 | R12: =MAX(燧灘北西部60上層!E12:P12,燧灘北西部60中層!E12:P12,燧灘北西部60下層!E12:P12) -> 8.2 | S12: =MIN(燧灘北西部60上層!E12:P12,燧灘北西部60中層!E12:P12,燧灘北西部60下層!E12:P12) -> 7.9 | T12: 7.8～8.3
C13: D O | D13: ㎎/L | E13: 9.1 | F13: 8.3 | G13: 8.9 | H13: 8 | I13: 6.1 | J13: 6.7 | K13: 7.3 | L13: 7.8 | M13: 8.1 | N13: 9.2 | O13: 9.1 | P13: 9.5 | Q13: =AVERAGE(E13:P13) -> 8.175 | R13: =MAX(燧灘北西部60上層!E13:P13,燧灘北西部60中層!E13:P13) -> 9.6 | S13: =MIN(燧灘北西部60上層!E13:P13,燧灘北西部60中層!E13:P13) -> 6 | T13: 7.5 以上
C14: B O D | D14: ㎎/L | T14: ――
C15: C O D | D15: ㎎/L | E15: 1.1 | F15: 1.4 | G15: 1.6 | H15: 1.6 | I15: 1.6 | J15: 1.8 | K15: 1.6 | L15: 1.4 | M15: 1.2 | N15: 1.2 | O15: 0.8 | P15: 1.1 | Q15: =AVERAGE(E15:P15) -> 1.3666667 | R15: =MAX(燧灘北西部60上層!E15:P15,燧灘北西部60中層!E15:P15,燧灘北西部60下層!E15:P15) -> 2.1 | S15: =MIN(燧灘北西部60上層!E15:P15,燧灘北西部60中層!E15:P15,燧灘北西部60下層!E15:P15) -> 0.8 | T15: 2 以下
C16: S S | D16: ㎎/L | E16: 3 | F16: 2 | G16: 1 | H16: 1 | I16: 2 | J16: 2 | K16: 3 | L16: 4 | M16: 2 | N16: 3 | O16: 3 | P16: 1 | Q16: =AVERAGE(E16:P16) -> 2.25 | R16: =MAX(燧灘北西部60上層!E16:P16,燧灘北西部60中層!E16:P16,燧灘北西部60下層!E16:P16) -> 5 | S16: <1 | T16: ――
C17: 大腸菌数 | D17: CFU/100ｍL | E17: 2 | F17: <1 | G17: 1 | H17: <1 | I17: <1 | J17: <1 | K17: <1 | L17: <1 | M17: 1 | N17: <1 | O17: <1 | P17: <1 | Q17: 1 | R17: =MAX(E17:P17) -> 2 | S17: <1 | T17: 20 以下
C18: n-ヘキサン抽出物質 | D18: ㎎/L | E18: <0.5 | F18: <0.5 | G18: <0.5 | H18: <0.5 | I18: <0.5 | J18: <0.5 | K18: <0.5 | L18: <0.5 | M18: <0.5 | N18: <0.5 | O18: <0.5 | P18: <0.5 | Q18: <0.5 | R18: <0.5 | S18: <0.5 | T18: 検出されないこと
C19: 全窒素 | D19: ㎎/L | E19: 0.12 | F19: 0.1 | G19: 0.13 | H19: 0.07 | I19: 0.11 | J19: 0.15 | K19: 0.15 | L19: 0.1 | M19: 0.15 | N19: 0.06 | O19: 0.05 | P19: 0.1 | Q19: =AVERAGE(E19:P19) -> 0.1075 | R19: =MAX(E19:P19) -> 0.15 | S19: =MIN(E19:P19) -> 0.05 | T19: 0.3 以下
C20: 全燐 | D20: ㎎/L | E20: 0.02 | F20: 0.015 | G20: 0.015 | H20: 0.019 | I20: 0.03 | J20: 0.074 | K20: 0.03 | L20: 0.021 | M20: 0.03 | N20: 0.016 | O20: 0.021 | P20: 0.021 | Q20: =AVERAGE(E20:P20) -> 0.026 | R20: =MAX(E20:P20) -> 0.074 | S20: =MIN(E20:P20) -> 0.015 | T20: 0.03 以下
C21: 全亜鉛 | D21: ㎎/L | T21: ――
C22: ノニルフェノール | D22: ㎎/L | T22: ――
B23: 要測定指標 | C23: 底層溶存酸素量 | D23: ㎎/L | E23: 8.6 | F23: 8.3 | G23: 6.9 | H23: 6.1 | I23: 4.9 | J23: 6.3 | K23: 6.8 | L23: 7.6 | M23: 7.2 | N23: 9.3 | O23: 9.4 | P23: 9.4 | Q23: =AVERAGE(E23:P23) -> 7.5666667 | R23: =MAX(E23:P23) -> 9.4 | S23: =MIN(E23:P23) -> 4.9 | T23: ――
C24: 透明度 | D24: m | E24: 5.5 | F24: 9 | G24: 4.8 | H24: 6 | I24: 4.8 | J24: 5.1 | K24: 2.9 | L24: 5 | M24: 5.5 | N24: 6 | O24: 6.4 | P24: 7.2 | Q24: =AVERAGE(E24:P24) -> 5.6833333 | R24: =MAX(E24:P24) -> 9 | S24: =MIN(E24:P24) -> 2.9 | T24: ――
B26: 補足測定項目 | C26: T O C | D26: ㎎/L | E26: 1.4 | H26: 1.7 | K26: 1.5 | N26: 1.2 | Q26: =AVERAGE(E26:P26) -> 1.45 | R26: =MAX(E26:P26) -> 1.7 | S26: =MIN(E26:P26) -> 1.2 | T26: ――
B27: 健康項目 | C27: カドミウム | D27: ㎎/L | T27: 0.003 以下
C28: 全シアン | D28: ㎎/L | T28: 検出されないこと
C29: 鉛 | D29: ㎎/L | T29: 0.01 以下
C30: 六価クロム | D30: ㎎/L | T30: 0.02 以下
C31: 砒素 | D31: ㎎/L | T31: 0.01 以下
C32: 総水銀 | D32: ㎎/L | T32: 0.0005 以下
C33: アルキル水銀 | D33: ㎎/L
C34: P C B | D34: ㎎/L | T34: 検出されないこと
C35: ジクロロメタン | D35: ㎎/L | T35: 0.02 以下
C36: 四塩化炭素 | D36: ㎎/L | T36: 0.002 以下
C37: 1,2-ジクロロエタン | D37: ㎎/L | T37: 0.004 以下
C38: 1,1-ジクロロエチレン | D38: ㎎/L | T38: 0.1 以下
C39: ｼｽ-1,2-ｼﾞｸﾛﾛｴﾁﾚﾝ | D39: ㎎/L | T39: 0.04 以下
C40: 1,1,1-ﾄﾘｸﾛﾛｴﾀﾝ | D40: ㎎/L | T40: 1 以下
C41: 1,1,2-ﾄﾘｸﾛﾛｴﾀﾝ | D41: ㎎/L | T41: 0.006 以下
C42: トリクロロエチレン | D42: ㎎/L | T42: 0.01 以下
C43: テトラクロロエチレン | D43: ㎎/L | T43: 0.01 以下
C44: 1,3-ジクロロプロペン | D44: ㎎/L | T44: 0.002 以下
C45: チウラム | D45: ㎎/L | T45: 0.006 以下
... C53: 1,4-ジオキサン | D53: ㎎/L | T53: 0.05 以下
C54: フェノール類 | D54: ㎎/L
B55: 特殊項目 | C55: 銅 | D55: ㎎/L | T55: ――
C56: 亜鉛 | D56: ㎎/L | T56: ――
C57: 鉄_溶解性 | D57: ㎎/L | T57: ――
C58: マンガン_溶解性 | D58: ㎎/L | T58: ――
C59: クロム | D59: ㎎/L | T59: ――
B60: 要監視項目 | C60: クロロホルム | D60: ㎎/L | T60: 0.06 以下
C61: トランス-1,2-ジクロロエチレン | D61: ㎎/L | T61: 0.04 以下
C62: 1,2-ジクロロプロパン | D62: ㎎/L | T62: 0.06 以下
C63: p-ジクロロベンゼン | D63: ㎎/L | T63: 0.2 以下
C64: イソキサチオン | D64: ㎎/L | T64: 0.008 以下
C65: ダイアジノン | D65: ㎎/L | T65: 0.005 以下
C66: フェニトロチオン | D66: ㎎/L | T66: 0.003 以下
C67: イソプロチオラン | D67: ㎎/L | T67: 0.04 以下
C68: オキシン銅 | D68: ㎎/L | T68: 0.04 以下
C69: クロロタロニル | D69: ㎎/L | T69: 0.05 以下
C70: プロピザミド | D70: ㎎/L | T70: 0.008 以下
C71: EPN | D71: ㎎/L | T71: 0.006 以下
C72: ジクロルボス | D72: ㎎/L | T72: 0.008 以下
... C85: ウラン | D85: ㎎/L | T85: 0.002 以下
C86: フェノール | D86: ㎎/L
C87: ホルムアルデヒド | D87: ㎎/L
B88: その他の項目 | C88: 塩素イオン | D88: ㎎/L | E88: 17500 | F88: 18000 | G88: 16800 | H88: 17400 | I88: 17100 | J88: 17300 | K88: 17700 | L88: 18600 | M88: 18000 | N88: 18000 | O88: 18200 | P88: 17100 | Q88: 17600 | R88: =MAX(E88:P88) -> 18600 | S88: =MIN(E88:P88) -> 16800 | T88: ――
C89: アンモニア態窒素 | D89: ㎎/L | T89: ――
C90: 亜硝酸性窒素 | D90: ㎎/L | T90: ――
C91: 硝酸性窒素 | D91: ㎎/L | T91: ――
C92: 有機態窒素 | D92: ㎎/L | T92: ――
C93: 燐酸態燐 | D93: ㎎/L | T93: ――
C94: クロロフィルa | D94: ㎎/ｍ３ | E94: <0.5 | G94: 2.5 | I94: 1.6 | K94: 3.4 | M94: 1.4 | O94: 1.2 | Q94: 1.8 | R94: =MAX(E94:P94) -> 3.4 | S94: <0.5 | T94: ――
C95: トリハロメタン生成能 | D95: ㎎/L | T95: ――
C96: クロロホルム生成能 | D96: ㎎/L | T96: ――
C97: ブロモジクロロメタン生成能 | D97: ㎎/L | T97: ――
C98: ジブロモクロロメタン生成能 | D98: ㎎/L | T98: ――
C99: ブロモホルム生成能 | D99: ㎎/L | T99: ――
C100: ふん便性大腸菌群数 | D100: 個/100mL | T100: ――
C101: 濁度 | D101: 度 | T101: ――
C102: メチレンブルー活性物質 | D102: ㎎/ｌ | T102: ――
C103: 電気伝導度 | D103: μS/㎝ | T103: ――
B104: 生活環境項目 | C104: 直鎖アルキルベンゼンスルホン酸及びその塩 | D104: ㎎/L | T104: ――
C105: 4-t-オクチルフェノール | D105: ㎎/L
C106: アニリン | D106: ㎎/L
C107: 2,4-ジクロロフェノール | D107: ㎎/L
C108: ビスフェノールＡ | D108: ㎎/L
B109: 特記事項

Sheet 燧灘北西部65上層
G1: 2025年度 | I1: 公共用水水質結果一覧表（燧灘北西部65上層）
B3: 測定地点番号 | E3: 65 | T3: 環境基準 または 指針値
B4: 水系 | E4: 燧灘北西部
B5: 測定地点名 | E5: 燧灘北西部65上層
B6: 環境基準類型 | E6: 海域ＡⅡ
B7: 採取年月日 | E7: 45761 | F7: 45791 | G7: 45833 | H7: 45847 | I7: 45876 | J7: 45908 | K7: 45938 | L7: 45966 | M7: 45995 | N7: 46041 | O7: 46056 | P7: 46099 | Q7: 平均 | R7: 最大 | S7: 最小
B8: 気温 | D8: ℃ | E8: 13.0 | F8: 23.0 | G8: 27.0 | H8: 31.0 | I8: 28.6 | J8: 30.0 | K8: 26.6 | L8: 16.4 | M8: 6.5 | N8: 11.2 | O8: 7.0 | P8: 10.0
B9: 水温 | D9: ℃ | E9: 14.0 | F9: 19.5 | G9: 25.5 | H9: 29.0 | I9: 31.2 | J9: 29.8 | K9: 26.3 | L9: 18.1 | M9: 13.8 | N9: 12.2 | O9: 8.7 | P9: 11.6
B10: 透視度 | D10: ㎝ | E10: >30 | F10: >30 | G10: >30 | H10: >30 | I10: >30 | J10: >30 | K10: >30 | L10: >30 | M10: >30 | N10: >30 | O10: >30 | P10: >30
B11: 測定項目
B12: 生活環境項目 | C12: p H | E12: 8.1 | F12: 8 | G12: 8 | H12: 8 | I12: 8.1 | J12: 8.1 | K12: 8 | L12: 8.1 | M12: 8.2 | N12: 8.2 | O12: 8.1 | P12: 8.1 | Q12: =AVERAGE(E12:P12) -> 8.0833333 | R12: =MAX(E12:P12) -> 8.2 | S12: =MIN(E12:P12) -> 8 | T12: 7.8～8.3
C13: D O | D13: ㎎/L | E13: 8.7 | F13: 8.3 | G13: 7.2 | H13: 7.4 | I13: 7.5 | J13: 7.8 | K13: 7.4 | L13: 8.3 | M13: 9.1 | N13: 10 | O13: 9.4 | P13: 9.7 | Q13: =AVERAGE(E13:P13) -> 8.4 | R13: =MAX(E13:P13) -> 10 | S13: =MIN(E13:P13) -> 7.2 | T13: 7.5 以上
C14: B O D | D14: ㎎/L | T14: ――
C15: C O D | D15: ㎎/L | E15: 1.5 | F15: 1.5 | G15: 2.5 | H15: 2.8 | I15: 3.5 | J15: 2.9 | K15: 1.7 | L15: 1.9 | M15: 2.6 | N15: 1.6 | O15: 1 | P15: 1.4 | Q15: =AVERAGE(E15:P15) -> 2.075 | R15: =MAX(E15:P15) -> 3.5 | S15: =MIN(E15:P15) -> 1 | T15: 2 以下
C16: S S | D16: ㎎/L | E16: 4 | F16: 2 | G16: 4 | H16: 7 | I16: 14 | J16: 7 | K16: 5 | L16: 5 | M16: 8 | N16: 4 | O16: 2 | P16: 4 | Q16: =AVERAGE(E16:P16) -> 5.5 | R16: =MAX(E16:P16) -> 14 | S16: =MIN(E16:P16) -> 2 | T16: ――
C17: 大腸菌数 | D17: CFU/100ｍL | E17: <1 | F17: <1 | G17: 2 | H17: 3 | I17: 3 | J17: 2 | K17: 2 | L17: 1 | M17: 2 | N17: <1 | O17: <1 | P17: <1 | Q17: 2 | R17: =MAX(E17:P17) -> 3 | S17: <1 | T17: 20 以下
C18: n-ヘキサン抽出物質 | D18: ㎎/L | E18: <0.5 | F18: <0.5 | G18: <0.5 | H18: <0.5 | I18: <0.5 | J18: <0.5 | K18: <0.5 | L18: <0.5 | M18: <0.5 | N18: <0.5 | O18: <0.5 | P18: <0.5 | Q18: <0.5 | R18: <0.5 | S18: <0.5 | T18: 検出されないこと
C19: 全窒素 | D19: ㎎/L | E19: 0.14 | F19: 0.12 | G19: 0.29 | H19: 0.1 | I19: 0.23 | J19: 0.18 | K19: 0.13 | L19: 0.15 | M19: 0.2 | N19: 0.1 | O19: 0.1 | P19: 0.13 | Q19: =AVERAGE(E19:P19) -> 0.15583333 | R19: =MAX(E19:P19) -> 0.29 | S19: =MIN(E19:P19) -> 0.1 | T19: 0.3 以下
C20: 全燐 | D20: ㎎/L | E20: 0.025 | F20: 0.027 | G20: 0.044 | H20: 0.038 | I20: 0.067 | J20: 0.057 | K20: 0.046 | L20: 0.034 | M20: 0.042 | N20: 0.016 | O20: 0.028 | P20: 0.031 | Q20: =AVERAGE(E20:P20) -> 0.037916667 | R20: =MAX(E20:P20) -> 0.067 | S20: =MIN(E20:P20) -> 0.016 | T20: 0.03 以下
C21: 全亜鉛 | D21: ㎎/L | T21: ――
C22: ノニルフェノール | D22: ㎎/L | T22: ――
B23: 要測定指標 | C23: 底層溶存酸素量 | D23: ㎎/L | T23: ――
C24: 透明度 | D24: m | E24: 3.3 | F24: 2.5 | G24: 2 | H24: 1 | I24: 0.6 | J24: 1.2 | K24: 1.4 | L24: 1.9 | M24: 1.6 | N24: 3 | O24: 4 | P24: 2.8 | Q24: =AVERAGE(E24:P24) -> 2.1083333 | R24: =MAX(E24:P24) -> 4 | S24: =MIN(E24:P24) -> 0.6 | T24: ――
B26: 補足測定項目 | C26: T O C | D26: ㎎/L | E26: 1.5 | H26: 2 | K26: 1.5 | N26: 1.4 | Q26: =AVERAGE(E26:P26) -> 1.6 | R26: =MAX(E26:P26) -> 2 | S26: =MIN(E26:P26) -> 1.4 | T26: ――
B27: 健康項目 | C27: カドミウム | D27: ㎎/L | H27: <0.0003 | Q27: <0.0003 | R27: <0.0003 | S27: <0.0003 | T27: 0.003 以下
C28: 全シアン | D28: ㎎/L | H28: <0.1 | Q28: <0.1 | R28: <0.1 | S28: <0.1 | T28: 検出されないこと
C29: 鉛 | D29: ㎎/L | H29: <0.005 | Q29: <0.005 | R29: <0.005 | S29: <0.005 | T29: 0.01 以下
C30: 六価クロム | D30: ㎎/L | H30: <0.01 | Q30: <0.01 | R30: <0.01 | S30: <0.01 | T30: 0.02 以下
C31: 砒素 | D31: ㎎/L | H31: <0.005 | Q31: <0.005 | R31: <0.005 | S31: <0.005 | T31: 0.01 以下
C32: 総水銀 | D32: ㎎/L | H32: <0.0005 | Q32: <0.0005 | R32: <0.0005 | S32: <0.0005 | T32: 0.0005 以下
C33: アルキル水銀 | D33: ㎎/L
C34: P C B | D34: ㎎/L | H34: <0.0005 | Q34: <0.0005 | R34: <0.0005 | S34: <0.0005 | T34: 検出されないこと
C35: ジクロロメタン | D35: ㎎/L | T35: 0.02 以下
C36: 四塩化炭素 | D36: ㎎/L | T36: 0.002 以下
C37: 1,2-ジクロロエタン | D37: ㎎/L | T37: 0.004 以下
C38: 1,1-ジクロロエチレン | D38: ㎎/L | T38: 0.1 以下
C39: ｼｽ-1,2-ｼﾞｸﾛﾛｴﾁﾚﾝ | D39: ㎎/L | T39: 0.04 以下
C40: 1,1,1-ﾄﾘｸﾛﾛｴﾀﾝ | D40: ㎎/L | T40: 1 以下
C41: 1,1,2-ﾄﾘｸﾛﾛｴﾀﾝ | D41: ㎎/L | T41: 0.006 以下
C42: トリクロロエチレン | D42: ㎎/L | T42: 0.01 以下
C43: テトラクロロエチレン | D43: ㎎/L | T43: 0.01 以下
C44: 1,3-ジクロロプロペン | D44: ㎎/L | T44: 0.002 以下
C45: チウラム | D45: ㎎/L | T45: 0.006 以下
C46: シマジン | D46: ㎎/L | T46: 0.003 以下
... C49: セレン | D49: ㎎/L | T49: 0.01 以下
C50: 硝酸性窒素及び亜硝酸性窒素 | D50: ㎎/L | H50: <0.01 | Q50: <0.01 | R50: <0.01 | S50: <0.01 | T50: 10 以下
C51: ふっ素 | D51: ㎎/L | T51: ――
C52: ほう素 | D52: ㎎/L | T52: ――
C53: 1,4-ジオキサン | D53: ㎎/L | T53: 0.05 以下
C54: フェノール類 | D54: ㎎/L
B55: 特殊項目 | C55: 銅 | D55: ㎎/L | T55: ――
C56: 亜鉛 | D56: ㎎/L | T56: ――
C57: 鉄_溶解性 | D57: ㎎/L | T57: ――
C58: マンガン_溶解性 | D58: ㎎/L | T58: ――
C59: クロム | D59: ㎎/L | T59: ――
B60: 要監視項目 | C60: クロロホルム | D60: ㎎/L | T60: 0.06 以下
C61: トランス-1,2-ジクロロエチレン | D61: ㎎/L | T61: 0.04 以下
C62: 1,2-ジクロロプロパン | D62: ㎎/L | T62: 0.06 以下
C63: p-ジクロロベンゼン | D63: ㎎/L | T63: 0.2 以下
C64: イソキサチオン | D64: ㎎/L | T64: 0.008 以下
C65: ダイアジノン | D65: ㎎/L | T65: 0.005 以下
C66: フェニトロチオン | D66: ㎎/L | T66: 0.003 以下
C67: イソプロチオラン | D67: ㎎/L | T67: 0.04 以下
C68: オキシン銅 | D68: ㎎/L | T68: 0.04 以下
C69: クロロタロニル | D69: ㎎/L | T69: 0.05 以下
C70: プロピザミド | D70: ㎎/L | T70: 0.008 以下
C71: EPN | D71: ㎎/L | T71: 0.006 以下
C72: ジクロルボス | D72: ㎎/L | T72: 0.008 以下
... C85: ウラン | D85: ㎎/L | T85: 0.002 以下
C86: フェノール | D86: ㎎/L
C87: ホルムアルデヒド | D87: ㎎/L
B88: その他の項目 | C88: 塩素イオン | D88: ㎎/L | E88: 17900 | F88: 18000 | G88: 16800 | H88: 17200 | I88: 16500 | J88: 16900 | K88: 16100 | L88: 17200 | M88: 18000 | N88: 17600 | O88: 18000 | P88: 17100 | Q88: 17300 | R88: =MAX(E88:P88) -> 18000 | S88: =MIN(E88:P88) -> 16100 | T88: ――
C89: アンモニア態窒素 | D89: ㎎/L | T89: ――
C90: 亜硝酸性窒素 | D90: ㎎/L | T90: ――
C91: 硝酸性窒素 | D91: ㎎/L | T91: ――
C92: 有機態窒素 | D92: ㎎/L | T92: ――
C93: 燐酸態燐 | D93: ㎎/L | T93: ――
C94: クロロフィルa | D94: ㎎/ｍ３ | T94: ――
C95: トリハロメタン生成能 | D95: ㎎/L | T95: ――
C96: クロロホルム生成能 | D96: ㎎/L | T96: ――
C97: ブロモジクロロメタン生成能 | D97: ㎎/L | T97: ――
C98: ジブロモクロロメタン生成能 | D98: ㎎/L | T98: ――
C99: ブロモホルム生成能 | D99: ㎎/L | T99: ――
C100: ふん便性大腸菌群数 | D100: 個/100mL | T100: ――
... C103: 電気伝導度 | D103: μS/㎝ | T103: ――
B104: 生活環境項目 | C104: 直鎖アルキルベンゼンスルホン酸及びその塩 | D104: ㎎/L | T104: ――
C105: 4-t-オクチルフェノール | D105: ㎎/L
C106: アニリン | D106: ㎎/L
C107: 2,4-ジクロロフェノール | D107: ㎎/L
C108: ビスフェノールＡ | D108: ㎎/L
B109: 特記事項

Sheet 燧灘北西部65底層
G1: 2025年度 | I1: 公共用水水質結果一覧表（燧灘北西部65底層）
B3: 測定地点番号 | E3: 65 | T3: 環境基準 または 指針値
B4: 水系 | E4: 燧灘北西部
B5: 測定地点名 | E5: 燧灘北西部65底層
B6: 環境基準類型 | E6: 海域ＡⅡ
B7: 採取年月日 | E7: 45761 | F7: 45791 | G7: 45833 | H7: 45847 | I7: 45876 | J7: 45908 | K7: 45938 | L7: 45966 | M7: 45995 | N7: 46041 | O7: 46056 | P7: 46099 | Q7: 平均 | R7: 最大 | S7: 最小
B8: 気温 | D8: ℃ | E8: 13.0 | F8: 23.0 | G8: 27.0 | H8: 31.0 | I8: 28.6 | J8: 30.0 | K8: 26.6 | L8: 16.4 | M8: 6.5 | N8: 11.2 | O8: 7.0 | P8: 10.0
B9: 水温 | D9: ℃ | E9: 13.3 | F9: 18.2 | G9: 24.3 | H9: 26.7 | I9: 30.6 | J9: 29.1 | K9: 26.1 | L9: 18.3 | M9: 13.3 | N9: 12.1 | O9: 8.8 | P9: 11.8
B10: 透視度 | D10: ㎝
B11: 測定項目
B12: 生活環境項目 | C12: p H | T12: 7.8～8.3
C13: D O | D13: ㎎/L | T13: 7.5 以上
C14: B O D | D14: ㎎/L | T14: ――
C15: C O D | D15: ㎎/L | T15: 2 以下
C16: S S | D16: ㎎/L | T16: ――
C17: 大腸菌数 | D17: CFU/100ｍL | T17: 20 以下
C18: n-ヘキサン抽出物質 | D18: ㎎/L | T18: 検出されないこと
C19: 全窒素 | D19: ㎎/L | T19: 0.3 以下
C20: 全燐 | D20: ㎎/L | T20: 0.03 以下
C21: 全亜鉛 | D21: ㎎/L | T21: ――
C22: ノニルフェノール | D22: ㎎/L | T22: ――
B23: 要測定指標 | C23: 底層溶存酸素量 | D23: ㎎/L | E23: 8.1 | F23: 9 | G23: 7.5 | H23: 6.5 | I23: 7 | J23: 5.9 | K23: 7 | L23: 8.3 | M23: 8.9 | N23: 10 | O23: 10 | P23: 9.7 | Q23: =AVERAGE(E23:P23) -> 8.1583333 | R23: =MAX(E23:P23) -> 10 | S23: =MIN(E23:P23) -> 5.9 | T23: ――
C24: 透明度 | D24: m | E24: 3.3 | F24: 2.5 | G24: 2 | H24: 1 | I24: 0.6 | J24: 1.2 | K24: 1.4 | L24: 1.9 | M24: 1.6 | N24: 3 | O24: 4 | P24: 2.8 | Q24: =AVERAGE(E24:P24) -> 2.1083333 | R24: =MAX(E24:P24) -> 4 | S24: =MIN(E24:P24) -> 0.6 | T24: ――
B26: 補足測定項目 | C26: T O C | D26: ㎎/L | T26: ――
B27: 健康項目 | C27: カドミウム | D27: ㎎/L | T27: 0.003 以下
C28: 全シアン | D28: ㎎/L | T28: 検出されないこと
C29: 鉛 | D29: ㎎/L | T29: 0.01 以下
C30: 六価クロム | D30: ㎎/L | T30: 0.02 以下
C31: 砒素 | D31: ㎎/L | T31: 0.01 以下
C32: 総水銀 | D32: ㎎/L | T32: 0.0005 以下
C33: アルキル水銀 | D33: ㎎/L
C34: P C B | D34: ㎎/L | T34: 検出されないこと
C35: ジクロロメタン | D35: ㎎/L | T35: 0.02 以下
C36: 四塩化炭素 | D36: ㎎/L | T36: 0.002 以下
C37: 1,2-ジクロロエタン | D37: ㎎/L | T37: 0.004 以下
C38: 1,1-ジクロロエチレン | D38: ㎎/L | T38: 0.1 以下
C39: ｼｽ-1,2-ｼﾞｸﾛﾛｴﾁﾚﾝ | D39: ㎎/L | T39: 0.04 以下
C40: 1,1,1-ﾄﾘｸﾛﾛｴﾀﾝ | D40: ㎎/L | T40: 1 以下
C41: 1,1,2-ﾄﾘｸﾛﾛｴﾀﾝ | D41: ㎎/L | T41: 0.006 以下
C42: トリクロロエチレン | D42: ㎎/L | T42: 0.01 以下
C43: テトラクロロエチレン | D43: ㎎/L | T43: 0.01 以下
C44: 1,3-ジクロロプロペン | D44: ㎎/L | T44: 0.002 以下
C45: チウラム | D45: ㎎/L | T45: 0.006 以下
... C53: 1,4-ジオキサン | D53: ㎎/L | T53: 0.05 以下
C54: フェノール類 | D54: ㎎/L
B55: 特殊項目 | C55: 銅 | D55: ㎎/L | T55: ――
C56: 亜鉛 | D56: ㎎/L | T56: ――
C57: 鉄_溶解性 | D57: ㎎/L | T57: ――
C58: マンガン_溶解性 | D58: ㎎/L | T58: ――
C59: クロム | D59: ㎎/L | T59: ――
B60: 要監視項目 | C60: クロロホルム | D60: ㎎/L | T60: 0.06 以下
C61: トランス-1,2-ジクロロエチレン | D61: ㎎/L | T61: 0.04 以下
C62: 1,2-ジクロロプロパン | D62: ㎎/L | T62: 0.06 以下
C63: p-ジクロロベンゼン | D63: ㎎/L | T63: 0.2 以下
C64: イソキサチオン | D64: ㎎/L | T64: 0.008 以下
C65: ダイアジノン | D65: ㎎/L | T65: 0.005 以下
C66: フェニトロチオン | D66: ㎎/L | T66: 0.003 以下
C67: イソプロチオラン | D67: ㎎/L | T67: 0.04 以下
C68: オキシン銅 | D68: ㎎/L | T68: 0.04 以下
C69: クロロタロニル | D69: ㎎/L | T69: 0.05 以下
C70: プロピザミド | D70: ㎎/L | T70: 0.008 以下
C71: EPN | D71: ㎎/L | T71: 0.006 以下
C72: ジクロルボス | D72: ㎎/L | T72: 0.008 以下
... C85: ウラン | D85: ㎎/L | T85: 0.002 以下
C86: フェノール | D86: ㎎/L
C87: ホルムアルデヒド | D87: ㎎/L
B88: その他の項目 | C88: 塩素イオン | D88: ㎎/L | T88: ――
C89: アンモニア態窒素 | D89: ㎎/L | T89: ――
C90: 亜硝酸性窒素 | D90: ㎎/L | T90: ――
C91: 硝酸性窒素 | D91: ㎎/L | T91: ――
C92: 有機態窒素 | D92: ㎎/L | T92: ――
C93: 燐酸態燐 | D93: ㎎/L | T93: ――
C94: クロロフィルa | D94: ㎎/ｍ３ | T94: ――
C95: トリハロメタン生成能 | D95: ㎎/L | T95: ――
C96: クロロホルム生成能 | D96: ㎎/L | T96: ――
C97: ブロモジクロロメタン生成能 | D97: ㎎/L | T97: ――
C98: ジブロモクロロメタン生成能 | D98: ㎎/L | T98: ――
C99: ブロモホルム生成能 | D99: ㎎/L | T99: ――
C100: ふん便性大腸菌群数 | D100: 個/100mL | T100: ――
... C103: 電気伝導度 | D103: μS/㎝ | T103: ――
B104: 生活環境項目 | C104: 直鎖アルキルベンゼンスルホン酸及びその塩 | D104: ㎎/L | T104: ――
C105: 4-t-オクチルフェノール | D105: ㎎/L
C106: アニリン | D106: ㎎/L
C107: 2,4-ジクロロフェノール | D107: ㎎/L
C108: ビスフェノールＡ | D108: ㎎/L
B109: 特記事項

Sheet 備讃瀬戸13上層
E1: 2025年度 | G1: 公共用水水質結果一覧表（備讃瀬戸13上層）
B3: 測定地点番号 | E3: 13 | L3: 環境基準 または 指針値
B4: 水系 | E4: 備讃瀬戸
B5: 測定地点名 | E5: 備讃瀬戸13上層
B6: 環境基準類型 | E6: 海域AⅡ、生物特Ａ
B7: 採取年月日 | E7: 45761 | F7: 45847 | G7: 45938 | H7: 46041 | I7: 平均 | J7: 最大 | K7: 最小
B8: 気温 | D8: ℃ | E8: 12.5 | F8: 30.2 | G8: 26.8 | H8: 10.4
B9: 水温 | D9: ℃ | E9: 12.5 | F9: 27.9 | G9: 26.6 | H9: 13.2
B10: 透視度 | D10: ㎝ | E10: >30 | F10: >30 | G10: >30 | H10: >30
B11: 測定項目
B12: 生活環境項目 | C12: p H | E12: 8 | F12: 8.1 | G12: 8 | H12: 8.1 | I12: =AVERAGE(E12:H12) -> 8.05 | J12: =MAX(E12:H12) -> 8.1 | K12: =MIN(E12:H12) -> 8 | L12: 7.8～8.3
C13: D O | D13: ㎎/L | E13: 9.3 | F13: 8.1 | G13: 6.5 | H13: 8.9 | I13: =AVERAGE(E13:H13) -> 8.2 | J13: =MAX(E13:H13) -> 9.3 | K13: =MIN(E13:H13) -> 6.5 | L13: 7.5 以上
C14: B O D | D14: ㎎/L | L14: ――
C15: C O D | D15: ㎎/L | E15: 1.4 | F15: 1.7 | G15: 1 | H15: 1 | I15: =AVERAGE(E15:H15) -> 1.275 | J15: =MAX(E15:H15) -> 1.7 | K15: =MIN(E15:H15) -> 1 | L15: 2 以下
C16: S S | D16: ㎎/L | E16: 3 | F16: <1 | G16: 1 | H16: 3 | I16: 2 | J16: =MAX(E16:H16) -> 3 | K16: <1 | L16: ――
C17: 大腸菌数 | D17: CFU/100ｍL | E17: <1 | F17: <1 | G17: <1 | H17: <1 | I17: <1 | J17: <1 | K17: <1 | L17: 20 以下
C18: n-ヘキサン抽出物質 | D18: ㎎/L | E18: <0.5 | F18: <0.5 | G18: <0.5 | H18: <0.5 | I18: <0.5 | J18: <0.5 | K18: <0.5 | L18: 検出されないこと
C19: 全窒素 | D19: ㎎/L | E19: 0.12 | F19: 0.06 | G19: 0.07 | H19: 0.06 | I19: =AVERAGE(E19:H19) -> 0.0775 | J19: =MAX(E19:H19) -> 0.12 | K19: =MIN(E19:H19) -> 0.06 | L19: 0.3 以下
C20: 全燐 | D20: ㎎/L | E20: 0.015 | F20: 0.012 | G20: 0.025 | H20: 0.015 | I20: =AVERAGE(E20:H20) -> 0.01675 | J20: =MAX(E20:H20) -> 0.025 | K20: =MIN(E20:H20) -> 0.012 | L20: 0.03 以下
C21: 全亜鉛 | D21: ㎎/L | E21: 0.001 | F21: <0.001 | G21: <0.001 | H21: <0.001 | I21: 0.001 | J21: 0.001 | K21: <0.001 | L21: 0.01 以下
C22: ノニルフェノール | D22: ㎎/L | E22: <0.00006 | F22: <0.00006 | G22: <0.00006 | H22: <0.00006 | I22: <0.00006 | J22: <0.00006 | K22: <0.00006 | L22: 0.0007 以下
B23: 要測定指標 | C23: 底層溶存酸素量 | D23: ㎎/L | L23: 7.5 以上
C24: 透明度 | D24: m | E24: 5.5 | F24: 9 | G24: 8 | H24: 9 | I24: =AVERAGE(E24:H24) -> 7.875 | J24: =MAX(E24:H24) -> 9 | K24: =MIN(E24:H24) -> 5.5 | L24: ――
B26: 補足測定項目 | C26: T O C | D26: ㎎/L | E26: 1.5 | F26: 1.7 | G26: 1.3 | H26: 1.1 | I26: =AVERAGE(E26:H26) -> 1.4 | J26: =MAX(E26:H26) -> 1.7 | K26: =MIN(E26:H26) -> 1.1 | L26: ――
B27: 健康項目 | C27: カドミウム | D27: ㎎/L | L27: 0.003 以下
C28: 全シアン | D28: ㎎/L | L28: 検出されないこと
C29: 鉛 | D29: ㎎/L | L29: 0.01 以下
C30: 六価クロム | D30: ㎎/L | L30: 0.02 以下
C31: 砒素 | D31: ㎎/L | L31: 0.01 以下
C32: 総水銀 | D32: ㎎/L | L32: 0.0005 以下
C33: アルキル水銀 | D33: ㎎/L
C34: P C B | D34: ㎎/L | L34: 検出されないこと
C35: ジクロロメタン | D35: ㎎/L | L35: 0.02 以下
C36: 四塩化炭素 | D36: ㎎/L | L36: 0.002 以下
C37: 1,2-ジクロロエタン | D37: ㎎/L | L37: 0.004 以下
C38: 1,1-ジクロロエチレン | D38: ㎎/L | L38: 0.1 以下
C39: ｼｽ-1,2-ｼﾞｸﾛﾛｴﾁﾚﾝ | D39: ㎎/L | L39: 0.04 以下
C40: 1,1,1-ﾄﾘｸﾛﾛｴﾀﾝ | D40: ㎎/L | L40: 1 以下
C41: 1,1,2-ﾄﾘｸﾛﾛｴﾀﾝ | D41: ㎎/L | L41: 0.006 以下
C42: トリクロロエチレン | D42: ㎎/L | L42: 0.01 以下
C43: テトラクロロエチレン | D43: ㎎/L | L43: 0.01 以下
C44: 1,3-ジクロロプロペン | D44: ㎎/L | L44: 0.002 以下
C45: チウラム | D45: ㎎/L | L45: 0.006 以下
... C53: 1,4-ジオキサン | D53: ㎎/L | L53: 0.05 以下
C54: フェノール類 | D54: ㎎/L
B55: 特殊項目 | C55: 銅 | D55: ㎎/L | L55: ――
C56: 亜鉛 | D56: ㎎/L | L56: ――
C57: 鉄_溶解性 | D57: ㎎/L | L57: ――
C58: マンガン_溶解性 | D58: ㎎/L | L58: ――
C59: クロム | D59: ㎎/L | L59: ――
B60: 要監視項目 | C60: クロロホルム | D60: ㎎/L | F60: <0.001 | I60: <0.001 | J60: <0.001 | K60: <0.001 | L60: 0.06 以下
C61: トランス-1,2-ジクロロエチレン | D61: ㎎/L | L61: 0.04 以下
C62: 1,2-ジクロロプロパン | D62: ㎎/L | L62: 0.06 以下
C63: p-ジクロロベンゼン | D63: ㎎/L | L63: 0.2 以下
C64: イソキサチオン | D64: ㎎/L | L64: 0.008 以下
C65: ダイアジノン | D65: ㎎/L | L65: 0.005 以下
C66: フェニトロチオン | D66: ㎎/L | L66: 0.003 以下
C67: イソプロチオラン | D67: ㎎/L | L67: 0.04 以下
C68: オキシン銅 | D68: ㎎/L | L68: 0.04 以下
C69: クロロタロニル | D69: ㎎/L | L69: 0.05 以下
C70: プロピザミド | D70: ㎎/L | L70: 0.008 以下
C71: EPN | D71: ㎎/L | L71: 0.006 以下
C72: ジクロルボス | D72: ㎎/L | L72: 0.008 以下
... C85: ウラン | D85: ㎎/L | L85: 0.002 以下
C86: フェノール | D86: ㎎/L | F86: <0.001 | I86: <0.001 | J86: <0.001 | K86: <0.001 | L86: 0.2 以下
C87: ホルムアルデヒド | D87: ㎎/L | F87: <0.003 | I87: <0.003 | J87: <0.003 | K87: <0.003 | L87: 0.03 以下
B88: その他の項目 | C88: 塩素イオン | D88: ㎎/L | E88: 17500 | F88: 17400 | G88: 16900 | H88: 18900 | I88: 17600 | J88: =MAX(E88:H88) -> 18900 | K88: =MIN(E88:H88) -> 16900 | L88: ――
C89: アンモニア態窒素 | D89: ㎎/L | I89: =AVERAGE(E89:H89) -> #DIV/0! | J89: =MAX(E89:H89) -> 0 | K89: =MIN(E89:H89) -> 0 | L89: ――
C90: 亜硝酸性窒素 | D90: ㎎/L | I90: =AVERAGE(E90:H90) -> #DIV/0! | J90: =MAX(E90:H90) -> 0 | K90: =MIN(E90:H90) -> 0 | L90: ――
C91: 硝酸性窒素 | D91: ㎎/L | I91: =AVERAGE(E91:H91) -> #DIV/0! | J91: =MAX(E91:H91) -> 0 | K91: =MIN(E91:H91) -> 0 | L91: ――
C92: 有機態窒素 | D92: ㎎/L | I92: =AVERAGE(E92:H92) -> #DIV/0! | J92: =MAX(E92:H92) -> 0 | K92: =MIN(E92:H92) -> 0 | L92: ――
C93: 燐酸態燐 | D93: ㎎/L | I93: =AVERAGE(E93:H93) -> #DIV/0! | J93: =MAX(E93:H93) -> 0 | K93: =MIN(E93:H93) -> 0 | L93: ――
C94: クロロフィルa | D94: ㎎/ｍ３ | E94: <0.5 | F94: 1.6 | G94: 1.3 | H94: 0.7 | I94: 1 | J94: =MAX(E94:H103) -> 1.6 | K94: <0.5 | L94: ――
C95: トリハロメタン生成能 | D95: ㎎/L | L95: ――
C96: クロロホルム生成能 | D96: ㎎/L | L96: ――
C97: ブロモジクロロメタン生成能 | D97: ㎎/L | L97: ――
C98: ジブロモクロロメタン生成能 | D98: ㎎/L | L98: ――
C99: ブロモホルム生成能 | D99: ㎎/L | L99: ――
C100: ふん便性大腸菌群数 | D100: 個/100mL | L100: ――
C101: 濁度 | D101: 度 | L101: ――
C102: メチレンブルー活性物質 | D102: ㎎/ｌ | L102: ――
C103: 電気伝導度 | D103: μS/㎝ | L103: ――
B104: 生活環境項目 | C104: 直鎖アルキルベンゼンスルホン酸及びその塩 | D104: ㎎/L | E104: <0.0006 | F104: <0.0006 | G104: <0.0006 | H104: <0.0006 | I104: <0.0006 | J104: <0.0006 | K104: <0.0006 | L104: 0.006 以下
B105: 要監視項目 | C105: 4-t-オクチルフェノール | D105: ㎎/L | F105: <0.00003 | I105: <0.00003 | J105: <0.00003 | K105: <0.00003 | L105: 0.0004 以下
C106: アニリン | D106: ㎎/L | F106: <0.002 | I106: <0.002 | J106: <0.002 | K106: <0.002 | L106: 0.1 以下
C107: 2,4-ジクロロフェノール | D107: ㎎/L | F107: <0.0003 | I107: <0.0003 | J107: <0.0003 | K107: <0.0003 | L107: 0.01 以下
C108: ビスフェノールＡ | D108: ㎎/L | L108: ――
B109: 特記事項

Sheet 備讃瀬戸13底層
E1: 2025年度 | G1: 公共用水水質結果一覧表（備讃瀬戸13底層）
B3: 測定地点番号 | E3: 1 | L3: 環境基準 または 指針値
B4: 水系 | E4: 備讃瀬戸
B5: 測定地点名 | E5: 備讃瀬戸13底層
B6: 環境基準類型 | E6: 海域BⅣ、生物Ａ
B7: 採取年月日 | E7: 45761 | F7: 45847 | G7: 45938 | H7: 46041 | I7: 平均 | J7: 最大 | K7: 最小
B8: 気温 | D8: ℃ | E8: 12.5 | F8: 30.2 | G8: 26.8 | H8: 10.4
B9: 水温 | D9: ℃ | E9: 12.2 | F9: 21.4 | G9: 26.7 | H9: 12.6
B10: 透視度 | D10: ㎝
B11: 測定項目
B12: 生活環境項目 | C12: p H | L12: 7.8～8.3
C13: D O | D13: ㎎/L | L13: 7.5 以上
C14: B O D | D14: ㎎/L | L14: ――
C15: C O D | D15: ㎎/L | L15: 2 以下
C16: S S | D16: ㎎/L | L16: ――
C17: 大腸菌数 | D17: CFU/100ｍL | L17: 20 以下
C18: n-ヘキサン抽出物質 | D18: ㎎/L | L18: 検出されないこと
C19: 全窒素 | D19: ㎎/L | L19: 0.3 以下
C20: 全燐 | D20: ㎎/L | L20: 0.03 以下
C21: 全亜鉛 | D21: ㎎/L | L21: 0.001 以下
C22: ノニルフェノール | D22: ㎎/L | L22: 0.0007 以下
B23: 要測定指標 | C23: 底層溶存酸素量 | D23: ㎎/L | E23: 8.5 | F23: 5.5 | G23: 7 | H23: 8.1 | I23: =AVERAGE(E23:H23) -> 7.275 | J23: =MAX(E23:H23) -> 8.5 | K23: =MIN(E23:H23) -> 5.5 | L23: ――
C24: 透明度 | D24: m | E24: 5.5 | F24: 9 | G24: 8 | H24: 9 | I24: =AVERAGE(E24:H24) -> 7.875 | J24: =MAX(E24:H24) -> 9 | K24: =MIN(E24:H24) -> 5.5 | L24: ――
B26: 補足測定項目 | C26: T O C | D26: ㎎/L | L26: ――
B27: 健康項目 | C27: カドミウム | D27: ㎎/L | L27: 0.003 以下
C28: 全シアン | D28: ㎎/L | L28: 検出されないこと
C29: 鉛 | D29: ㎎/L | L29: 0.01 以下
C30: 六価クロム | D30: ㎎/L | L30: 0.02 以下
C31: 砒素 | D31: ㎎/L | L31: 0.01 以下
C32: 総水銀 | D32: ㎎/L | L32: 0.0005 以下
C33: アルキル水銀 | D33: ㎎/L
C34: P C B | D34: ㎎/L | L34: 検出されないこと
C35: ジクロロメタン | D35: ㎎/L | L35: 0.02 以下
C36: 四塩化炭素 | D36: ㎎/L | L36: 0.002 以下
C37: 1,2-ジクロロエタン | D37: ㎎/L | L37: 0.004 以下
C38: 1,1-ジクロロエチレン | D38: ㎎/L | L38: 0.1 以下
C39: ｼｽ-1,2-ｼﾞｸﾛﾛｴﾁﾚﾝ | D39: ㎎/L | L39: 0.04 以下
C40: 1,1,1-ﾄﾘｸﾛﾛｴﾀﾝ | D40: ㎎/L | L40: 1 以下
C41: 1,1,2-ﾄﾘｸﾛﾛｴﾀﾝ | D41: ㎎/L | L41: 0.006 以下
C42: トリクロロエチレン | D42: ㎎/L | L42: 0.01 以下
C43: テトラクロロエチレン | D43: ㎎/L | L43: 0.01 以下
C44: 1,3-ジクロロプロペン | D44: ㎎/L | L44: 0.002 以下
C45: チウラム | D45: ㎎/L | L45: 0.006 以下
... C53: 1,4-ジオキサン | D53: ㎎/L | L53: 0.05 以下
C54: フェノール類 | D54: ㎎/L
B55: 特殊項目 | C55: 銅 | D55: ㎎/L | L55: ――
C56: 亜鉛 | D56: ㎎/L | L56: ――
C57: 鉄_溶解性 | D57: ㎎/L | L57: ――
C58: マンガン_溶解性 | D58: ㎎/L | L58: ――
C59: クロム | D59: ㎎/L | L59: ――
B60: 要監視項目 | C60: クロロホルム | D60: ㎎/L | L60: 0.06 以下
C61: トランス-1,2-ジクロロエチレン | D61: ㎎/L | L61: 0.04 以下
C62: 1,2-ジクロロプロパン | D62: ㎎/L | L62: 0.06 以下
C63: p-ジクロロベンゼン | D63: ㎎/L | L63: 0.2 以下
C64: イソキサチオン | D64: ㎎/L | L64: 0.008 以下
C65: ダイアジノン | D65: ㎎/L | L65: 0.005 以下
C66: フェニトロチオン | D66: ㎎/L | L66: 0.003 以下
C67: イソプロチオラン | D67: ㎎/L | L67: 0.04 以下
C68: オキシン銅 | D68: ㎎/L | L68: 0.04 以下
C69: クロロタロニル | D69: ㎎/L | L69: 0.05 以下
C70: プロピザミド | D70: ㎎/L | L70: 0.008 以下
C71: EPN | D71: ㎎/L | L71: 0.006 以下
C72: ジクロルボス | D72: ㎎/L | L72: 0.008 以下
... C87: ホルムアルデヒド | D87: ㎎/L | L87: 0.03 以下
B88: その他の項目 | C88: 塩素イオン | D88: ㎎/L | L88: ――
C89: アンモニア態窒素 | D89: ㎎/L | L89: ――
C90: 亜硝酸性窒素 | D90: ㎎/L | L90: ――
C91: 硝酸性窒素 | D91: ㎎/L | L91: ――
C92: 有機態窒素 | D92: ㎎/L | L92: ――
C93: 燐酸態燐 | D93: ㎎/L | L93: ――
C94: クロロフィルa | D94: ㎎/ｍ３ | L94: ――
C95: トリハロメタン生成能 | D95: ㎎/L | L95: ――
C96: クロロホルム生成能 | D96: ㎎/L | L96: ――
C97: ブロモジクロロメタン生成能 | D97: ㎎/L | L97: ――
C98: ジブロモクロロメタン生成能 | D98: ㎎/L | L98: ――
C99: ブロモホルム生成能 | D99: ㎎/L | L99: ――
C100: ふん便性大腸菌群数 | D100: 個/100mL | L100: ――
... C103: 電気伝導度 | D103: μS/㎝ | L103: ――
B104: 生活環境項目 | C104: 直鎖アルキルベンゼンスルホン酸及びその塩 | D104: ㎎/L | L104: 0.006 以下
B105: 要監視項目 | C105: 4-t-オクチルフェノール | D105: ㎎/L | L105: 0.0004 以下
C106: アニリン | D106: ㎎/L | L106: 0.1 以下
C107: 2,4-ジクロロフェノール | D107: ㎎/L | L107: 0.01 以下
C108: ビスフェノールＡ | D108: ㎎/L | L108: ――
B109: 特記事項
